Workbook

Sheet 1.melléklÖnkormányzati összesen
A1: 1. melléklet az 1/2021. (III.08.) önkormányzati rendelethez
A3: Dánszentmiklós Község Önkormányzatának 2021. évi összesített intézményi szintű mérlege
O5: adatok Ft-ban
A6: Költségvetési bevételek | I6: Költségvetési kiadások
A7: Rovat megnevezése | B7: Rovat száma | C7: Önkormányzat | E7: Intézményei | G7: Mindösszesen | I7: Rovat megnevezése | J7: Rovat száma | K7: Önkormányzat | M7: Intézményei | O7: Mindösszesen
C8: 2020. évi teljesítés | D8: 2021. évi eredeti | E8: 2020. évi teljesítés | F8: 2021. évi eredeti | G8: 2020. évi teljesítés | H8: 2021. évi eredeti | K8: 2020. évi teljesítés | L8: 2021. évi eredeti | M8: 2020. évi teljesítés | N8: 2021. évi eredeti | O8: 2020. évi teljesítés | P8: 2021. évi eredeti
A9: Önkormányzatok működési támogatásai | B9: B11 | C9: ='2.melléklet Önkormányzat mérleg'!C8 -> 196840488 | D9: ='2.melléklet Önkormányzat mérleg'!D8 -> 207024334 | E9: 0 | G9: =SUM(C9,E9) -> 196840488 | H9: =SUM(D9,F9) -> 207024334 | I9: Foglalkoztatottak személyi juttatásai | J9: K1 | K9: ='2.melléklet Önkormányzat mérleg'!G8 -> 33083652 | L9: ='2.melléklet Önkormányzat mérleg'!H8 -> 35628952 | M9: 106826895 | N9: ='16mellIntézményi összesített'!J8 -> 114111672 | O9: =SUM(K9,M9) -> 139910547 | P9: =SUM(L9,N9) -> 149740624
A10: Egyéb működési célú támogatások bevételei államháztartáson belülről | B10: B16 | C10: ='2.melléklet Önkormányzat mérleg'!C9 -> 10766200 | D10: ='2.melléklet Önkormányzat mérleg'!D9 -> 11317200 | E10: 0 | G10: =SUM(C10,E10) -> 10766200 | H10: =SUM(D10,F10) -> 11317200 | I10: Munkadókat terhelő járulékok, szoch. adó | J10: K2 | K10: ='2.melléklet Önkormányzat mérleg'!G9 -> 5789639 | L10: ='2.melléklet Önkormányzat mérleg'!H9 -> 5456110 | M10: 18610707 | N10: ='16mellIntézményi összesített'!J9 -> 17355785 | O10: =SUM(K10,M10) -> 24400346 | P10: =SUM(L10,N10) -> 22811895
A11: Működési célú támogatások államháztartáson belülről mindösszesen | B11: B1 | C11: ='2.melléklet Önkormányzat mérleg'!C10 -> 207606688 | D11: ='2.melléklet Önkormányzat mérleg'!D10 -> 218341534 | E11: =SUM(E9:E10) -> 0 | G11: =SUM(C11,E11) -> 207606688 | H11: =SUM(D11,F11) -> 218341534 | I11: Dologi kiadások | J11: K3 | K11: ='2.melléklet Önkormányzat mérleg'!G10 -> 45754611 | L11: ='2.melléklet Önkormányzat mérleg'!H10 -> 59742812 | M11: 25984069 | N11: ='16mellIntézményi összesített'!J10 -> 24379627 | O11: =SUM(K11,M11) -> 71738680 | P11: =SUM(L11,N11) -> 84122439
A12: Felhalmozási célú támogatások államháztartáson belülről | B12: B2 | C12: ='2.melléklet Önkormányzat mérleg'!C11 -> 0 | D12: ='2.melléklet Önkormányzat mérleg'!D11 -> 0 | E12: 0 | G12: =SUM(C12,E12) -> 0 | H12: =SUM(D12,F12) -> 0 | I12: Ellátottak pénzbeli juttatásai | J12: K4 | K12: ='2.melléklet Önkormányzat mérleg'!G11 -> 9100000 | L12: ='2.melléklet Önkormányzat mérleg'!H11 -> 14900000 | M12: 0 | N12: 0 | O12: =SUM(K12,M12) -> 9100000 | P12: =SUM(L12,N12) -> 14900000
A13: Közhatalmi bevételek mindösszesen: | B13: B3 | C13: ='2.melléklet Önkormányzat mérleg'!C12 -> 65000000 | D13: ='2.melléklet Önkormányzat mérleg'!D12 -> 40400000 | E13: 0 | G13: =SUM(C13,E13) -> 65000000 | H13: =SUM(D13,F13) -> 40400000 | I13: Egyéb működési célú kiadások | J13: K5 | K13: 14497428 | L13: ='2.melléklet Önkormányzat mérleg'!H12+'2.melléklet Önkormányzat mérleg'!H13 -> 18883898 | M13: 0 | N13: 0 | O13: =SUM(K13,M13) -> 14497428 | P13: =SUM(L13,N13) -> 18883898
A14: Működési bevételek mindösszesen | B14: B4 | C14: ='2.melléklet Önkormányzat mérleg'!C13 -> 0 | D14: ='2.melléklet Önkormányzat mérleg'!D13 -> 0 | E14: 7300000 | F14: ='16mellIntézményi összesített'!J15 -> 7300000 | G14: =SUM(C14,E14) -> 7300000 | H14: =SUM(D14,F14) -> 7300000 | I14: Beruházások | J14: K6 | K14: 3641684 | L14: ='2.melléklet Önkormányzat mérleg'!H14 -> 92718232 | M14: 2071205 | N14: ='16mellIntézményi összesített'!J11 -> 3421870 | O14: =SUM(K14,M14) -> 5712889 | P14: =SUM(L14,N14) -> 96140102
A15: Működési célú átvett pénzeszközök | B15: B6 | C15: ='2.melléklet Önkormányzat mérleg'!C14 -> 12141250 | D15: ='2.melléklet Önkormányzat mérleg'!D14 -> 10671965 | E15: ='16mellIntézményi összesített'!I16 -> 0 | G15: =SUM(C15,E15) -> 12141250 | H15: =SUM(D15,F15) -> 10671965 | I15: Felújítások | J15: K7 | K15: ='2.melléklet Önkormányzat mérleg'!G15 -> 21139150 | L15: ='2.melléklet Önkormányzat mérleg'!H15 -> 73000000 | M15: 0 | N15: ='16mellIntézményi összesített'!J12 -> 0 | O15: =SUM(K15,M15) -> 21139150 | P15: =SUM(L15,N15) -> 73000000
A16: Felhalmozási célú átvett pénzeszközök | B16: B7 | C16: ='2.melléklet Önkormányzat mérleg'!C16 -> 2000000 | D16: ='2.melléklet Önkormányzat mérleg'!D16 -> 0 | E16: 0 | G16: =SUM(C16,E16) -> 2000000 | H16: =SUM(D16,F16) -> 0 | O16: =SUM(K16,M16) -> 0 | P16: =SUM(L16,N16) -> 0
A17: Költségvetési bevételek | B17: (B1-B7) | C17: =SUM(C11:C16) -> 286747938 | D17: =SUM(D11:D16) -> 269413499 | E17: =SUM(E11:E16) -> 7300000 | F17: =SUM(F11:F16) -> 7300000 | G17: =SUM(G11:G16) -> 294047938 | H17: =SUM(H11:H16) -> 276713499 | I17: Költségvetési kiadások | K17: =SUM(K9:K15) -> 133006164 | L17: =SUM(L9:L15) -> 3.0033e+08 | M17: =SUM(M9:M15) -> 153492876 | N17: =SUM(N9:N15) -> 1.5926895e+08 | O17: =M17+K17 -> 286499040 | P17: =N17+L17 -> 4.5959896e+08
A18: Előző év költségvetési maradványának igénybevétele | B18: (B8131) | C18: ='2.melléklet Önkormányzat mérleg'!C18 -> 0 | D18: ='2.melléklet Önkormányzat mérleg'!D18 -> 186769314 | G18: =SUM(C18,E18) -> 0 | H18: =SUM(D18,F18) -> 186769314 | O18: =SUM(K18,M18) -> 0 | P18: =SUM(L18,N18) -> 0
A19: Maradvány igénybevétele | B19: (B813) | C19: ='2.melléklet Önkormányzat mérleg'!C19 -> 0 | D19: ='2.melléklet Önkormányzat mérleg'!D19 -> 186769314 | E19: =SUM(E18) -> 0 | F19: ='16mellIntézményi összesített'!J17 -> 4397120 | G19: =SUM(C19,E19) -> 0 | H19: =SUM(D19,F19) -> 191166434 | I19: Államháztartáson belüli megelőlegezések visszafizetése | J19: K914 | K19: ='2.melléklet Önkormányzat mérleg'!G19 -> 7548899 | L19: ='2.melléklet Önkormányzat mérleg'!H19 -> 8280974 | M19: 0 | O19: =SUM(K19,M19) -> 7548899 | P19: =SUM(L19,N19) -> 8280974
A20: Központi, irányítószervi támogatás B816 | B20: B816 | C20: ='2.melléklet Önkormányzat mérleg'!C20 -> 0 | D20: ='2.melléklet Önkormányzat mérleg'!D20 -> 0 | E20: 146192876 | F20: ='16mellIntézményi összesített'!J18 -> 1.4757183e+08 | G20: =SUM(C20,E20) -> 146192876 | H20: =SUM(D20,F20) -> 1.4757183e+08 | I20: Központi, irányító szervi támogatások folyósítása | J20: K915 | K20: ='2.melléklet Önkormányzat mérleg'!G20 -> 146192875 | L20: ='2.melléklet Önkormányzat mérleg'!H20 -> 1.4757183e+08 | M20: 0 | O20: =SUM(K20,M20) -> 146192875 | P20: =SUM(L20,N20) -> 1.4757183e+08
A21: Belföldi finanszírozás bevételei | B21: (B81) | C21: ='2.melléklet Önkormányzat mérleg'!C21 -> 0 | D21: ='2.melléklet Önkormányzat mérleg'!D21 -> 186769314 | E21: =SUM(E19:E20) -> 146192876 | F21: =SUM(F19:F20) -> 1.5196895e+08 | G21: =SUM(C21,E21) -> 146192876 | H21: =SUM(D21,F21) -> 3.3873827e+08 | I21: Belföldi finanszírozás kiadásai | J21: K91 | K21: =SUM(K19:K20) -> 153741774 | L21: =SUM(L19:L20) -> 1.5585281e+08 | M21: =SUM(M19:M20) -> 0 | O21: =SUM(K21,M21) -> 153741774 | P21: =SUM(L21,N21) -> 1.5585281e+08
A22: Finanszírozási bevételek | B22: (B8) | C22: =SUM(C21) -> 0 | D22: =SUM(D21) -> 186769314 | E22: =SUM(E21) -> 146192876 | F22: =SUM(F21) -> 1.5196895e+08 | G22: =SUM(G21) -> 146192876 | H22: =SUM(H21) -> 3.3873827e+08 | I22: Finanszírozási kiadások | J22: K9 | K22: =SUM(K21) -> 153741774 | L22: =SUM(L21) -> 1.5585281e+08 | M22: =SUM(M21) -> 0 | N22: =SUM(N21) -> 0 | O22: =SUM(O21) -> 153741774 | P22: =SUM(P21) -> 1.5585281e+08
A23: Mindösszesen bevétel: | C23: =SUM(C22,C17) -> 286747938 | D23: =SUM(D22,D17) -> 456182813 | E23: =SUM(E22,E17) -> 153492876 | F23: =SUM(F22,F17) -> 1.5926895e+08 | G23: =SUM(G22,G17) -> 440240814 | H23: =SUM(H22,H17) -> 6.1545177e+08 | I23: Mindösszesen kiadás: | K23: =K17+K22 -> 286747938 | L23: =L17+L22 -> 4.5618281e+08 | M23: =M17+M22 -> 153492876 | N23: =N17+N22 -> 1.5926895e+08 | O23: =O17+O22 -> 440240814 | P23: =P17+P22 -> 6.1545177e+08
A24: ellenőrző sor: | C24: =C23-K23 -> 0 | D24: =D23-L23 -> 0.36000001 | E24: =E23-M23 -> 0 | F24: =F23-N23 -> 0 | G24: =G23-O23 -> 0 | H24: =H23-P23 -> 0.36000001 | K24: =K23-C23 -> 0 | M24: =M23-E23 -> 0 | O24: =O23-G23 -> 0

Sheet 2.melléklet Önkormányzat mérleg
A1: 2. melléklet az 1/2021. (III.08.) önkormányzati rendelethez
A3: Dánszentmiklós Község Önkormányzatának 2021. évi összesített intézményi szintű mérlege
A6: Költségvetési bevételek | E6: Költségvetési kiadások
A7: Rovat megnevezése | B7: Rovat száma | C7: 2020. évi előirányzat | D7: 2021. évi eredeti előirányzat | E7: Rovat megnevezése | F7: Rovat száma | G7: 2020. évi előirányzat | H7: 2021. évi eredeti előirányzat
A8: Önkormányzatok működési támogatásai | B8: B11 | C8: 196840488 | D8: ='3mell-Normatíva'!G49 -> 207024334 | E8: Foglalkoztatottak személyi juttatásai | F8: K1 | G8: 33083652 | H8: ='6 melléklet kiadás'!C17 -> 35628952
A9: Egyéb működési célú támogatások bevételei államháztartáson belülről | B9: B16 | C9: 10766200 | D9: ='3mell-Normatíva'!G50+'3mell-Normatíva'!G54 -> 11317200 | E9: Munkadókat terhelő járulékok és szociális hozzájárulási adó | F9: K2 | G9: 5789639 | H9: ='6 melléklet kiadás'!D17 -> 5456110
A10: Működési célú támogatások államháztartáson belülről mindösszesen | B10: B1 | C10: =SUM(C8:C9) -> 207606688 | D10: =SUM(D8:D9) -> 218341534 | E10: Dologi kiadások | F10: K3 | G10: 45754611 | H10: ='6 melléklet kiadás'!E17 -> 59742812
A11: Felhalm. célú támogatások államháztartáson belülről | B11: B2 | D11: ='[1]Normatíva 2018'!G66 -> 0 | E11: Ellátottak pénzbeli juttatásai (K4) | F11: K4 | G11: 9100000 | H11: ='6 melléklet kiadás'!F17 -> 14900000
A12: Közhatalmi bevételek mindösszesen: | B12: B3 | C12: 65000000 | D12: ='4mellékletKözhatalmi bevételek'!D19 -> 40400000 | E12: Egyéb működési célú kiadások | F12: K5 | G12: 4689000 | H12: ='6 melléklet kiadás'!G17 -> 3704811
E13: Általános tartalék | F13: K513 | G13: 9808428 | H13: ='6 melléklet kiadás'!J16 -> 15179087
A14: Működési bevételek mindösszesen | B14: B4 - B5 | C14: 12141250 | D14: ='5melléklet Működési bevétel'!D31 -> 10671965 | E14: Beruházások | F14: K6 | G14: 3641684 | H14: ='6 melléklet kiadás'!H17 -> 92718232
A15: Működési célú átvett pénzeszközök | B15: B6 | E15: Felújítások | F15: K7 | G15: 21139150 | H15: ='6 melléklet kiadás'!I17 -> 73000000
A16: Felhalmozási célú átvett pénzeszközök | B16: B7 | C16: 2000000 | D16: 0 | E16: Felhalmozási célú nyújott kölcsönök | H16: 0
A17: Költségvetési bevételek | B17: (B1-B7) | C17: =SUM(C10:C16) -> 286747938 | D17: =SUM(D10:D16) -> 269413499 | E17: Költségvetési kiadások | G17: =SUM(G8:G16) -> 133006164 | H17: =SUM(H8:H16) -> 3.0033e+08
A18: Előző év költségvetési maradványának igénybevétele | B18: (B8131) | D18: 186769314
A19: Maradvány igénybevétele | B19: (B813) | C19: =SUM(C18) -> 0 | D19: =SUM(D18) -> 186769314 | E19: Államháztartáson belüli megelőlegezések visszafizetése | F19: K914 | G19: 7548899 | H19: ='6 melléklet kiadás'!K17 -> 8280974
A20: Központi, irányítószervi támogatás B816 | B20: B816 | E20: Központi, irányító szervi támogatások folyósítása | F20: K915 | G20: 146192875 | H20: ='6 melléklet kiadás'!L16 -> 1.4757183e+08
A21: Belföldi finanszírozás bevételei | B21: (B81) | C21: =C19+C20 -> 0 | D21: =D19+D20 -> 186769314 | E21: Belföldi finanszírozás kiadásai | F21: K91 | G21: =SUM(G19:G20) -> 153741774 | H21: =SUM(H19:H20) -> 1.5585281e+08
A22: Hitel felvétele beruházáshoz
A23: Finanszírozási bevételek | B23: (B8) | C23: =C21 -> 0 | D23: =D21 -> 186769314 | E23: Finanszírozási kiadások | F23: K9 | G23: =SUM(G21) -> 153741774 | H23: =SUM(H21) -> 1.5585281e+08
A24: Mindösszesen bevétel: | C24: =SUM(C23,C17) -> 286747938 | D24: =SUM(D23,D17) -> 456182813 | E24: Mindösszesen kiadás: | G24: =G17+G23 -> 286747938 | H24: =H17+H23 -> 4.5618281e+08
A25: ellenőrző sor: | C25: 0 | D25: =D24-H24 -> 0.36000001 | G25: =G24-C24 -> 0

Sheet 3mell-Normatíva
A1: 3. melléklet az 1/2021. (III.08.) önkormányzati rendelethez
A4: Dánszentmiklós Község Önkormányzatát megillető 2021. évi normatíva és államháztartáson belüli átvett pénzeszközök
A7: Támogatási forma | B7: Támogatás megnevezése | C7: Támogatás | F7: 2020. évi teljesítés | G7: 2021. évi eredeti előirányzat
C8: Mutató | D8: Ft/mutató | E8: Ft-ban
C9: Eredeti előirányzat
C10: 2020
A12: I.1.a) | B12: Önkormányzati hivatal működésének támogatása (beszámítás után) | C12: 7.79 | D12: 5450000 | E12: 42455500 | F12: 42455500 | G12: 42595500
A13: I.1.b) | B13: Település-üzemeltetéshez kapcsolódó feladatellátás támogatása (beszámítás után) | E13: =SUM(E14:E17) -> 24760069 | F13: =SUM(F14:F17) -> 24760069 | G13: =SUM(G14:G17) -> 30606343
A14: I.1. b) ba) | B14: A zöldterület-gazdálkodással kapcsolatos feladatok ellátásának támogatása | E14: 9092160 | F14: 9092160 | G14: 11195566
A15: I.1. b) bb) | B15: Közvilágítás fenntartásának támogatása | E15: 9152000 | F15: 9152000 | G15: 11387459
A16: I.1. b) bc) | B16: Köztemető fenntartással kapcsolatos feladatok támogatása | E16: 977109 | F16: 977109 | G16: 1203156
A17: I.1. b) bd) | B17: Közutak fenntartásának támogatása | E17: 5538800 | F17: 5538800 | G17: 6820162
A18: I.1.c) | B18: Egyéb kötelező önkormányzati feladatok támogatása (beszámítás után) | E18: 7811100 | F18: 7811100 | G18: 9850743
A19: I.1.d) | B19: Lakott külterülettel kapcsolatos feladatok támogatása (beszámítás után)* | E19: 147900 | F19: 147900 | G19: 163276
A20: I.1.e) | B20: Üdülőhelyi feladatok támogatása** | E20: 0 | F20: 0
B21: I.1. jogcímekhez kapcsolódó kiegészítés | E21: 16105256 | F21: 16511178 | G21: 9854164
B22: Polgármesteri illetmény támogatása | E22: 840800 | F22: 840800
A23: I. | B23: Települési önkormányzatok általános működésének támogatása (B111) | E23: =SUM(E12,E13,E18,E19,E20,E21,E22) -> 92120625 | F23: =SUM(F12,F13,F18,F19,F20,F21,F22) -> 92526547 | G23: =SUM(G12,G13,G18,G19,G20,G21,G22) -> 93070026
A24: II.1. | B24: Óvodapedagógusok 8 havi támogatása | C24: 8.1 | D24: 4371500 | E24: 23606100 | F24: 23606100 | G24: 24955700
B25: Óvodapedagógusok 4 havi támogatása | C25: 8.1 | D25: 4371500 | E25: 11803050 | F25: 11803050 | G25: 12477850
B26: Óvodapedagógusuk 4 havi pótlólagos támogatása | F26: 3322883
B27: segítők 8 havi támogatása | C27: 5 | D27: 2400000 | E27: 8000000 | F27: 8000000 | G27: 9730000
B28: segítők 4 havi támogatása | C28: 5 | D28: 2400000 | E28: 4000000 | F28: 5500000 | G28: 4865000
B29: Óvodapedagógusok, és az óvodapedagógusok nevelőmunkáját közvetlenül segítők bértámogatása összesen (B112): | E29: =SUM(E24:E28) -> 47409150 | F29: =SUM(F24:F28) -> 52232033 | G29: =SUM(G24:G28) -> 52028550
A30: II.2. | B30: óvodaműködtetési támogatás 8 havi támogatása | C30: 78 | D30: 97400 | E30: 8084200 | F30: 5064800 | G30: 7694600
B31: óvodaműködtetési támogatás 4 havi támogatása | C31: 77 | D31: 97400 | E31: 0 | F31: 2532400
B32: Óvodaműködtetési támogatás összesen (B112): | E32: =SUM(E30:E31) -> 8084200 | F32: =SUM(F30:F31) -> 7597200 | G32: =SUM(G30:G31) -> 7694600
A33: II.4. | B33: Kiegészítő támogatás az óvodapedagógusok minősítéséből adódó többlet kiadásokhoz | E33: =SUM(E34:E36) -> 4448342 | F33: =SUM(F34:F36) -> 4448342 | G33: =SUM(G34:G36) -> 4950000
A34: II.4.a.(1) | B34: Alapfokozatú végzettségű PED II. besorolás kiegészítése | C34: 3 fő | D34: 396700 | E34: 1190100 | F34: 1190100 | G34: 1728000
A35: II.4.b.(1) | B35: Alapfokozatú végzettségű PED II. besorolás kiegészítése | C35: 1 fő | D35: 363642 | E35: 363642 | F35: 363642
A36: II.4.a.(2) | B36: Alapfokozatú végzettségű mester ped. kieg támogatása | C36: 2 fő | D36: 1447300 | E36: 2894600 | F36: 2894600 | G36: 3222000
A37: II. | B37: Települési önkormányzatok egyes köznevelési feladatainak támogatása összesen (B112): | E37: =SUM(E29,E32,E33) -> 59941692 | F37: =SUM(F29,F32,F33) -> 64277575 | G37: =SUM(G29,G32,G33) -> 64673150
A38: III.2. | B38: A települési önkormányzatok szociális feladatainak egyéb támogatása | E38: 18044000 | F38: 18044000 | G38: 18640000
A39: III.3. | B39: Gyermekek napközbeni ellátása | E39: =SUM(E40:E41) -> 10752000 | F39: =SUM(F40:F41) -> 11625500 | G39: =SUM(G40:G41) -> 11213000
B40: Bölcsődei ellátás | C40: 1.5 | D40: 2993000 | E40: 7412000 | F40: 8285500 | G40: 9360000
B41: Bölcsődei üzemeltetési ellátás | E41: 3340000 | F41: 3340000 | G41: 1853000
A42: III.5. | B42: Gyermekétkeztetés támogatása | E42: =SUM(E43:E44) -> 12076097 | F42: =SUM(F43:F44) -> 13651697 | G42: =SUM(G43:G44) -> 12515148
A43: III.5.a) | B43: Gyermekétkeztetés szempontjából elismert dolgozók bértámogatása | C43: 4.75 | D43: 2200000 | E43: 10450000 | F43: 12025600 | G43: 11666160
A44: III.5.b) | B44: Gyermekétkezetés üzemeltetési támogatása | E44: 1626097 | F44: 1626097 | G44: 848988
A45: III.6. | B45: Rászoruló gyermekek szünidei étkeztetési támogatása | E45: 707940 | F45: 601920 | G45: 639540
A46: III. | B46: Települési önormányzatok szociális , gyermekjóléti és gyermekétkeztetési feladatainak támogatása összesen (B113) | E46: =SUM(E38,E39,E42,E45) -> 41580037 | F46: =SUM(F38,F39,F42,F45) -> 43923117 | G46: =SUM(G38,G39,G42,G45) -> 43007688
B47: Könyvtári, közművelődési és múzeumi feladatok támogatása | C47: 2905 fő | D47: 1210 Ft/fő | E47: 3619143 | F47: 4999133 | G47: 6273470
A48: IV. | B48: Települési önkormányzatok kulturális feladatok támogatása összesen (B114) | E48: =E47 -> 3619143 | F48: =F47 -> 4999133 | G48: =G47 -> 6273470
A49: Helyi önkormányzatok és többcélú kistérésgi társulások egyes költségvetési kapcsolatokból számított bevételei öszesen | E49: =SUM(E48,E46,E37,E23) -> 197261497 | F49: =SUM(F48,F46,F37,F23) -> 205726372 | G49: =SUM(G48,G46,G37,G23) -> 207024334
A50: B16 | B50: OEP finanszírozás | E50: =SUM(E51:E53) -> 5019400 | F50: =SUM(F51:F53) -> 6070400 | G50: =SUM(G51:G53) -> 5570400
B51: Védőnői finanszírozás | E51: 4876600 | F51: 5927600 | G51: 5427600
B52: Orvosi feladatellátás | F52: 0
B53: Iskolai egészségügyi fin | E53: 142800 | F53: 142800 | G53: 142800
B54: Elkülönített állami pénzalaptól érkező támogatás | E54: =E55 -> 5746800 | F54: =F55 -> 6651496 | G54: =G55 -> 5746800
B55: Közfoglalkoztatási támogatás | E55: 5746800 | F55: 6651496 | G55: 5746800
A56: B21 | B56: Felhalmoozási célú támogatások államháztartáson belül | E56: 0 | F56: =F57 -> 147550000
B57: Felhalmoozási célú önkormányzati támogatások | F57: 147550000

Sheet 4mellékletKözhatalmi bevételek
A1: 4. melléklet az 1/2021. (III.08.) önkormányzati rendelethez
A3: Dánszentmiklós Község Önkormányzatának 2021. évi közhatalmi bevételei
A5: Rovat megnevezése | B5: Rovat száma | C5: 2020. évi teljesítés | D5: 2021. évi eredeti előirányzat
A6: Vagyoni tipusú adók | B6: B34 | C6: =SUM(C7:C9) -> 11217931 | D6: =SUM(D7:D9) -> 11800000
A7: ebből: építményadó | C7: 2933523 | D7: 3000000
A8: ebből: magánszemélyek kommunális adója | C8: 8284408 | D8: 8800000
A9: ebből: telekadó | C9: 0 | D9: 0
A10: Értékesítési és forgalmi adók | B10: B351 | C10: =SUM(C11) -> 35616677 | D10: =SUM(D11) -> 25000000
A11: ebből: állandó jeleggel végzett iparűzési tevékenység után fizetett helyi iparűzési adó | C11: 35616677 | D11: 25000000
A12: Gépjárműadók | B12: B354 | C12: 0 | D12: 0
A13: Egyéb áruhasználati és szolgáltatási adók (B355) | B13: B355 | C13: 0 | D13: 0
A14: Termékek és szolgáltatások adói mindösszesen | B14: B35 | C14: =SUM(C10,C12,C13) -> 35616677 | D14: =SUM(D10,D12,D13) -> 25000000
A15: Egyéb közhatalmi bevételek | B15: B36 | C15: =SUM(C16:C18) -> 3588346 | D15: =SUM(D16:D18) -> 3600000
A16: ebből: igazgatási szolgáltatási díjak | C16: 80000 | D16: 0
A17: ebből: egyéb bírság , pótlék | C17: 518961 | D17: 600000
A18: ebből: talajterhelési díj bevétele | C18: 2989385 | D18: 3000000
A19: Közhatalmi bevételek mindösszesen: | B19: B3 | C19: =SUM(C6,C14,C15) -> 50422954 | D19: =SUM(D6,D14,D15) -> 40400000

Sheet 5melléklet Működési bevétel
A1: 5. melléklet az 1/2021. (III.08.) önkormányzati rendelethez
A4: Dánszentmiklós Község Önkormányzatának 2021. évi működési és felhalmozási bevételei
C5: adatok Ft-ban
A6: Rovat megnevezése | B6: Rovat száma | C6: 2020. évi teljesítés | D6: 2021. évi eredeti előirányzat
A7: Készletértékesítés ellenértéke | B7: B401 | C7: 14173 | D7: 15000
A8: Szolgáltatások ellenértéke | B8: B402 | C8: =SUM(C9:C14) -> 3574178 | D8: =SUM(D9:D14) -> 4564500
A9: nem lakás célú ingatlanok bérleti díja | C9: 1593230 | D9: 1672000
A10: mezőgazdasági földbérleti díj | C10: 630000 | D10: 892500
A11: sírhely díj | C11: 574448 | D11: 1000000
A12: lakáscélú bérleti díjak | C12: 0 | D12: 0
A13: fizikoterápiás szolgáltatás díja-bérleti díj | C13: 776500 | D13: 1000000
A14: víziközmű és szennyvíz bérleti díj bevétele (kötött felhasználású) | D14: 0
A15: Közvetített szolgáltatások ellenértéke | B15: B403 | C15: 200000 | D15: 1240000
A16: Ellátási díjak | B16: B405 | C16: =SUM(C17:C18) -> 1976063 | D16: =SUM(D17:D18) -> 2560000
A17: óvodai étkezési térítési díjak | C17: 61487 | D17: 60000
A18: iskolai étkezési térítési díjak | C18: 1914576 | D18: 2500000
A19: Kiszámlázott általános forgalmi adó | B19: B406 | C19: =SUM(C7,C9,C10,C11,C15,C16,)*0.27 -> 1346736.8 | D19: =SUM(D7,D9,D10,D11,D15,D16,)*0.27 -> 1992465
A20: Kamatbevételek és más nyereségjellegű bevételek | B20: B408 | C20: 55 | D20: 0
A21: Biztosító által fizetett kártérítés | B21: B410 | C21: 0 | D21: =C21 -> 0
A22: Egyéb működési bevételek | B22: B411 | C22: 768011 | D22: 0
A23: Működési bevételek mindösszesen | B23: B4 | C23: =SUM(C7,C8,C16,C15,C19:C22) -> 7879216.8 | D23: =SUM(D7,D8,D16,D15,D19:D22) -> 10371965
A25: Ingatlan értékesítés | B25: B501 | C25: 2100000 | D25: 0
A26: Egyéb felhalmozási célú átvett pénzeszközök | B26: B75 | C26: 290000 | D26: 300000
D27: =C27 -> 0
A28: Felhalmozási bevételek mindösszesen | B28: B5 | C28: =SUM(C25,C26) -> 2390000 | D28: =SUM(D26,D25) -> 300000
D29: =C29 -> 0
D30: =C30 -> 0
A31: Működési -felhalmozási bevételek mindösszesen | B31: B4 - B7 | C31: =SUM(C23,C28) -> 10269217 | D31: =SUM(D23,D28) -> 10671965

Sheet 6 melléklet kiadás
B1: 6. melléklet az 1/2021. (III.08.) önkormányzati rendelethez
B3: Dánszentmiklós Község Önkormányzatának 2021. évi feladat ellátásonkénti kiadási összesítője
A5: Rovat megnevezése/Feladat ellátás | C5: Személyi jellegű ráfordítás K1 | D5: Járulékok K2 | E5: Dologi kiadások K3 | F5: Települési támogatások K4 | G5: Átadott pénzeszközök K5 | H5: Beruházások K6 | I5: Felújítások K7 | J5: Tartalék K513 | K5: Megelőlegezés K914 | L5: Intézményfinanszírozás K915 | M5: Mindösszesen
A7: Általános kiadás | B7: Eredeti előirányzat | C7: ='7.melléklet Általános kiadások'!D20 -> 11281532 | D7: ='7.melléklet Általános kiadások'!D21 -> 1636832 | E7: ='7.melléklet Általános kiadások'!D78 -> 13708972 | M7: =SUM(C7:I7) -> 26627336
A8: Település üzemeltetés | B8: Eredeti előirányzat | C8: ='8.melléklet Település üzemelte'!P17 -> 10107300 | D8: ='8.melléklet Település üzemelte'!P18 -> 1566635 | E8: ='8.melléklet Település üzemelte'!P75 -> 21233200 | M8: =SUM(C8:L8) -> 32907135
A9: Étkeztetési feladatok | B9: Eredeti előirányzat | C9: 0 | D9: 0 | E9: ='9.melléklet Étkeztetés'!H12 -> 13733090 | M9: =SUM(C9:I9) -> 13733090
A10: Egészségügyi feladatok | B10: Eredeti előirányzat | C10: ='10.mell Egészségügyi'!N20 -> 9349400 | D10: ='10.mell Egészségügyi'!N21 -> 1396767 | E10: ='10.mell Egészségügyi'!N78 -> 11067550 | M10: =SUM(C10:I10) -> 21813717
A11: Közfoglalkoztatási t ámogatás | B11: Eredeti előirányzat | C11: ='11. melléklet Közfoglalkoztatás'!D20 -> 4890720 | D11: ='11. melléklet Közfoglalkoztatás'!D21 -> 855876 | E11: 0 | M11: =SUM(C11:I11) -> 5746596
A12: Település támogatás | B12: Eredeti előirányzat | F12: ='12 melléklet Települési támogat'!D15 -> 14900000 | M12: =SUM(C12:I12) -> 14900000
A13: Átadott pénzeszközök | B13: Eredeti előirányzat | G13: ='13 melléklet Átadott pénzeszköz'!D18 -> 3704811 | M13: =SUM(C13:I13) -> 3704811
A14: Beruházások | B14: Eredeti előirányzat | H14: ='14mellBeruházások felújítások'!D26 -> 92718232 | M14: =SUM(C14:I14) -> 92718232
A15: Felújítások | B15: Eredeti előirányzat | I15: ='14mellBeruházások felújítások'!D39 -> 73000000 | M15: =SUM(C15:I15) -> 73000000
A16: Maradvány, intézményi finanszírozás, megelőlegezés | B16: Eredeti előirányzat | J16: ='15 mell Tartalék'!C21 -> 15179087 | K16: 8280974 | L16: ='16mellIntézményi összesített'!J18 -> 1.4757183e+08 | M16: =SUM(C16:L16) -> 1.710319e+08
A17: Mindösszesen | B17: Eredeti előirányzat 2021 | C17: =SUM(C7:C16) -> 35628952 | D17: =SUM(D7:D16) -> 5456110 | E17: =SUM(E7:E16) -> 59742812 | F17: =SUM(F7:F16) -> 14900000 | G17: =SUM(G7:G16) -> 3704811 | H17: =SUM(H7:H16) -> 92718232 | I17: =SUM(I7:I16) -> 73000000 | J17: =SUM(J7:J16) -> 15179087 | ... M17: =SUM(M7:M16) -> 4.5618281e+08

Sheet 7.melléklet Általános kiadások
A1: 7. melléklet az 1/2021. (III.08.) önkormányzati rendelethez
A3: Dánszentmiklós KÖZSÉG ÖNKORMÁNYZAT ÁLTALÁNOS KIADÁSAI 011130 COFOG 2021. év
A5: Rovat megnevezése | B5: Rovat száma | C5: Általános kiadások (011130)
C6: 2020. évi teljesítés | D6: 2021. évi eredeti
A7: Törvény szerinti illetmények, munkabérek | B7: K1101
A8: Készenléti, ügyeleti, helyettesítési díj, túlóra, túlszolgálat | B8: K1104
A9: Végkielégítés | B9: K1105
A10: Jubileumi jutalom | B10: K1106
A11: Béren kívüli juttatások | B11: K1107 | C11: 149000 | D11: 347000
A12: Közlekedési költségtérítés | B12: K1109
A13: Egyéb költségtérítések | B13: K1110 | C13: 12000 | D13: =C13 -> 12000
A14: Egyéb személyi jellegű ráfordítások | B14: K1113
A15: Foglalkoztatottak személyi juttatásai | B15: K11 | C15: =SUM(C7:C14) -> 161000 | D15: =SUM(D7:D14) -> 359000
A16: Választott tisztségviselők juttatásai | B16: K121 | C16: 7810408 | D16: 10772532
A17: Munkavégzésre irányuló egyéb jogviszonyban nem saját foglalkoztatottnak fizetett juttatások | B17: K122 | C17: 135470
A18: Reprezentáció | B18: K123 | C18: 120672 | D18: 150000
A19: Külső személyi juttatások | B19: K12 | C19: =SUM(C16:C18) -> 8066550 | D19: =SUM(D16:D18) -> 10922532
A20: Személyi juttatások | B20: K1 | C20: =C19+C15 -> 8227550 | D20: =D19+D15 -> 11281532
A21: Munkaadókat terhelő járulékok és szociális hozzájárulási adó | B21: K2 | C21: =C20*0.2 -> 1645510 | D21: 1636832
A22: Szakmai anyagok beszerzése | B22: K311 | C22: =SUM(C23:C27) -> 22095 | D22: =SUM(D23:D27) -> 0
A23: Gyógyszer beszerzés | C23: 0
A24: Könyvbeszerzés | C24: 22095
A25: Folyóírat | D25: =C25 -> 0
A26: Egyéb információ hordozó | D26: =C26 -> 0
A27: Egyéb szakmai anyag
A28: Üzemeltetési anyagok beszerzése | B28: K312 | C28: =SUM(C29:C34) -> 115944 | D28: =SUM(D29:D34) -> 0
A29: Irodaszer-, nyomtatvány | D29: =C29 -> 0
A30: Vegyszerbeszerzés | D30: =C30 -> 0
A31: Hajtó- és kenőanyag beszerzés
A32: Karbantartási anyag beszerzés
A33: Tisztítószer beszerzés
A34: Egyéb üzemeltetési anyag | C34: 115944
A35: Árubeszerzés | B35: K313 | D35: =C35 -> 0
A36: Készletbeszerzés | B36: K31 | C36: =SUM(C28,C22,C35) -> 138039 | D36: =SUM(D28,D22,D35) -> 0
A37: Informatikai szolgáltatások igénybevétele | B37: K321 | C37: =SUM(C38:C41) -> 28460 | D37: =C37 -> 28460
A38: Informatikai eszközök, szolgáltatások bérleti díja | C38: 28460 | D38: =C38 -> 28460
A39: Informatikai eszközök karbantartási díja | D39: =C39 -> 0
A40: Adatátviteli célú eszközök | D40: =C40 -> 0
A41: Ekf. Inform.szolg.: Weboldal | D41: 55000
A42: Egyéb kommunikációs szolgáltatások | B42: K322 | C42: =SUM(C43:C44) -> 34901 | D42: =SUM(D43:D44) -> 0
A43: Nem adatátviteli célú távközlési eszközök díja | C43: 34901
A44: Egyéb különféle kommunikációs szolgáltatások díjai | D44: =C44 -> 0
A45: Kommunikációs szolgáltatások | B45: K32 | C45: =SUM(C37,C42) -> 63361 | D45: =SUM(D37,D42) -> 28460
A46: Közüzemi díjak | B46: K331 | C46: =SUM(C47:C49) -> 0 | D46: =SUM(D47:D49) -> 0
A47: Villamosenergia
A48: Gázenergia | D48: =C48 -> 0
A49: Vízdíj
A50: Vásárolt élelmezés | B50: K332 | D50: =C50 -> 0
A51: Bérleti és lízing díjak | B51: K333 | D51: =C51 -> 0
A52: Karbantartási, kisjavítási szolgáltatások | B52: K334 | C52: 641451 | D52: 650000
A53: Szakmai tevékenységet segítő szolgáltatások | B53: K336 | C53: =SUM(C54:C56) -> 374390 | D53: =SUM(D54:D56) -> 216000
A54: Vásárolt közszolgáltatás | D54: =C54 -> 0
A55: Számlázott szellemi tevékenység | D55: =C55 -> 0
A56: Vincent- belső ellenőrzés | C56: 374390 | D56: 216000
A57: Egyéb szolgáltatások | B57: K337 | C57: =SUM(C58:C63) -> 5964671 | D57: =SUM(D58:D63) -> 4288044
A58: Biztosítási díjak | C58: 351163 | D58: 400000
A59: Bankköltségek | D59: 2000000
A60: Ügyvédi munkadíj | D60: 500000
A61: továbbszámlázott szolg. | C61: 1168044 | D61: =C61 -> 1168044
A62: Menzaprogram követés | D62: 120000
A63: Egyéb üzemeltetési szolgáltatások | C63: 4445464 | D63: 100000
A64: Szolgáltatási kiadások | B64: K33 | C64: =SUM(C46,C50:C53,C57) -> 6980512 | D64: =C64 -> 6980512
A65: Kiküldetések kiadásai | B65: K341 | D65: =C65 -> 0
A66: Reklám- és propagandakiadások | B66: K342 | D66: =C66 -> 0
A67: Kiküldetések, reklám- és propagandakiadások | B67: K34 | C67: =SUM(C65:C66) -> 0 | D67: =C67 -> 0
A68: Működési célú előzetesen felszámított általános forgalmi adó | B68: K351 | C68: =SUM(C69:C70) -> 974016 | D68: =SUM(D69:D70) -> 400000
A69: Levonható ÁFA | D69: =C69 -> 0
A70: Le nem vonható ÁFA | C70: 974016 | D70: 400000
A71: Fizetendő általános forgalmi adó | B71: K352 | C71: 11076 | D71: 500000
A72: Kamatkiadások | B72: K353 | D72: =C72 -> 0
A73: Egyéb dologi kiadások | B73: K355 | C73: =SUM(C74:C76) -> 572944 | D73: =SUM(D74:D76) -> 5800000
A74: Díjak, egyéb kifizetések | D74: 5000000
A75: Késedelmi kamatok, pótlékok | D75: =C75 -> 0
A76: Egyéb dologi kiadások | C76: 572944 | D76: 800000
A77: Különféle befizetések és egyéb dologi kiadások | B77: K35 | C77: =SUM(C73,C68,C71,C72) -> 1558036 | D77: =SUM(D73,D68,D71,D72) -> 6700000
A78: Dologi kiadások | B78: K3 | C78: =SUM(C77,C67,C64,C45,C36) -> 8739948 | D78: =SUM(D77,D67,D64,D45,D36) -> 13708972
A79: Általános kiadások mindösszesen | C79: =C78+C21+C20 -> 18613008 | D79: =D78+D21+D20 -> 26627336

Sheet 8.melléklet Település üzemelte
A1: 8. melléklet az 1/2021. (III.08.) önkormányzati rendelethez
B3: Dánszentmiklós község Önkormányzatának 2021. évi település üzemeltetési feladatainak kiadásai
A5: Rovat megnevezése és rovat kódja | C5: Város- és községgazdálkodási feladatok (066020) | E5: Közutak üzemeltetése (045160) | G5: Közvilágítás (064010) | I5: Köztemető fenntartása, üzemeltetése (013320) | K5: Zöldterület kezelés (066010) | M5: Sport | O5: Mindösszesen
C6: 2020. évi teljesítés | D6: 2021. évi eredeti | E6: 2020. évi teljesítés | F6: 2021. évi eredeti | G6: 2020. évi teljesítés | H6: 2021. évi eredeti | I6: 2020. évi teljesítés | J6: 2021. évi eredeti | K6: 2020. évi teljesítés | L6: 2021. évi eredeti | M6: 2020. évi teljesítés | N6: 2021. évi eredeti | O6: 2020. évi teljesítés | P6: 2021. évi eredeti
A7: Törvény szerinti illetmények, munkabérek | B7: K1101 | C7: 5701355 | D7: 9283800 | O7: =SUM(C7,E7,G7,I7,K7) -> 5701355 | P7: =SUM(D7,F7,H7,J7,N7) -> 9283800
A8: Céljuttatás, projekt prémium | B8: K1103 | C8: 148099 | D8: 300000 | O8: =SUM(C8,E8,G8,I8,K8) -> 148099 | P8: =SUM(D8,F8,H8,J8,N8) -> 300000
A9: Végkielégítés | B9: K1105 | O9: =SUM(C9,E9,G9,I9,K9) -> 0 | P9: =SUM(D9,F9,H9,J9,N9) -> 0
A10: Jubileumi jutalom | B10: K1106 | O10: =SUM(C10,E10,G10,I10,K10) -> 0 | P10: =SUM(D10,F10,H10,J10,N10) -> 0
A11: Béren kívüli juttatások | B11: K1107 | C11: 192000 | D11: 487500 | O11: =SUM(C11,E11,G11,I11,K11) -> 192000 | P11: =SUM(D11,F11,H11,J11,N11) -> 487500
A12: Közlekedési költségtérítés | B12: K1109 | O12: =SUM(C12,E12,G12,I12,K12) -> 0 | P12: =SUM(D12,F12,H12,J12,N12) -> 0
A13: Egyéb költségtérítések | B13: K1110 | O13: =SUM(C13,E13,G13,I13,K13) -> 0 | P13: =SUM(D13,F13,H13,J13,N13) -> 0
A14: Egyéb személyi jellegű ráfordítások | B14: K1113 | C14: 29300 | D14: 36000 | O14: =SUM(C14,E14,G14,I14,K14) -> 29300 | P14: =SUM(D14,F14,H14,J14,N14) -> 36000
A15: Foglalkoztatottak személyi juttatásai | B15: K11 | C15: =SUM(C7:C14) -> 6070754 | D15: =SUM(D7:D14) -> 10107300 | E15: =SUM(E7:E14) -> 0 | F15: =SUM(F7:F14) -> 0 | G15: =SUM(G7:G14) -> 0 | H15: =SUM(H7:H14) -> 0 | I15: =SUM(I7:I14) -> 0 | J15: =SUM(J7:J14) -> 0 | ... N15: =SUM(N7:N14) -> 0 | O15: =SUM(C15,E15,G15,I15,K15) -> 6070754 | P15: =SUM(D15,F15,H15,J15,N15) -> 10107300
A16: Külső személyi juttatások | B16: K12 | C16: 0 | D16: 0 | E16: 0 | F16: 0 | G16: 0 | H16: 0 | I16: 0 | J16: 0 | K16: 0 | L16: 0 | M16: 0 | N16: 0 | O16: =SUM(C16,E16,G16,I16,K16) -> 0 | P16: =SUM(D16,F16,H16,J16,N16) -> 0
A17: Személyi juttatások | B17: K1 | C17: =C16+C15 -> 6070754 | D17: =D16+D15 -> 10107300 | E17: =E16+E15 -> 0 | F17: =F16+F15 -> 0 | G17: =G16+G15 -> 0 | H17: =H16+H15 -> 0 | I17: =I16+I15 -> 0 | J17: =J16+J15 -> 0 | ... N17: =N16+N15 -> 0 | O17: =SUM(C17,E17,G17,I17,K17) -> 6070754 | P17: =SUM(D17,F17,H17,J17,N17) -> 10107300
A18: Munkaadókat terhelő járulékok és szochó | B18: K2 | C18: 990149 | D18: 1566635 | E18: =E17*0.175 -> 0 | F18: =F17*0.195 -> 0 | G18: =G17*0.195 -> 0 | H18: =H17*0.195 -> 0 | I18: =I17*0.195 -> 0 | J18: =J17*0.195 -> 0 | K18: =K17*0.195 -> 0 | N18: =N17*0.195 -> 0 | O18: =SUM(C18,E18,G18,I18,K18) -> 990149 | P18: =SUM(D18,F18,H18,J18,N18) -> 1566635
A19: Szakmai anyagok beszerzése | B19: K311 | C19: =SUM(C20:C24) -> 0 | D19: =SUM(D20:D24) -> 0 | E19: =SUM(E20:E24) -> 0 | F19: =SUM(F20:F24) -> 0 | G19: =SUM(G20:G24) -> 0 | H19: =SUM(H20:H24) -> 0 | I19: =SUM(I20:I24) -> 0 | J19: =SUM(J20:J24) -> 0 | K19: =SUM(K20:K24) -> 0 | N19: =SUM(N20:N24) -> 0 | O19: =SUM(C19,E19,G19,I19,K19) -> 0 | P19: =SUM(D19,F19,H19,J19,N19) -> 0
A20: Gyógyszer beszerzés | O20: =SUM(C20,E20,G20,I20,K20) -> 0 | P20: =SUM(D20,F20,H20,J20,N20) -> 0
A21: Könyvbeszerzés | O21: =SUM(C21,E21,G21,I21,K21) -> 0 | P21: =SUM(D21,F21,H21,J21,N21) -> 0
A22: Folyóírat | O22: =SUM(C22,E22,G22,I22,K22) -> 0 | P22: =SUM(D22,F22,H22,J22,N22) -> 0
A23: Egyéb információ hordozó | O23: =SUM(C23,E23,G23,I23,K23) -> 0 | P23: =SUM(D23,F23,H23,J23,N23) -> 0
A24: Egyéb szakmai anyag | O24: =SUM(C24,E24,G24,I24,K24) -> 0 | P24: =SUM(D24,F24,H24,J24,N24) -> 0
A25: Üzemeltetési anyagok beszerzése | B25: K312 | C25: =SUM(C26:C31) -> 632131 | D25: =SUM(D26:D31) -> 3280000 | E25: =SUM(E26:E31) -> 112361 | F25: =SUM(F26:F31) -> 0 | G25: =SUM(G26:G31) -> 0 | H25: =SUM(H26:H31) -> 0 | I25: =SUM(I26:I31) -> 4409 | J25: =SUM(J26:J31) -> 10000 | ... N25: =SUM(N26:N31) -> 0 | O25: =SUM(C25,E25,G25,I25,K25) -> 1038408 | P25: =SUM(D25,F25,H25,J25,L25,N25) -> 4590000
A26: Székelykapu karbantart.anyag | D26: 800000 | O26: =SUM(C26,E26,G26,I26,K26) -> 0 | P26: =SUM(D26,F26,H26,J26,N26) -> 800000
A27: Parkosítás | L27: 500000 | O27: =SUM(C27,E27,G27,I27,K27) -> 0 | P27: =SUM(D27,F27,H27,J27,L27,N27) -> 500000
A28: Játszótér karb.anyag | D28: 800000 | O28: =SUM(C28,E28,G28,I28,K28) -> 0 | P28: =SUM(D28,F28,H28,J28,N28) -> 800000
A29: szemétszedés | L29: 500000 | O29: =SUM(C29,E29,G29,I29,K29) -> 0 | P29: =SUM(D29,F29,H29,J29,L29,N29) -> 500000
A30: Karbant, anyag besz.Önk. | D30: 800000 | O30: =SUM(C30,E30,G30,I30,K30) -> 0 | P30: =SUM(D30,F30,H30,J30,L30,N30) -> 800000
A31: Egyéb üzemeltetési anyag | C31: 632131 | D31: 880000 | E31: 112361 | I31: 4409 | J31: 10000 | K31: 289507 | L31: 300000 | O31: =SUM(C31,E31,G31,I31,K31) -> 1038408 | P31: =SUM(D31,F31,H31,J31,L31,N31) -> 1190000
A32: Árubeszerzés | B32: K313 | O32: =SUM(C32,E32,G32,I32,K32) -> 0 | P32: =SUM(D32,F32,H32,J32,N32) -> 0
A33: Készletbeszerzés | B33: K31 | C33: =SUM(C25,C19,C32) -> 632131 | D33: =SUM(D25,D19,D32) -> 3280000 | E33: =SUM(E25,E19,E32) -> 112361 | F33: =SUM(F25,F19,F32) -> 0 | G33: =SUM(G25,G19,G32) -> 0 | H33: =SUM(H25,H19,H32) -> 0 | I33: =SUM(I25,I19,I32) -> 4409 | J33: =SUM(J25,J19,J32) -> 10000 | ... N33: =SUM(N25,N19,N32) -> 0 | O33: =SUM(C33,E33,G33,I33,K33) -> 1038408 | P33: =SUM(D33,F33,H33,J33,L33,N33) -> 4590000
A34: Informatikai szolgáltatások | B34: K321 | C34: =SUM(C35:C38) -> 1143 | D34: =SUM(D35:D38) -> 0 | E34: =SUM(E35:E38) -> 0 | F34: =SUM(F35:F38) -> 0 | G34: =SUM(G35:G38) -> 0 | H34: =SUM(H35:H38) -> 0 | I34: =SUM(I35:I38) -> 0 | J34: =SUM(J35:J38) -> 0 | ... N34: =SUM(N35:N38) -> 0 | O34: =SUM(C34,E34,G34,I34,K34) -> 1143 | P34: =SUM(D34,F34,H34,J34,N34) -> 0
A35: Informatikai eszközök, szolgáltatások bérleti díja | C35: 1143 | O35: =SUM(C35,E35,G35,I35,K35) -> 1143 | P35: =SUM(D35,F35,H35,J35,N35) -> 0
A36: Informatikai eszközök karbantartási díja | O36: =SUM(C36,E36,G36,I36,K36) -> 0 | P36: =SUM(D36,F36,H36,J36,N36) -> 0
A37: Adatátviteli célú eszközök | O37: =SUM(C37,E37,G37,I37,K37) -> 0 | P37: =SUM(D37,F37,H37,J37,N37) -> 0
A38: Egyéb klf. Informat. Szolg. | O38: =SUM(C38,E38,G38,I38,K38) -> 0 | P38: =SUM(D38,F38,H38,J38,N38) -> 0
A39: Egyéb kommunikációs szolgáltatások | B39: K322 | C39: =SUM(C40:C41) -> 369241 | D39: =SUM(D40:D41) -> 600000 | E39: =SUM(E40:E41) -> 0 | F39: =SUM(F40:F41) -> 0 | G39: =SUM(G40:G41) -> 0 | H39: =SUM(H40:H41) -> 0 | I39: =SUM(I40:I41) -> 0 | J39: =SUM(J40:J41) -> 0 | ... N39: =SUM(N40:N41) -> 0 | O39: =SUM(C39,E39,G39,I39,K39) -> 369241 | P39: =SUM(D39,F39,H39,J39,N39) -> 600000
A40: Nem adatátviteli célú távközlési eszközök díja | C40: 369241 | D40: 600000 | O40: =SUM(C40,E40,G40,I40,K40) -> 369241 | P40: =SUM(D40,F40,H40,J40,N40) -> 600000
A41: Egyéb klf. kommunikációs szolgáltatások díjai | O41: =SUM(C41,E41,G41,I41,K41) -> 0 | P41: =SUM(D41,F41,H41,J41,N41) -> 0
A42: Kommunikációs szolgáltatások | B42: K32 | C42: =SUM(C34,C39) -> 370384 | E42: =SUM(E34,E39) -> 0 | I42: =SUM(I34,I39) -> 0 | K42: =SUM(K34,K39) -> 0 | O42: =SUM(C42,E42,G42,I42,K42) -> 370384 | P42: =SUM(D42,F42,H42,J42,N42) -> 0
A43: Közüzemi díjak | B43: K331 | C43: =SUM(C44:C46) -> 217197 | D43: =SUM(D44:D46) -> 250000 | E43: =SUM(E44:E46) -> 0 | F43: =SUM(F44:F46) -> 0 | G43: =SUM(G44:G46) -> 2888025 | H43: =SUM(H44:H46) -> 2900000 | I43: =SUM(I44:I46) -> 46179 | J43: =SUM(J44:J46) -> 50000 | ... N43: =SUM(N44:N46) -> 750000 | O43: =SUM(C43,E43,G43,I43,K43) -> 3293676 | P43: =SUM(D43,F43,H43,J43,N43) -> 3950000
A44: Villamosenergia | C44: 217197 | D44: 250000 | G44: 2888025 | H44: 2900000 | I44: 46179 | J44: 50000 | N44: 250000 | O44: =SUM(C44,E44,G44,I44,K44) -> 3151401 | P44: =SUM(D44,F44,H44,J44,L44,N44) -> 3450000
A45: Gázenergia | M45: 755144 | N45: 350000 | O45: =SUM(C45,E45,G45,I45,K45) -> 0 | P45: =SUM(D45,F45,H45,J45,N45) -> 350000
A46: Vízdíj | K46: 142275 | L46: 150000 | N46: 150000 | O46: =SUM(C46,E46,G46,I46,K46) -> 142275 | P46: =SUM(D46,F46,H46,J46,L46,N46) -> 300000
A47: Vásárolt élelmezés | B47: K332 | O47: =SUM(C47,E47,G47,I47,K47) -> 0 | P47: =SUM(D47,F47,H47,J47,J47,N47) -> 0
A48: Bérleti és lízing díjak | B48: K333 | O48: =SUM(C48,E48,G48,I48,K48) -> 0 | P48: =SUM(D48,F48,H48,J48,N48) -> 0
A49: Karbantartási, kisjavítási szolgáltatások | B49: K334 | C49: 87951 | D49: 1500000 | E49: 1491010 | F49: 3519000 | K49: 20000 | L49: 50000 | O49: =SUM(C49,E49,G49,I49,K49) -> 1598961 | P49: =SUM(D49,F49,H49,J49,L49,N49) -> 5069000
A50: Szakmai tevékenységet segítő szolgáltatások | B50: K336 | C50: =SUM(C51:C53) -> 0 | D50: =SUM(D51:D53) -> 0 | E50: =SUM(E51:E53) -> 0 | F50: =SUM(F51:F53) -> 0 | G50: =SUM(G51:G53) -> 0 | H50: =SUM(H51:H53) -> 0 | I50: =SUM(I51:I53) -> 0 | J50: =SUM(J51:J53) -> 0 | ... N50: =SUM(N51:N53) -> 0 | O50: =SUM(C50,E50,G50,I50,K50) -> 0 | P50: =SUM(D50,F50,H50,J50,N50) -> 0
A51: Vásárolt közszolgáltatás | O51: =SUM(C51,E51,G51,I51,K51) -> 0 | P51: =SUM(D51,F51,H51,J51,N51) -> 0
A52: Számlázott szellemi tevékenység | O52: =SUM(C52,E52,G52,I52,K52) -> 0 | P52: =SUM(D52,F52,H52,J52,N52) -> 0
A53: Egyéb szakmai szolgáltatások | O53: =SUM(C53,E53,G53,I53,K53) -> 0 | P53: =SUM(D53,F53,H53,J53,N53) -> 0
A54: Egyéb szolgáltatások | B54: K337 | C54: =SUM(C55:C60) -> 216959 | D54: =SUM(D55:D60) -> 740000 | E54: =SUM(E55:E60) -> 43750 | F54: =SUM(F55:F60) -> 0 | G54: =SUM(G55:G60) -> 0 | H54: =SUM(H55:H60) -> 0 | I54: =SUM(I55:I60) -> 708142 | J54: =SUM(J55:J60) -> 750000 | ... N54: =SUM(N55:N60) -> 24000 | O54: =SUM(C54,E54,G54,I54,K54) -> 1106161 | P54: =SUM(D54,F54,H54,J54,N54) -> 1514000
A55: Biztosítási díj:busz ,traktor | C55: 182734 | D55: 300000 | O55: =SUM(C55,E55,G55,I55,K55) -> 182734 | P55: =SUM(D55,F55,H55,J55,N55) -> 300000
A56: Bankköltségek | O56: =SUM(C56,E56,G56,I56,K56) -> 0 | P56: =SUM(D56,F56,H56,J56,N56) -> 0
A57: Szállítási szolgáltatási díjak | D57: 300000 | O57: =SUM(C57,E57,G57,I57,K57) -> 0 | P57: =SUM(D57,F57,H57,J57,N57) -> 300000
A58: Postai díjak | O58: =SUM(C58,E58,G58,I58,K58) -> 0 | P58: =SUM(D58,F58,H58,J58,N58) -> 0
A59: Szemétszállítási kiadások | K59: 137310 | M59: 28122 | N59: 24000 | O59: =SUM(C59,E59,G59,I59,K59) -> 137310 | P59: =SUM(D59,F59,H59,J59,L59,N59) -> 24000
A60: Egyéb üzemeltetési szolgáltatások | C60: 34225 | D60: 140000 | E60: 43750 | I60: 708142 | J60: 750000 | L60: 550000 | O60: =SUM(C60,E60,G60,I60,K60) -> 786117 | P60: =SUM(D60,F60,H60,J60,L60,N60) -> 1440000
A61: Szolgáltatási kiadások | B61: K33 | C61: =SUM(C43,C47:C50,C54) -> 522107 | D61: =SUM(D43,D47:D50,D54) -> 2490000 | E61: =SUM(E43,E47:E50,E54) -> 1534760 | F61: =SUM(F43,F47:F50,F54) -> 3519000 | G61: =SUM(G43,G47:G50,G54) -> 2888025 | H61: =SUM(H43,H47:H50,H54) -> 2900000 | I61: =SUM(I43,I47:I50,I54) -> 754321 | J61: =SUM(J43,J47:J50,J54) -> 800000 | K61: =SUM(K43,K47:K50,K54) -> 299585 | L61: =SUM(L33,L43,L47,L49,L54) -> 2050000 | M61: =SUM(M43,M47:M50,M54) -> 783266 | N61: =SUM(N43,N47:N50,N54) -> 774000 | O61: =SUM(C61,E61,G61,I61,K61) -> 5998798 | P61: =SUM(D61,F61,H61,J61,N61) -> 10483000
A62: Kiküldetések kiadásai | B62: K341 | O62: =SUM(C62,E62,G62,I62,K62) -> 0 | P62: =SUM(D62,F62,H62,J62,N62) -> 0
A63: Reklám- és propagandakiadások | B63: K342 | C63: 615500 | D63: 615000 | O63: =SUM(C63,E63,G63,I63,K63) -> 615500 | P63: =SUM(D63,F63,H63,J63,L63,N63) -> 615000
A64: Kiküldetések, reklám- és propagandakiadások | B64: K34 | C64: =SUM(C62:C63) -> 615500 | D64: =SUM(D62:D63) -> 615000 | E64: =SUM(E62:E63) -> 0 | F64: =SUM(F62:F63) -> 0 | G64: =SUM(G62:G63) -> 0 | H64: =SUM(H62:H63) -> 0 | I64: =SUM(I62:I63) -> 0 | J64: =SUM(J62:J63) -> 0 | K64: =SUM(K62:K63) -> 0 | N64: =SUM(N62:N63) -> 0 | O64: =SUM(C64,E64,G64,I64,K64) -> 615500 | P64: =SUM(D64,F64,H64,J64,N64) -> 615000
A65: Működési célú előzetesen felszámított általános forgalmi adó | B65: K351 | C65: =SUM(C66:C67) -> 469081 | D65: =SUM(D66:D67) -> 753590 | E65: =SUM(E66:E67) -> 431246 | F65: =SUM(F66:F67) -> 950130 | G65: =SUM(G66:G67) -> 750090 | H65: =SUM(H66:H67) -> 783000 | I65: =SUM(I66:I67) -> 203698 | J65: =SUM(J66:J67) -> 216000 | ... N65: =SUM(N66:N67) -> 208980 | O65: =SUM(C65,E65,G65,I65,K65) -> 1986633 | P65: =SUM(D65,F65,H65,J65,L65,N65) -> 3465200
A66: Levonható ÁFA | C66: 37940 | D66: =D63*0.27 -> 166050 | O66: =SUM(C66,E66,G66,I66,K66) -> 37940 | P66: =SUM(D66,F66,H66,J66,N66) -> 166050
A67: Le nem vonható ÁFA | C67: 431141 | D67: 587540 | E67: 431246 | F67: =F61*0.27 -> 950130 | G67: 750090 | H67: =H61*0.27 -> 783000 | I67: 203698 | J67: =J61*0.27 -> 216000 | K67: 132518 | L67: =L61*0.27 -> 553500 | M67: 204026 | N67: =N61*0.27 -> 208980 | O67: =SUM(C67,E67,G67,I67,K67) -> 1948693 | P67: =SUM(D67,F67,H67,J67,L67,N67) -> 3299150
A68: Fizetendő általános forgalmi adó | B68: K352 | C68: 0 | D68: 0 | E68: 0 | F68: 0 | G68: 0 | H68: 0 | I68: 0 | J68: 0 | K68: 0 | N68: 0 | O68: =SUM(C68,E68,G68,I68,K68) -> 0 | P68: =SUM(D68,F68,H68,J68,N68) -> 0
A69: Kamatkiadások | B69: K353 | C69: 0 | D69: 0 | E69: 0 | F69: 0 | G69: 0 | H69: 0 | I69: 0 | J69: 0 | K69: 0 | N69: 0 | O69: =SUM(C69,E69,G69,I69,K69) -> 0 | P69: =SUM(D69,F69,H69,J69,N69) -> 0
A70: Egyéb dologi kiadások | B70: K355 | C70: =SUM(C71:C73) -> 27674 | D70: =SUM(D71:D73) -> 30000 | E70: =SUM(E71:E73) -> 0 | F70: =SUM(F71:F73) -> 0 | G70: =SUM(G71:G73) -> 0 | H70: =SUM(H71:H73) -> 0 | I70: =SUM(I71:I73) -> 0 | J70: =SUM(J71:J73) -> 0 | K70: =SUM(K71:K73) -> 0 | N70: =SUM(N71:N73) -> 0 | O70: =SUM(C70,E70,G70,I70,K70) -> 27674 | P70: =SUM(D70,F70,H70,J70,N70) -> 30000
A71: Díjak, egyéb kifizetések | O71: =SUM(C71,E71,G71,I71,K71) -> 0 | P71: =SUM(D71,F71,H71,J71,N71) -> 0
A72: Késedelmi kamatok, pótlékok | O72: =SUM(C72,E72,G72,I72,K72) -> 0 | P72: =SUM(D72,F72,H72,J72,N72) -> 0
A73: Egyéb dologi kiadások | C73: 27674 | D73: 30000 | O73: =SUM(C73,E73,G73,I73,K73) -> 27674 | P73: =SUM(D73,F73,H73,J73,N73) -> 30000
A74: Különféle befizetések és egyéb dologi kiadások | B74: K35 | C74: =SUM(C70,C65,C68,C69) -> 496755 | D74: =SUM(D70,D65,D68,D69) -> 783590 | E74: =SUM(E70,E65,E68,E69) -> 431246 | F74: =SUM(F70,F65,F68,F69) -> 950130 | G74: =SUM(G70,G65,G68,G69) -> 750090 | H74: =SUM(H70,H65,H68,H69) -> 783000 | I74: =SUM(I70,I65,I68,I69) -> 203698 | J74: =SUM(J70,J65,J68,J69) -> 216000 | ... N74: =SUM(N70,N65,N68,N69) -> 208980 | O74: =SUM(C74,E74,G74,I74,K74) -> 2014307 | P74: =SUM(D74,F74,H74,J74,L74,N74) -> 3495200
A75: Dologi kiadások | B75: K3 | C75: =SUM(C74,C64,C61,C42,C33) -> 2636877 | D75: =SUM(D74,D64,D61,D42,D33) -> 7168590 | E75: =SUM(E74,E64,E61,E42,E33) -> 2078367 | F75: =SUM(F74,F64,F61,F42,F33) -> 4469130 | G75: =SUM(G74,G64,G61,G42,G33) -> 3638115 | H75: =SUM(H74,H64,H61,H42,H33) -> 3683000 | I75: =SUM(I74,I64,I61,I42,I33) -> 962428 | J75: =SUM(J74,J64,J61,J42,J33) -> 1026000 | ... N75: =SUM(N74,N64,N61,N42,N33) -> 982980 | O75: =SUM(C75,E75,G75,I75,K75) -> 10037397 | P75: =SUM(D75,F75,H75,J75,L75,N75) -> 21233200
A76: Mindösszesen kiadás | C76: =C75+C17+C18 -> 9697780 | D76: =D75+D17+D18 -> 18842525 | E76: =E75+E17+E18 -> 2078367 | F76: =F75+F17+F18 -> 4469130 | G76: =G75+G17+G18 -> 3638115 | H76: =H75+H17+H18 -> 3683000 | I76: =I75+I17+I18 -> 962428 | J76: =J75+J17+J18 -> 1026000 | ... P76: =P75+P17+P18 -> 32907135

Sheet 9.melléklet Étkeztetés
A1: 9. melléklet az 1/2021. (III.08.) önkormányzati rendelethez
A3: Dánszentmiklós KÖZSÉG ÖNKORMÁNYZAT KIADÁSAI Gyermekétkeztetési feladatok 2021. év
A5: Rovat megnevezése | B5: Rovat száma | C5: Étkeztetési feladatok | G5: MINDÖSSZESEN
C6: Gyermekétkeztetés (096015) | E6: Szünidei gyermekétkeztetés (104037)
C7: 2020. évi teljesítés | D7: 2021. évi eredeti | E7: 2020. évi teljesítés | F7: 2021. évi eredeti | G7: 2020. évi teljesítés | H7: 2021. évi eredeti előirányzat
A8: Vásárolt élelmezés | B8: K332 | C8: 11652437 | D8: 11000000 | E8: 456573 | F8: 600071 | G8: =SUM(C8,E8) -> 12109010 | H8: =SUM(D8,F8) -> 11600071
A9: Működési célú előzetesen felszámított ÁFA | B9: K351 | C9: =SUM(C10:C11) -> 3146158 | D9: =SUM(D10:D11) -> 1971000 | E9: =SUM(E10:E11) -> 123274.71 | F9: =SUM(F10:F11) -> 162019.17 | G9: =SUM(C9,E9) -> 3269432.7 | H9: =SUM(D9,F9) -> 2133019.2
A10: Levonható ÁFA | C10: =C8*0.27 -> 3146158 | D10: 1971000 | G10: =SUM(C10,E10) -> 3146158 | H10: =SUM(D10,F10) -> 1971000
A11: Le nem vonható ÁFA | C11: 0 | E11: =E8*0.27 -> 123274.71 | F11: =F8*0.27 -> 162019.17 | G11: =SUM(C11,E11) -> 123274.71 | H11: =SUM(D11,F11) -> 162019.17
A12: Dologi kiadások | B12: K3 | C12: =SUM(C8+C9) -> 14798595 | D12: =SUM(D8+D9) -> 12971000 | E12: =SUM(E8+E9) -> 579847.71 | F12: =SUM(F8+F9) -> 762090.17 | G12: =SUM(G8+G9) -> 15378443 | H12: =SUM(H8+H9) -> 13733090

Sheet 10.mell Egészségügyi
A1: 10. melléklet az 1/2021. (III.08.) önkormányzati rendelethez
A3: Dánszentmiklós KÖZSÉG ÖNKORMÁNYZAT KIADÁSAI Egészségügyi feladat ellátás 2021. év
A5: Rovat megnevezése | B5: Rovat száma | C5: Védőnői szolgálat (074031) | E5: Fizikoterápiás szolgáltatás (072450) | G5: Egészségügyi laboratóriumi szolgáltatás (072420) | I5: Házi orvosi alap ellátás (072111) | K5: Házi orvosi ügyeleti ellátás (072112) | M5: Mindösszesen
C6: 2020. évi teljesítés | D6: 2021. évi eredeti előirányzat | E6: 2020. évi teljesítés | F6: 2021. évi eredeti előirányzat | G6: 2020. évi teljesítés | H6: 2021. évi eredeti előirányzat | I6: 2020. évi teljesítés | J6: 2021. évi eredeti előirányzat | K6: 2020. évi teljesítés | L6: 2021. évi eredeti előirányzat | M6: 2020. évi teljesítés | N6: 2021. évi eredeti előirányzat
A7: Törvény szerinti illetmények, munkabérek | B7: K1101 | C7: 1923000 | D7: 3023000 | E7: 2462780 | F7: 2527200 | G7: 2929100 | H7: 2851200 | M7: =SUM(C7,E7,G7,I7,K7) -> 7314880 | N7: =SUM(D7,F7,H7,J7,L7) -> 8401400
A8: Céljuttatás, projekt prémium | B8: K1103 | M8: =SUM(C8,E8,G8,I8,K8) -> 0 | N8: =SUM(D8,F8,H8,J8,L8) -> 0
A9: Végkielégítés | B9: K1105 | M9: =SUM(C9,E9,G9,I9,K9) -> 0 | N9: =SUM(D9,F9,H9,J9,L9) -> 0
A10: Jubileumi jutalom | B10: K1106 | M10: =SUM(C10,E10,G10,I10,K10) -> 0 | N10: =SUM(D10,F10,H10,J10,L10) -> 0
A11: Béren kívüli juttatások | B11: K1107 | D11: 32000 | E11: 96000 | F11: 150000 | G11: 96000 | H11: 150000 | M11: =SUM(C11,E11,G11,I11,K11) -> 192000 | N11: =SUM(D11,F11,H11,J11,L11) -> 332000
A12: Közlekedési költségtérítés | B12: K1109 | C12: 273843 | D12: 280000 | G12: 234000 | H12: 312000 | M12: =SUM(C12,E12,G12,I12,K12) -> 507843 | N12: =SUM(D12,F12,H12,J12,L12) -> 592000
A13: Egyéb költségtérítések | B13: K1110 | F13: 12000 | G13: 12000 | H13: 12000 | M13: =SUM(C13,E13,G13,I13,K13) -> 12000 | N13: =SUM(D13,F13,H13,J13,L13) -> 24000
A14: Egyéb személyi jellegű ráfordítások | B14: K1113 | C14: 500000 | E14: 46175 | M14: =SUM(C14,E14,G14,I14,K14) -> 546175 | N14: =SUM(D14,F14,H14,J14,L14) -> 0
A15: Foglalkoztatottak személyi juttatásai | B15: K11 | C15: =SUM(C7:C14) -> 2696843 | D15: =SUM(D7:D14) -> 3335000 | E15: =SUM(E7:E14) -> 2604955 | F15: =SUM(F7:F14) -> 2689200 | G15: =SUM(G7:G14) -> 3271100 | H15: =SUM(H7:H14) -> 3325200 | I15: =SUM(I7:I14) -> 0 | J15: =SUM(J7:J14) -> 0 | ... N15: =SUM(N7:N14) -> 9349400
A16: Választott tisztségviselők juttatásai | B16: K121 | M16: =SUM(C16,E16,G16,I16,K16) -> 0 | N16: =SUM(D16,F16,H16,J16,L16) -> 0
A17: Munkavégzésre irányuló egyéb jogviszonyban nem saját foglalkoztatottnak fizetett juttatások | B17: K122 | M17: =SUM(C17,E17,G17,I17,K17) -> 0 | N17: =SUM(D17,F17,H17,J17,L17) -> 0
A18: Egyéb külső személyi juttatások | B18: K123 | M18: =SUM(C18,E18,G18,I18,K18) -> 0 | N18: =SUM(D18,F18,H18,J18,L18) -> 0
A19: Külső személyi juttatások | B19: K12 | C19: =SUM(C16:C18) -> 0 | D19: =SUM(D16:D18) -> 0 | E19: =SUM(E16:E18) -> 0 | F19: =SUM(F16:F18) -> 0 | G19: =SUM(G16:G18) -> 0 | H19: =SUM(H16:H18) -> 0 | I19: =SUM(I16:I18) -> 0 | J19: =SUM(J16:J18) -> 0 | ... L19: =SUM(L16:L18) -> 0 | M19: =SUM(C19,E19,G19,I19,K19) -> 0 | N19: =SUM(D19,F19,H19,J19,L19) -> 0
A20: Személyi juttatások | B20: K1 | C20: =C19+C15 -> 2696843 | D20: =D19+D15 -> 3335000 | E20: =E19+E15 -> 2604955 | F20: =F19+F15 -> 2689200 | G20: =G19+G15 -> 3271100 | H20: =H19+H15 -> 3325200 | I20: =I19+I15 -> 0 | J20: =J19+J15 -> 0 | ... L20: =L19+L15 -> 0 | M20: =SUM(C20,E20,G20,I20,K20) -> 8572898 | N20: =SUM(D20,F20,H20,J20,L20) -> 9349400
A21: Munkaadókat terhelő járulékok és szociális hozzájárulási adó | B21: K2 | C21: 407525 | D21: 477845 | E21: 433001 | F21: 440086 | G21: 519665 | H21: 478836 | I21: =I20*0.195 -> 0 | J21: =J20*0.195 -> 0 | K21: =K20*0.195 -> 0 | L21: =L20*0.195 -> 0 | M21: =SUM(C21,E21,G21,I21,K21) -> 1360191 | N21: =SUM(D21,F21,H21,J21,L21) -> 1396767
A22: Szakmai anyagok beszerzése | B22: K311 | C22: =SUM(C23:C27) -> 0 | D22: =SUM(D23:D27) -> 0 | E22: =SUM(E23:E27) -> 25054 | F22: =SUM(F23:F27) -> 20000 | G22: =SUM(G23:G27) -> 569951 | H22: =SUM(H23:H27) -> 550000 | I22: =SUM(I23:I27) -> 0 | J22: =SUM(J23:J27) -> 0 | ... L22: =SUM(L23:L27) -> 0 | M22: =SUM(C22,E22,G22,I22,K22) -> 595005 | N22: =SUM(D22,F22,H22,J22,L22) -> 570000
A23: Gyógyszer beszerzés | M23: =SUM(C23,E23,G23,I23,K23) -> 0 | N23: =SUM(D23,F23,H23,J23,L23) -> 0
A24: Könyvbeszerzés | M24: =SUM(C24,E24,G24,I24,K24) -> 0 | N24: =SUM(D24,F24,H24,J24,L24) -> 0
A25: Folyóírat | M25: =SUM(C25,E25,G25,I25,K25) -> 0 | N25: =SUM(D25,F25,H25,J25,L25) -> 0
A26: Egyéb információ hordozó | M26: =SUM(C26,E26,G26,I26,K26) -> 0 | N26: =SUM(D26,F26,H26,J26,L26) -> 0
A27: Egyéb szakmai anyag | E27: 25054 | F27: 20000 | G27: 569951 | H27: 550000 | M27: =SUM(C27,E27,G27,I27,K27) -> 595005 | N27: =SUM(D27,F27,H27,J27,L27) -> 570000
A28: Üzemeltetési anyagok beszerzése | B28: K312 | C28: =SUM(C29:C34) -> 70651 | D28: =SUM(D29:D34) -> 80000 | E28: =SUM(E29:E34) -> 63850 | F28: =SUM(F29:F34) -> 62000 | G28: =SUM(G29:G34) -> 59884 | H28: =SUM(H29:H34) -> 60000 | I28: =SUM(I29:I34) -> 92060 | J28: =SUM(J29:J34) -> 0 | ... L28: =SUM(L29:L34) -> 0 | M28: =SUM(C28,E28,G28,I28,K28) -> 286445 | N28: =SUM(D28,F28,H28,J28,L28) -> 202000
A29: Irodaszer-, nyomtatvány | F29: 12000 | M29: =SUM(C29,E29,G29,I29,K29) -> 0 | N29: =SUM(D29,F29,H29,J29,L29) -> 12000
A30: Vegyszerbeszerzés | M30: =SUM(C30,E30,G30,I30,K30) -> 0 | N30: =SUM(D30,F30,H30,J30,L30) -> 0
A31: Hajtó- és kenőanyag beszerzés | M31: =SUM(C31,E31,G31,I31,K31) -> 0 | N31: =SUM(D31,F31,H31,J31,L31) -> 0
A32: Karbantartási anyag beszerzés | M32: =SUM(C32,E32,G32,I32,K32) -> 0 | N32: =SUM(D32,F32,H32,J32,L32) -> 0
A33: Tisztítószer beszerzés | C33: 70651 | D33: 80000 | E33: 63850 | F33: 50000 | G33: 59884 | H33: 60000 | I33: 92060 | M33: =SUM(C33,E33,G33,I33,K33) -> 286445 | N33: =SUM(D33,F33,H33,J33,L33) -> 190000
A34: Egyéb üzemeltetési anyag | M34: =SUM(C34,E34,G34,I34,K34) -> 0 | N34: =SUM(D34,F34,H34,J34,L34) -> 0
A35: Árubeszerzés | B35: K313 | M35: =SUM(C35,E35,G35,I35,K35) -> 0 | N35: =SUM(D35,F35,H35,J35,L35) -> 0
A36: Készletbeszerzés | B36: K31 | C36: =SUM(C28,C22,C35) -> 70651 | D36: =SUM(D28,D22,D35) -> 80000 | E36: =SUM(E28,E22,E35) -> 88904 | F36: =SUM(F28,F22,F35) -> 82000 | G36: =SUM(G28,G22,G35) -> 629835 | H36: =SUM(H28,H22,H35) -> 610000 | I36: =SUM(I28,I22,I35) -> 92060 | J36: =SUM(J28,J22,J35) -> 0 | ... L36: =SUM(L28,L22,L35) -> 0 | M36: =SUM(C36,E36,G36,I36,K36) -> 881450 | N36: =SUM(D36,F36,H36,J36,L36) -> 772000
A37: Informatikai szolgáltatások igénybevétele | B37: K321 | C37: =SUM(C38:C41) -> 98411 | D37: =SUM(D38:D41) -> 100000 | E37: =SUM(E38:E41) -> 0 | F37: =SUM(F38:F41) -> 0 | G37: =SUM(G38:G41) -> 0 | H37: =SUM(H38:H41) -> 0 | I37: =SUM(I38:I41) -> 0 | J37: =SUM(J38:J41) -> 0 | ... L37: =SUM(L38:L41) -> 0 | M37: =SUM(C37,E37,G37,I37,K37) -> 98411 | N37: =SUM(D37,F37,H37,J37,L37) -> 100000
A38: Informatikai eszközök szolgáltat. bérleti díja | M38: =SUM(C38,E38,G38,I38,K38) -> 0 | N38: =SUM(D38,F38,H38,J38,L38) -> 0
A39: Informatikai eszközök karbantartási díja | M39: =SUM(C39,E39,G39,I39,K39) -> 0 | N39: =SUM(D39,F39,H39,J39,L39) -> 0
A40: Adatátviteli célú eszközök | M40: =SUM(C40,E40,G40,I40,K40) -> 0 | N40: =SUM(D40,F40,H40,J40,L40) -> 0
A41: Egyéb különféle informatikai szolgáltatások | C41: 98411 | D41: 100000 | M41: =SUM(C41,E41,G41,I41,K41) -> 98411 | N41: =SUM(D41,F41,H41,J41,L41) -> 100000
A42: Egyéb kommunikációs szolgáltatások | B42: K322 | C42: =SUM(C43:C44) -> 43227 | D42: =SUM(D43:D44) -> 50000 | E42: =SUM(E43:E44) -> 0 | F42: =SUM(F43:F44) -> 0 | G42: =SUM(G43:G44) -> 130387 | H42: =SUM(H43:H44) -> 130000 | I42: =SUM(I43:I44) -> 114212 | J42: =SUM(J43:J44) -> 150000 | ... L42: =SUM(L43:L44) -> 0 | M42: =SUM(C42,E42,G42,I42,K42) -> 287826 | N42: =SUM(D42,F42,H42,J42,L42) -> 330000
A43: Nem adatátviteli célú távközlési eszközök díja | C43: 43227 | D43: 50000 | G43: 130387 | H43: 130000 | I43: 114212 | J43: 150000 | M43: =SUM(C43,E43,G43,I43,K43) -> 287826 | N43: =SUM(D43,F43,H43,J43,L43) -> 330000
A44: Egyéb különféle kommunikációs szolgáltatások díjai | M44: =SUM(C44,E44,G44,I44,K44) -> 0 | N44: =SUM(D44,F44,H44,J44,L44) -> 0
A45: Kommunikációs szolgáltatások | B45: K32 | C45: =SUM(C37,C42) -> 141638 | D45: =SUM(D37,D42) -> 150000 | E45: =SUM(E37,E42) -> 0 | F45: =SUM(F37,F42) -> 0 | G45: =SUM(G37,G42) -> 130387 | H45: =SUM(H37,H42) -> 130000 | I45: =SUM(I37,I42) -> 114212 | J45: =SUM(J37,J42) -> 150000 | ... L45: =SUM(L37,L42) -> 0 | M45: =SUM(C45,E45,G45,I45,K45) -> 386237 | N45: =SUM(D45,F45,H45,J45,L45) -> 430000
A46: Közüzemi díjak | B46: K331 | C46: =SUM(C47:C49) -> 501924 | D46: =SUM(D47:D49) -> 850000 | E46: =SUM(E47:E49) -> 140987 | F46: =SUM(F47:F49) -> 150000 | G46: =SUM(G47:G49) -> 640361 | H46: =SUM(H47:H49) -> 0 | I46: =SUM(I47:I49) -> 579896 | J46: =SUM(J47:J49) -> 560000 | ... L46: =SUM(L47:L49) -> 0 | M46: =SUM(C46,E46,G46,I46,K46) -> 1863168 | N46: =SUM(D46,F46,H46,J46,L46) -> 1560000
A47: Villamosenergia | D47: 200000 | E47: 140987 | F47: 150000 | J47: 235000 | M47: =SUM(C47,E47,G47,I47,K47) -> 140987 | N47: =SUM(D47,F47,H47,J47,L47) -> 585000
A48: Gázenergia | C48: 501924 | D48: 500000 | G48: 640361 | I48: 579896 | J48: 260000 | M48: =SUM(C48,E48,G48,I48,K48) -> 1722181 | N48: =SUM(D48,F48,H48,J48,L48) -> 760000
A49: Vízdíj | D49: 150000 | J49: 65000 | M49: =SUM(C49,E49,G49,I49,K49) -> 0 | N49: =SUM(D49,F49,H49,J49,L49) -> 215000
A50: Vásárolt élelmezés | B50: K332 | I50: 0 | M50: =SUM(C50,E50,G50,I50,K50) -> 0 | N50: =SUM(D50,F50,H50,J50,L50) -> 0
A51: Bérleti és lízing díjak | B51: K333 | I51: 0 | M51: =SUM(C51,E51,G51,I51,K51) -> 0 | N51: =SUM(D51,F51,H51,J51,L51) -> 0
A52: Karbantartási, kisjavítási szolgáltatások | B52: K334 | E52: 357745 | F52: 200000 | I52: 121614 | M52: =SUM(C52,E52,G52,I52,K52) -> 479359 | N52: =SUM(D52,F52,H52,J52,L52) -> 200000
A53: Szakmai tevékenységet segítő szolgáltatások | B53: K336 | C53: =SUM(C54:C56) -> 0 | D53: =SUM(D54:D56) -> 0 | E53: =SUM(E54:E56) -> 1600000 | F53: =SUM(F54:F56) -> 2250000 | G53: =SUM(G54:G56) -> 0 | H53: =SUM(H54:H56) -> 0 | I53: =SUM(I54:I56) -> 0 | J53: =SUM(J54:J56) -> 0 | ... L53: =SUM(L54:L56) -> 4000000 | M53: =SUM(C53,E53,G53,I53,K53) -> 5872500 | N53: =SUM(D53,F53,H53,J53,L53) -> 6250000
A54: Vásárolt közszolgáltatás | E54: 1600000 | F54: 2250000 | M54: =SUM(C54,E54,G54,I54,K54) -> 1600000 | N54: =SUM(D54,F54,H54,J54,L54) -> 2250000
A55: Számlázott szellemi tevékenység | M55: =SUM(C55,E55,G55,I55,K55) -> 0 | N55: =SUM(D55,F55,H55,J55,L55) -> 0
A56: Egyéb szakmai szolgáltatások | K56: 4272500 | L56: 4000000 | M56: =SUM(C56,E56,G56,I56,K56) -> 4272500 | N56: =SUM(D56,F56,H56,J56,L56) -> 4000000
A57: Egyéb szolgáltatások | B57: K337 | C57: =SUM(C58:C63) -> 43093 | D57: =SUM(D58:D63) -> 29000 | E57: =SUM(E58:E63) -> 0 | F57: =SUM(F58:F63) -> 0 | G57: =SUM(G58:G63) -> 554214 | H57: =SUM(H58:H63) -> 300000 | I57: =SUM(I58:I63) -> 20693 | J57: =SUM(J58:J63) -> 24000 | ... L57: =SUM(L58:L63) -> 0 | M57: =SUM(C57,E57,G57,I57,K57) -> 618000 | N57: =SUM(D57,F57,H57,J57,L57) -> 353000
A58: Biztosítási díjak | M58: =SUM(C58,E58,G58,I58,K58) -> 0 | N58: =SUM(D58,F58,H58,J58,L58) -> 0
A59: Bankköltségek | M59: =SUM(C59,E59,G59,I59,K59) -> 0 | N59: =SUM(D59,F59,H59,J59,L59) -> 0
A60: Szállítási szolgáltatási díjak | M60: =SUM(C60,E60,G60,I60,K60) -> 0 | N60: =SUM(D60,F60,H60,J60,L60) -> 0
A61: Postai díjak | D61: 5000 | M61: =SUM(C61,E61,G61,I61,K61) -> 0 | N61: =SUM(D61,F61,H61,J61,L61) -> 5000
A62: Szemétszállítás | C62: 5100 | D62: 24000 | I62: 20693 | J62: 24000 | M62: =SUM(C62,E62,G62,I62,K62) -> 25793 | N62: =SUM(D62,F62,H62,J62,L62) -> 48000
A63: Egyéb üzemeltetési szolgáltatások | C63: 37993 | G63: 554214 | H63: 300000 | M63: =SUM(C63,E63,G63,I63,K63) -> 592207 | N63: =SUM(D63,F63,H63,J63,L63) -> 300000
A64: Szolgáltatási kiadások | B64: K33 | C64: =SUM(C46,C50:C53,C57) -> 545017 | D64: =SUM(D46,D50:D53,D57) -> 879000 | E64: =SUM(E46,E50:E53,E57) -> 2098732 | F64: =SUM(F46,F50:F53,F57) -> 2600000 | G64: =SUM(G46,G50:G53,G57) -> 1194575 | H64: =SUM(H46,H50:H53,H57) -> 300000 | I64: =SUM(I46,I50:I53,I57) -> 722203 | J64: =SUM(J46,J50:J53,J57) -> 584000 | ... L64: =SUM(L46,L50:L53,L57) -> 4000000 | M64: =SUM(C64,E64,G64,I64,K64) -> 8833027 | N64: =SUM(D64,F64,H64,J64,L64) -> 8363000
A65: Kiküldetések kiadása | B65: K341 | M65: =SUM(C65,E65,G65,I65,K65) -> 0 | N65: =SUM(D65,F65,H65,J65,L65) -> 0
A66: Reklám- és propaganda ktg. | B66: K342 | M66: =SUM(C66,E66,G66,I66,K66) -> 0 | N66: =SUM(D66,F66,H66,J66,L66) -> 0
A67: Kiküldetések és reklám kiadások | B67: K34 | C67: =SUM(C65:C66) -> 0 | D67: =SUM(D65:D66) -> 0 | E67: =SUM(E65:E66) -> 0 | F67: =SUM(F65:F66) -> 0 | G67: =SUM(G65:G66) -> 0 | H67: =SUM(H65:H66) -> 0 | I67: =SUM(I65:I66) -> 0 | J67: =SUM(J65:J66) -> 0 | ... L67: =SUM(L65:L66) -> 0 | M67: =SUM(C67,E67,G67,I67,K67) -> 0 | N67: =SUM(D67,F67,H67,J67,L67) -> 0
A68: Működési célú előzetesen felszámított ÁFA | B68: K351 | C68: =SUM(C69:C70) -> 184385 | D68: =SUM(D69:D70) -> 299430 | E68: =SUM(E69:E70) -> 149275 | F68: =SUM(F69:F70) -> 724140 | G68: =SUM(G69:G70) -> 502763 | H68: =SUM(H69:H70) -> 280800 | I68: =SUM(I69:I70) -> 222283 | J68: =SUM(J69:J70) -> 198180 | ... L68: =SUM(L69:L70) -> 0 | M68: =SUM(C68,E68,G68,I68,K68) -> 1058706 | N68: =SUM(D68,F68,H68,J68,L68) -> 1502550
A69: Levonható ÁFA | M69: =SUM(C69,E69,G69,I69,K69) -> 0 | N69: =SUM(D69,F69,H69,J69,L69) -> 0
A70: Le nem vonható ÁFA | C70: 184385 | D70: =SUM(D36,D45,D64)*0.27 -> 299430 | E70: 149275 | F70: =SUM(F36,F45,F64)*0.27 -> 724140 | G70: 502763 | H70: =SUM(H36,H45,H64)*0.27 -> 280800 | I70: 222283 | J70: =SUM(J36,J45,J64)*0.27 -> 198180 | M70: =SUM(C70,E70,G70,I70,K70) -> 1058706 | N70: =SUM(D70,F70,H70,J70,L70) -> 1502550
A71: Fizetendő általános forgalmi adó | B71: K352 | M71: =SUM(C71,E71,G71,I71,K71) -> 0 | N71: =SUM(D71,F71,H71,J71,L71) -> 0
A72: Kamatkiadások | B72: K353 | M72: =SUM(C72,E72,G72,I72,K72) -> 0 | N72: =SUM(D72,F72,H72,J72,L72) -> 0
A73: Egyéb dologi kiadások | B73: K355 | C73: =SUM(C74:C76) -> 0 | E73: =SUM(E74:E76) -> 0 | G73: =SUM(G74:G76) -> 0 | I73: =SUM(I74:I76) -> 0 | K73: =SUM(K74:K76) -> 0 | M73: =SUM(C73,E73,G73,I73,K73) -> 0 | N73: =SUM(D73,F73,H73,J73,L73) -> 0
A74: Díjak, egyéb kifizetések | M74: =SUM(C74,E74,G74,I74,K74) -> 0 | N74: =SUM(D74,F74,H74,J74,L74) -> 0
A75: Késedelmi kamatok, pótlékok | M75: =SUM(C75,E75,G75,I75,K75) -> 0 | N75: =SUM(D75,F75,H75,J75,L75) -> 0
A76: Egyéb dologi kiadások | M76: =SUM(C76,E76,G76,I76,K76) -> 0 | N76: =SUM(D76,F76,H76,J76,L76) -> 0
A77: Különféle befizetések és egyéb dologi kiadások | B77: K35 | C77: =SUM(C73,C68,C71,C72) -> 184385 | D77: =SUM(D73,D68,D71,D72) -> 299430 | E77: =SUM(E73,E68,E71,E72) -> 149275 | F77: =SUM(F73,F68,F71,F72) -> 724140 | G77: =SUM(G73,G68,G71,G72) -> 502763 | H77: =SUM(H73,H68,H71,H72) -> 280800 | I77: =SUM(I73,I68,I71,I72) -> 222283 | J77: =SUM(J73,J68,J71,J72) -> 198180 | ... L77: =SUM(L73,L68,L71,L72) -> 0 | M77: =SUM(C77,E77,G77,I77,K77) -> 1058706 | N77: =SUM(D77,F77,H77,J77,L77) -> 1502550
A78: Dologi kiadások | B78: K3 | C78: =SUM(C77,C67,C64,C45,C36) -> 941691 | D78: =SUM(D77,D67,D64,D45,D36) -> 1408430 | E78: =SUM(E77,E67,E64,E45,E36) -> 2336911 | F78: =SUM(F77,F67,F64,F45,F36) -> 3406140 | G78: =SUM(G77,G67,G64,G45,G36) -> 2457560 | H78: =SUM(H77,H67,H64,H45,H36) -> 1320800 | I78: =SUM(I77,I67,I64,I45,I36) -> 1150758 | J78: =SUM(J77,J67,J64,J45,J36) -> 932180 | ... L78: =SUM(L77,L67,L64,L45,L36) -> 4000000 | M78: =SUM(C78,E78,G78,I78,K78) -> 11159420 | N78: =SUM(D78,F78,H78,J78,L78) -> 11067550
A79: Mindösszesen kiadás | C79: =C78+C21+C20 -> 4046059 | D79: =D78+D21+D20 -> 5221275 | E79: =E78+E21+E20 -> 5374867 | F79: =F78+F21+F20 -> 6535426 | G79: =G78+G21+G20 -> 6248325 | H79: =H78+H21+H20 -> 5124836 | I79: =I78+I21+I20 -> 1150758 | J79: =J78+J21+J20 -> 932180 | ... L79: =L78+L21+L20 -> 4000000 | M79: =SUM(C79,E79,G79,I79,K79) -> 21092509 | N79: =SUM(D79,F79,H79,J79,L79) -> 21813717

Sheet 11. melléklet Közfoglalkoztatás
A1: 11. melléklet az 1/2021. (III.08.) önkormányzati rendelethez
A3: Dánszentmiklós KÖZSÉG ÖNKORMÁNYZAT KIADÁSAI közfoglalkoztatási feladat ellátás 2021. év
A5: Rovat megnevezése | B5: Rovat száma | C5: Közfoglalkoztatási program (041232)
C6: 2020. évi teljesítés | D6: 2021. évi eredeti
A7: Törvény szerinti illetmények | B7: K1101 | C7: 4605615 | D7: 4890720
A8: Céljuttatás, projekt prémium | B8: K1103
A9: Végkielégítés | B9: K1105
A10: Jubileumi jutalom | B10: K1106
A11: Béren kívüli juttatások | B11: K1107
A12: Közlekedési költségtérítés | B12: K1109
A13: Egyéb költségtérítések | B13: K1110
A14: Egyéb személyi jellegű ráfordítások | B14: K1113
A15: Foglalkoztatottak személyi juttatásai | B15: K11 | C15: =SUM(C7:C14) -> 4605615 | D15: =SUM(D7:D14) -> 4890720
A16: Választott tisztségviselők juttatásai | B16: K121
A17: Munkavégzésre irányuló egyéb jogviszonyban nem saját foglalkoztatottnak fizetett juttatások | B17: K122
A18: Egyéb külső személyi juttatások | B18: K123
A19: Külső személyi juttatások | B19: K12 | C19: =SUM(C16:C18) -> 0 | D19: =SUM(D16:D18) -> 0
A20: Személyi juttatások | B20: K1 | C20: =C19+C15 -> 4605615 | D20: =D19+D15 -> 4890720
A21: Munkaadókat terhelő járulékok és szochó | B21: K2 | C21: =C20*0.195 -> 898094.93 | D21: =D20*0.175 -> 855876
A22: Mindösszesen | C22: =SUM(C20:C21) -> 5503709.9 | D22: =SUM(D20:D21) -> 5746596

Sheet 13 melléklet Átadott pénzeszköz
A1: 13. melléklet az 1/2021. (III.08.) önkormányzati rendelethez
A5: Dánszentmiklós Község Önkormányzat 2021.évi átadott pénzeszközök jogcímenként
D7: adatok Ft-ban
A8: Sorszám | B8: Jogcím | C8: 2020. évi eredeti előirányzat | D8: 2021. évi eredeti előirányzat
A10: 1. | B10: Államháztartáson kívüli működési célú pénzeszköz átadás (K512) | C10: =SUM(C11) -> 150000 | D10: =SUM(D11) -> 0
B11: Civil szervezetek támogatása pályázat útján (polgármesteri hatáskör) Kutyamentsvár Alap. | C11: 150000
A12: 2. | B12: Államháztartáson belüli működési célú pénzeszköz átadás (K506) | C12: =C13+C16 -> 3704811 | D12: =C12 -> 3704811
A13: 2.1 | B13: Kistérségi szociális célú feladatok (K506) | C13: =SUM(C14:C15) -> 3554811 | D13: =SUM(D14:D15) -> 3554811
B14: Humánszolgáltató Társulás | C14: 431550 | D14: 431550
B15: Albertirsai Segítőház | C15: 3123261 | D15: 3123261
A16: 2.2 | B16: Egyéb önkormányzati rendeletben szabályzott támogatás (K506) | C16: =C17 -> 150000 | D16: =D17 -> 150000
A17: 1 | B17: Bursa Hungarica ösztöndíj | C17: 150000 | D17: 150000
A18: 8.1. | B18: Átadott pénzeszközök összesen | C18: =C10+C12 -> 3854811 | D18: =D10+D12 -> 3704811

Sheet 12 melléklet Települési támogat
A1: 12. melléklet az 1/2021. (III.08.) önkormányzati rendelethez
A3: Dánszentmiklós Község Önkormányzat 2021.évi ellátottak pénzbeli juttatásai kiadási előirányzatai jogcímenként
D5: adatok Ft-ban
A6: Sorszám | B6: Jogcímek | C6: 2020. évi teljesítés | D6: 2021. évi eredeti előirányzat
A7: 4.1.1. | B7: Települési támogatások szoc.tv.45§ (K48) | C7: =SUM(C8:C14) -> 14520873 | D7: =SUM(D8:D14) -> 14900000
A8: 1. | B8: létfenntartási gondok enyhítése céljából rendkívüli települési támogatás iránti kérelmekről,107060) | C8: 3133516 | D8: 2500000
A9: 2. | B9: lakhatás támogatása iránti kérelmek (107060) | C9: 2000000 | D9: 2100000
A10: 3. | B10: karácsonyi támogatás (107060) | C10: 7500000 | D10: 7100000
A11: 4. | B11: elhunyt személy köztemetése (107060) | C11: 395000 | D11: 400000
A12: 5. | B12: Babaköszöntő ajándék | C12: 275000 | D12: 300000
A13: 6. | B13: Bölcsöde finanszírozása | C13: 300000 | D13: 1500000
A14: 7 | B14: Szociális lakás fenntartási ktg. | C14: 917357 | D14: 1000000
A15: Összesen: | C15: =C7 -> 14520873 | D15: =D7 -> 14900000

Sheet 14mellBeruházások felújítások
A1: 14. melléklet az 1/2021. (III.08.) önkormányzati rendelethez
A3: Dánszentmiklós Község Önkormányzatának beruházási és felújításai tábla 2021. év
A6: Rovat megnevezése | B6: Rovat száma | C6: 2020. évi teljesítés | D6: 2021. évi eredi előirányzat
A7: Immateriális javak beszerzése, létesítése | B7: K61 | C7: =SUM(C8:C10) -> 542700 | D7: =SUM(D8:D10) -> 4390000
A8: Temető program | D8: 380000
C9: 542700
A10: Területrendezési terv módosítás | D10: 4010000
A11: Ingatlanok beszerzése, létesítése | B11: K62 | C11: =SUM(C12:C13) -> 1600000 | D11: =SUM(D12:D13) -> 0
A12: Egészségház parkolóhoz | C12: 1600000
A14: Informatikai eszközök beszerzése, létesítése | B14: K63 | C14: =SUM(C15) -> 1111101 | D14: =SUM(D15:D16) -> 0
C15: 1111101
A17: Egyéb tárgyi eszközök beszerzése, létesítése | B17: K64 | C17: =SUM(C18:C19) -> 8649982 | D17: =SUM(D18:D19) -> 84300000
C18: 8649982
A19: Víztorny pályázat+ önerő | D19: 84300000
A20: Beruházási célú előzetesen felszámított általános forgalmi adó | B20: K67 | C20: =SUM(C21:C24) -> 3100678 | D20: =SUM(D21:D24) -> 931500
A21: Területrendezési terv módosítás | D21: 931500
C24: 3100678
A25: Elmib részvények beszerzése 2018. évi része | B25: K66 | C25: 3006684 | D25: 3096732
A26: Beruházások | B26: K6 | C26: =SUM(C20,C17,C14,C11,C7,C25) -> 18011145 | D26: =SUM(D20,D17,D14,D11,D7,D25) -> 92718232
A27: Ingatlanok felújítása | B27: K71 | C27: =SUM(C28:C31) -> 30070565 | D27: =SUM(D28:D31) -> 57480200
A28: Útfelújítás pályázat szeritn | D28: 51181000
C29: 30070565
A30: Muskátli utacában út felújítás | D30: 6299200
A32: Egyéb tárgyi eszközök felújítása | B32: K73 | C32: =SUM(C33:C33) -> 0 | D32: =SUM(D33:D33) -> 0
A34: Felújítási célú előzetesen felszámított általános forgalmi adó | B34: K74 | C34: =SUM(C35:C38) -> 8011052 | D34: =SUM(D35:D38) -> 15519800
A35: Útfelújítás ÁFA | D35: 13819000
C36: 8011052 | D36: =D29*0.27 -> 0
A37: Muskátli utacában út felújítás | D37: 1700800
C38: =C31*0.27 -> 0 | D38: =D31*0.27 -> 0
A39: Felújítások | B39: K7 | C39: =SUM(C27,C34,C32) -> 38081617 | D39: =SUM(D27,D34,D32) -> 73000000

Sheet 15 mell Tartalék
A1: 15. melléklet az 1/2021. (III.08.) önkormányzati rendelethez
A3: Dánszentmiklós Község Önkormányzatának Tartalék táblázata 2021. évre
B5: Dánszentmiklós Község Önkormányzat 2021. évi szabad maradvány
B7: Banki egyenleg | C7: =SUM(C8:C9) -> 186769314
B8: Főszámla | C8: 178600493
B9: Közfoglalkoztatási számla | C9: 8168821
B11: Ebből kötelezettséggel terhelt összeg
B12: Főszámlán megelőlegezés visszafizetése | C12: 8280974
B13: Víztorny támogatás | C13: 84300000
B14: Útfelújítási támogatás | C14: 65000000
B15: Értékpapír vásárlás | C15: 10000000
B16: Jóteljesítési garancia | C16: 1509253
B17: Tavalyi évet terhelő elmaradt számlázás | C17: 2500000
B20: Mindösszesen kötött felhasználású pénzeszköz | C20: =SUM(C12:C19) -> 171590227
B21: Tartalék általános | C21: =C7-C20 -> 15179087

Sheet 16mellIntézményi összesített
A1: 16. melléklet az 1/2021. (III.08.) önkormányzati rendelethez
A3: Dánszentmiklós Község Önkormányzata fenntartása alatt működő költségvetési szervek összesített 2021. évi költségvetési tábla
I4: adatok Ft-ban
A5: Megnevezés/Intézmény felhasználó megnevezése | B5: Feladat | C5: Mosolygó Alma Óvoda és egységes Óvoda-Bölcsőde | E5: Művelődési és Sportház | G5: Dánszentmiklósi Polgármesteri Hivatal | I5: Mindösszesen
C6: 2020. évi teljesítés | D6: 2021. évi eredeti előirányzat | E6: 2020. évi teljesítés | F6: 2021. évi eredeti előirányzat | G6: 2020. évi teljesítés | H6: 2021. évi eredeti előirányzat | I6: 2020. évi teljesítés | J6: 2021. évi eredeti előirányzat
A8: Személyi jellegű ráfordítások K1 | B8: Kötelező | C8: ='17mell Óvoda'!D23 -> 64173566 | D8: ='17mell Óvoda'!E23 -> 70764174 | E8: ='18 mellMűvelődési Ház'!D25 -> 13247088 | F8: ='18 mellMűvelődési Ház'!E25 -> 14806230 | G8: ='19 Hivatal költségvetése'!D25 -> 25908170 | H8: ='19 Hivatal költségvetése'!E25 -> 28541268 | I8: =SUM(C8,E8,G8) -> 103328824 | J8: =SUM(D8,F8,H8) -> 114111672
A9: Munkaadókat terhelő járulékok K2 | B9: Kötelező | C9: ='17mell Óvoda'!D24 -> 10916538 | D9: ='17mell Óvoda'!E24 -> 10685370 | E9: ='18 mellMűvelődési Ház'!D26 -> 2276461 | F9: ='18 mellMűvelődési Ház'!E26 -> 2452983 | G9: ='19 Hivatal költségvetése'!D26 -> 4402564 | H9: ='19 Hivatal költségvetése'!E26 -> 4217432 | I9: =SUM(C9,E9,G9) -> 17595563 | J9: =SUM(D9,F9,H9) -> 17355785
A10: Dologi kiadások K3 | B10: Kötelező | C10: ='17mell Óvoda'!D79 -> 7397204 | D10: ='17mell Óvoda'!E79 -> 6116200 | E10: ='18 mellMűvelődési Ház'!D82 -> 7100718 | F10: ='18 mellMűvelődési Ház'!E82 -> 7857000 | G10: ='19 Hivatal költségvetése'!D82 -> 10168823 | H10: ='19 Hivatal költségvetése'!E82 -> 10406427 | I10: =SUM(C10,E10,G10) -> 24666745 | J10: =SUM(D10,F10,H10) -> 24379627
A11: Beruházások K6 | B11: Kötelező | C11: ='17mell Óvoda'!D99 -> 237448.09 | D11: ='17mell Óvoda'!E99 -> 1524000 | E11: ='18 mellMűvelődési Ház'!D91 -> 905500 | F11: ='18 mellMűvelődési Ház'!E91 -> 1580370 | G11: ='19 Hivatal költségvetése'!D92 -> 606351 | H11: ='19 Hivatal költségvetése'!E92 -> 317500 | I11: =SUM(C11,E11,G11) -> 1749299.1 | J11: =SUM(D11,F11,H11) -> 3421870
A12: Felújítások K7 | B12: Kötelező | C12: ='17mell Óvoda'!D104 -> 0 | D12: ='17mell Óvoda'!E104 -> 0 | E12: ='18 mellMűvelődési Ház'!D99 -> 983000 | F12: ='18 mellMűvelődési Ház'!E99 -> 0 | G12: ='19 Hivatal költségvetése'!D100 -> 0 | H12: ='19 Hivatal költségvetése'!E100 -> 0 | I12: =SUM(C12,E12,G12) -> 983000 | J12: =SUM(D12,F12,H12) -> 0
A13: Mindösszesen kiadás intézmény: | B13: Kötelező | C13: =SUM(C8:C12) -> 82724756 | D13: =SUM(D8:D12) -> 89089744 | E13: =SUM(E8:E12) -> 24512767 | F13: =SUM(F8:F12) -> 26696583 | G13: =SUM(G8:G12) -> 41085908 | H13: =SUM(H8:H12) -> 43482627 | I13: =SUM(I8:I12) -> 1.4832343e+08 | J13: =SUM(J8:J12) -> 1.5926895e+08
A14: Működési célú bevételek B16 | B14: Kötelező | I14: =SUM(C14,E14,G14) -> 0 | J14: =SUM(D14,F14,H14) -> 0
A15: Működési bevételek B4 | B15: Kötelező | C15: ='17mell Óvoda'!D107+'17mell Óvoda'!D108 -> 22193 | D15: ='17mell Óvoda'!E107+'17mell Óvoda'!E108 -> 0 | E15: ='18 mellMűvelődési Ház'!D102+'18 mellMűvelődési Ház'!D103 -> 5363826 | F15: ='18 mellMűvelődési Ház'!E102+'18 mellMűvelődési Ház'!E103 -> 7000000 | G15: ='19 Hivatal költségvetése'!D103 -> 557741 | H15: ='19 Hivatal költségvetése'!E103 -> 300000 | I15: =SUM(C15,E15,G15) -> 5943760 | J15: =SUM(D15,F15,H15) -> 7300000
A16: Működési célú kapott támogatások B6 | B16: Kötelező | E16: ='18 mellMűvelődési Ház'!D104 -> 0 | F16: ='18 mellMűvelődési Ház'!E104 -> 0 | I16: =SUM(C16,E16,G16) -> 0 | J16: =SUM(D16,F16,H16) -> 0
A17: Előző év költségvetési maradványának igénybevétele B813 | B17: Kötelező | C17: ='17mell Óvoda'!J109 -> 512329 | D17: ='17mell Óvoda'!K109 -> 0 | E17: ='18 mellMűvelődési Ház'!F105 -> 613428 | F17: ='18 mellMűvelődési Ház'!G105 -> 3809993 | G17: ='19 Hivatal költségvetése'!D104 -> 847725 | H17: ='19 Hivatal költségvetése'!E104 -> 587127 | I17: =SUM(C17,E17,G17) -> 1973482 | J17: =SUM(D17,F17,H17) -> 4397120
A18: Központi, irányítószervi támogatás B816 | B18: Kötelező | C18: ='17mell Óvoda'!D110 -> 82190234 | D18: ='17mell Óvoda'!E110 -> 89089744 | E18: ='18 mellMűvelődési Ház'!D106 -> 18535513 | F18: ='18 mellMűvelődési Ház'!E106 -> 15886590 | G18: ='19 Hivatal költségvetése'!D105 -> 39680442 | H18: ='19 Hivatal költségvetése'!E105 -> 42595500 | I18: =SUM(C18,E18,G18) -> 1.4040619e+08 | J18: =SUM(D18,F18,H18) -> 1.4757183e+08
A19: Mindösszesen bevétel intézmény: | C19: =SUM(C14:C18) -> 82724756 | D19: =SUM(D14:D18) -> 89089744 | E19: =SUM(E14:E18) -> 24512767 | F19: =SUM(F14:F18) -> 26696583 | G19: =SUM(G14:G18) -> 41085908 | H19: =SUM(H14:H18) -> 43482627 | I19: =SUM(I14:I18) -> 1.4832343e+08 | J19: =SUM(J14:J18) -> 1.5926895e+08
A20: Ellenőrző sor | C20: =C19-C13 -> 0 | D20: =D13-D19 -> 0 | E20: =E19-E13 -> 0 | F20: =F19-F13 -> 0 | G20: =G19-G13 -> 0 | H20: =H19-H13 -> 0 | I20: =I19-I13 -> 0 | J20: =J19-J13 -> 0

Sheet 17mell Óvoda
A1: 17. melléklet az 1/2021. (III.08.) önkormányzati rendelethez
B2: Mosolygó Alma Óvoda és egységes Óvod- Bölcsőde 2021. évi költségvetési táblája
F3: Kötelező feladatellátás
A4: Sorszám | B4: Rovat megnevezése | C4: Rovat száma | D4: Mindösszesen | F4: Bölcsődei feladatok | H4: Óvodai nevelés, szakmai feladatok (COFOG: 091110) | J4: Óvodai nevelés, működési feladatok (091140) | L4: ÓVODA MINDÖSSZESEN
D5: 2020. évi teljesítés | E5: 2021. évi eredeti | F5: 2020. évi teljesítés | G5: 2021. évi eredeti | H5: 2020. évi teljesítés | I5: 2021. évi eredeti | J5: 2020. évi teljesítés | K5: 2021. évi eredeti | L5: 2020. évi teljesítés | M5: 2021. évi eredeti
A7: 1 | B7: Törvény szerinti illetmények, munkabérek | C7: K1101 | D7: =SUM(L7) -> 60794095 | E7: =M7 -> 62991574 | G7: 9810930 | H7: 60794095 | I7: 51344494 | K7: 1836150 | L7: =SUM(F7,H7,J7) -> 60794095 | M7: =SUM(G7,I7,K7) -> 62991574
A8: 2 | B8: Normatív jutalmak | C8: K1102 | D8: =SUM(L8) -> 232597 | E8: =M8 -> 0 | H8: 232597 | L8: =SUM(F8,H8,J8) -> 232597 | M8: =SUM(G8,I8,K8) -> 0
A9: 3 | B9: Céljuttatás, projektprémium | C9: K1103 | D9: =SUM(L9) -> 0 | E9: =M9 -> 0 | L9: =SUM(F9,H9,J9) -> 0 | M9: =SUM(G9,I9,K9) -> 0
A10: 4 | B10: Készenléti, ügyeleti, helyettesítési díj, túlóra, túlszolgálat | C10: K1104 | D10: =SUM(L10) -> 0 | E10: =M10 -> 0 | J10: 0 | L10: =SUM(F10,H10,J10) -> 0 | M10: =SUM(G10,I10,K10) -> 0
A11: 5 | B11: Végkielégítés | C11: K1105 | D11: =SUM(L11) -> 0 | E11: =M11 -> 0 | L11: =SUM(F11,H11,J11) -> 0 | M11: =SUM(G11,I11,K11) -> 0
A12: 6 | B12: Jubileumi jutalom | C12: K1106 | D12: =SUM(L12) -> 0 | E12: =M12 -> 3471300 | I12: 3471300 | L12: =SUM(F12,H12,J12) -> 0 | M12: =SUM(G12,I12,K12) -> 3471300
A13: 7 | B13: Béren kívüli juttatások | C13: K1107 | D13: =SUM(L13) -> 1728000 | E13: =M13 -> 2475000 | F13: 288000 | G13: 450000 | H13: 1344000 | I13: 1950000 | J13: 96000 | K13: 75000 | L13: =SUM(F13,H13,J13) -> 1728000 | M13: =SUM(G13,I13,K13) -> 2475000
A14: 8 | B14: Ruházati költségtérítés | C14: K1108 | D14: =SUM(L14) -> 0 | E14: =M14 -> 0 | L14: =SUM(F14,H14,J14) -> 0 | M14: =SUM(G14,I14,K14) -> 0
A15: 9 | B15: Közlekedési költségtérítés | C15: K1109 | D15: =SUM(L15) -> 273815 | E15: =M15 -> 425000 | H15: 273815 | I15: 425000 | L15: =SUM(F15,H15,J15) -> 273815 | M15: =SUM(G15,I15,K15) -> 425000
A16: 10 | B16: Egyéb költségtérítések | C16: K1110 | D16: =SUM(L16) -> 0 | E16: =M16 -> 0 | L16: =SUM(F16,H16,J16) -> 0 | M16: =SUM(G16,I16,K16) -> 0
A17: 11 | B17: Lakhatási támogatások | C17: K1111 | D17: =SUM(L17) -> 0 | E17: =M17 -> 0 | L17: =SUM(F17,H17,J17) -> 0 | M17: =SUM(G17,I17,K17) -> 0
A18: 12 | B18: Szociális támogatások | C18: K1112 | D18: =SUM(L18) -> 0 | E18: =M18 -> 0 | L18: =SUM(F18,H18,J18) -> 0 | M18: =SUM(G18,I18,K18) -> 0
A19: 13 | B19: Foglalkoztatottak egyéb személyi juttatásai | C19: K1113 | D19: =SUM(L19) -> 1145059 | E19: =M19 -> 216000 | F19: 36000 | G19: 36000 | H19: 1097059 | I19: 168000 | J19: 12000 | K19: 12000 | L19: =SUM(F19,H19,J19) -> 1145059 | M19: =SUM(G19,I19,K19) -> 216000
A20: 14 | B20: Foglalkoztatottak személyi juttatásai (=01+...+13) | C20: K11 | D20: =SUM(L20) -> 64173566 | E20: =M20 -> 69578874 | F20: =SUM(F7:F19) -> 324000 | G20: =SUM(G7:G19) -> 10296930 | H20: =SUM(H7:H19) -> 63741566 | I20: =SUM(I7:I19) -> 57358794 | J20: =SUM(J7:J19) -> 108000 | K20: =SUM(K7:K19) -> 1923150 | L20: =SUM(F20,H20,J20) -> 64173566 | M20: =SUM(G20,I20,K20) -> 69578874
A21: 15 | B21: Reprezentáció | C21: K123 | D21: =SUM(L21) -> 0 | E21: =M21 -> 0 | L21: =SUM(F21,H21,J21) -> 0 | M21: =SUM(G21,I21,K21) -> 0
A22: 16 | B22: Külső személyi juttatások (=15+16+17) | C22: K12 | D22: =SUM(L22) -> 0 | E22: =M22 -> 1185300 | F22: =SUM(F21:F21) -> 0 | G22: =SUM(G21:G21) -> 0 | I22: 1185300 | K22: =SUM(K21:K21) -> 0 | L22: =SUM(F22,H22,J22) -> 0 | M22: =SUM(G22,I22,K22) -> 1185300
A23: 17 | B23: Személyi juttatások (=14+18) | C23: K1 | D23: =SUM(L23) -> 64173566 | E23: =M23 -> 70764174 | F23: =SUM(F22,F20) -> 324000 | G23: =SUM(G22,G20) -> 10296930 | H23: =SUM(H22,H20) -> 63741566 | I23: =SUM(I22,I20) -> 58544094 | J23: =SUM(J22,J20) -> 108000 | K23: =SUM(K22,K20) -> 1923150 | L23: =SUM(F23,H23,J23) -> 64173566 | M23: =SUM(G23,I23,K23) -> 70764174
A24: 18 | B24: Munkaadókat terhelő járulékok és szociális hozzájárulási adó | C24: K2 | D24: =SUM(L24) -> 10916538 | E24: =M24 -> 10685370 | G24: =(G7+G8+G13)*0.155 -> 1590444.1 | H24: 10916538 | I24: =(I7+I8+I13+I12)*0.155 -> 8798698.1 | K24: =(K7+K8+K13)*0.155 -> 296228.25 | L24: =SUM(F24,H24,J24) -> 10916538 | M24: =SUM(G24,I24,K24) -> 10685370
A25: I. SZEMÉLYI JELLEGŰ RÁFORDÍTÁSOK ÉS JÁRULÉKOK MINDÖSSZESEN | D25: =SUM(L25) -> 75090104 | E25: =M25 -> 81449544 | F25: =SUM(F24,F23) -> 324000 | G25: =SUM(G24,G23) -> 11887374 | H25: =SUM(H24,H23) -> 74658104 | I25: =SUM(I24,I23) -> 67342792 | J25: =SUM(J24,J23) -> 108000 | K25: =SUM(K24,K23) -> 2219378.2 | L25: =SUM(F25,H25,J25) -> 75090104 | M25: =SUM(G25,I25,K25) -> 81449544
A26: 19 | B26: Szakmai anyagok beszerzése | C26: K311 | D26: =SUM(L26) -> 312845 | E26: =M26 -> 0 | F26: =SUM(F27:F30) -> 0 | G26: =SUM(G27:G30) -> 0 | H26: =SUM(H27:H30) -> 0 | I26: =SUM(I27:I30) -> 0 | J26: =SUM(J27:J30) -> 312845 | K26: =SUM(K27:K30) -> 0 | L26: =SUM(F26,H26,J26) -> 312845 | M26: =SUM(G26,I26,K26) -> 0
A27: 20 | B27: Könyvbeszerzés | D27: =SUM(L27) -> 0 | E27: =M27 -> 0 | L27: =SUM(F27,H27,J27) -> 0 | M27: =SUM(G27,I27,K27) -> 0
A28: 21 | B28: Vegyszer beszerzés | D28: =SUM(L28) -> 0 | E28: =M28 -> 0 | L28: =SUM(F28,H28,J28) -> 0 | M28: =SUM(G28,I28,K28) -> 0
A29: 22 | B29: egyéb szakmai anyag beszerzés (fejlesztő játékok) | D29: =SUM(L29) -> 312845 | E29: =M29 -> 0 | J29: 312845 | L29: =SUM(F29,H29,J29) -> 312845 | M29: =SUM(G29,I29,K29) -> 0
A30: 23 | B30: óvodai éves beszámoló csomag | D30: =SUM(L30) -> 0 | E30: =M30 -> 0 | L30: =SUM(F30,H30,J30) -> 0 | M30: =SUM(G30,I30,K30) -> 0
A31: 24 | B31: Üzemeltetési anyagok beszerzése | C31: K312 | D31: =SUM(L31) -> 882542 | E31: =M31 -> 500000 | F31: =SUM(F32:F37) -> 0 | G31: =SUM(G32:G37) -> 30000 | H31: =SUM(H32:H37) -> 0 | I31: =SUM(I32:I37) -> 240000 | J31: =SUM(J32:J37) -> 882542 | K31: =SUM(K32:K37) -> 230000 | L31: =SUM(F31,H31,J31) -> 882542 | M31: =SUM(G31,I31,K31) -> 500000
A32: 25 | B32: Irodaszerbeszerzés | D32: =SUM(L32) -> 0 | E32: =M32 -> 0 | L32: =SUM(F32,H32,J32) -> 0 | M32: =SUM(G32,I32,K32) -> 0
A33: 26 | B33: Munkaruha,védőruha beszerzés | D33: =SUM(L33) -> 0 | E33: =M33 -> 270000 | G33: 30000 | I33: 240000 | L33: =SUM(F33,H33,J33) -> 0 | M33: =SUM(G33,I33,K33) -> 270000
A34: 27 | B34: Egyéb üzemeltetési anyagok | D34: =SUM(L34) -> 882542 | E34: =M34 -> 0 | J34: 882542 | L34: =SUM(F34,H34,J34) -> 882542 | M34: =SUM(G34,I34,K34) -> 0
A35: 28 | B35: Karbantartási anyag beszerzési | D35: =SUM(L35) -> 0 | E35: =M35 -> 230000 | K35: 230000 | L35: =SUM(F35,H35,J35) -> 0 | M35: =SUM(G35,I35,K35) -> 230000
A36: 29 | B36: számítástechnikai anyag | D36: =SUM(L36) -> 0 | E36: =M36 -> 0 | L36: =SUM(F36,H36,J36) -> 0 | M36: =SUM(G36,I36,K36) -> 0
A37: 30 | B37: Tisztítószer beszerzés | D37: =SUM(L37) -> 0 | E37: =M37 -> 0 | L37: =SUM(F37,H37,J37) -> 0 | M37: =SUM(G37,I37,K37) -> 0
A38: 31 | B38: Készletbeszerzés összesen | C38: K31 | D38: =SUM(L38) -> 1195387 | E38: =M38 -> 500000 | F38: =SUM(F26,F31) -> 0 | G38: =SUM(G26,G31) -> 30000 | H38: =SUM(H26,H31) -> 0 | I38: =SUM(I26,I31) -> 240000 | J38: =SUM(J26,J31) -> 1195387 | K38: =SUM(K26,K31) -> 230000 | L38: =SUM(F38,H38,J38) -> 1195387 | M38: =SUM(G38,I38,K38) -> 500000
A39: 32 | B39: Informatikai szolgáltatások igénybevétele | C39: K321 | D39: =SUM(L39) -> 31900 | E39: =M39 -> 70400 | F39: =F40 -> 0 | G39: =G40 -> 0 | H39: =H40 -> 0 | I39: =I40 -> 0 | J39: =J40 -> 31900 | K39: =K40 -> 70400 | L39: =SUM(F39,H39,J39) -> 31900 | M39: =SUM(G39,I39,K39) -> 70400
A40: 33 | B40: Rendszerkarbantartási díjak | D40: =SUM(L40) -> 31900 | E40: =M40 -> 70400 | J40: 31900 | K40: 70400 | L40: =SUM(F40,H40,J40) -> 31900 | M40: =SUM(G40,I40,K40) -> 70400
A41: 34 | B41: Egyéb kommunikációs szolgáltatások | C41: K322 | D41: =SUM(L41) -> 155755 | E41: =M41 -> 184800 | F41: =SUM(F42:F43) -> 0 | G41: =SUM(G42:G43) -> 34800 | H41: =SUM(H42:H43) -> 0 | I41: =SUM(I42:I43) -> 0 | J41: =SUM(J42:J43) -> 155755 | K41: =SUM(K42:K43) -> 150000 | L41: =SUM(F41,H41,J41) -> 155755 | M41: =SUM(G41,I41,K41) -> 184800
A42: 35 | B42: Mobil telefon | D42: =SUM(L42) -> 0 | E42: =M42 -> 0 | L42: =SUM(F42,H42,J42) -> 0 | M42: =SUM(G42,I42,K42) -> 0
A43: 36 | B43: Vezetékes telefon | D43: =SUM(L43) -> 155755 | E43: =M43 -> 184800 | G43: 34800 | J43: 155755 | K43: 150000 | L43: =SUM(F43,H43,J43) -> 155755 | M43: =SUM(G43,I43,K43) -> 184800
A44: 37 | B44: Kommunikációs szolgáltatások | C44: K32 | D44: =SUM(L44) -> 187655 | E44: =M44 -> 255200 | F44: =SUM(F39,F41) -> 0 | G44: =SUM(G39,G41) -> 34800 | H44: =SUM(H39,H41) -> 0 | I44: =SUM(I39,I41) -> 0 | J44: =SUM(J39,J41) -> 187655 | K44: =SUM(K39,K41) -> 220400 | L44: =SUM(F44,H44,J44) -> 187655 | M44: =SUM(G44,I44,K44) -> 255200
A45: 38 | B45: Közüzemi díjak | C45: K331 | D45: =SUM(L45) -> 1959034 | E45: =M45 -> 1950000 | F45: =SUM(F46:F48) -> 0 | G45: =SUM(G46:G48) -> 100000 | H45: =SUM(H46:H48) -> 0 | I45: =SUM(I46:I48) -> 0 | J45: =SUM(J46:J48) -> 1959034 | K45: =SUM(K46:K48) -> 1850000 | L45: =SUM(F45,H45,J45) -> 1959034 | M45: =SUM(G45,I45,K45) -> 1950000
A46: 39 | B46: Villamos energia | D46: =SUM(L46) -> 0 | E46: =M46 -> 300000 | G46: 100000 | K46: 200000 | L46: =SUM(F46,H46,J46) -> 0 | M46: =SUM(G46,I46,K46) -> 300000
A47: 40 | B47: Gáz energia szolgáltatási díjak | D47: =SUM(L47) -> 1959034 | E47: =M47 -> 1300000 | J47: 1959034 | K47: 1300000 | L47: =SUM(F47,H47,J47) -> 1959034 | M47: =SUM(G47,I47,K47) -> 1300000
A48: 41 | B48: Víz díj | D48: =SUM(L48) -> 0 | E48: =M48 -> 350000 | K48: 350000 | L48: =SUM(F48,H48,J48) -> 0 | M48: =SUM(G48,I48,K48) -> 350000
A49: 42 | B49: Vásárolt élelmezés | C49: K332 | D49: =SUM(L49) -> 0 | E49: =M49 -> 0 | F49: =F50 -> 0 | G49: =G50 -> 0 | H49: =H50 -> 0 | I49: =I50 -> 0 | J49: =J50 -> 0 | K49: =K50 -> 0 | L49: =SUM(F49,H49,J49) -> 0 | M49: =SUM(G49,I49,K49) -> 0
A50: 43 | B50: Gyermek étkeztetés beszerzés | D50: =SUM(L50) -> 0 | E50: =M50 -> 0 | L50: =SUM(F50,H50,J50) -> 0 | M50: =SUM(G50,I50,K50) -> 0
A51: 44 | B51: Bérleti és lízing díjak | C51: K333 | D51: =SUM(L51) -> 0 | E51: =M51 -> 0 | L51: =SUM(F51,H51,J51) -> 0 | M51: =SUM(G51,I51,K51) -> 0
A52: 45 | B52: Karbantartási, kisjavítási szolgáltatások | C52: K334 | D52: =SUM(L52) -> 747546 | E52: =M52 -> 330000 | J52: 747546 | K52: 330000 | L52: =SUM(F52,H52,J52) -> 747546 | M52: =SUM(G52,I52,K52) -> 330000
A53: 46 | B53: Közvetített szolgáltatások | C53: K335 | D53: =SUM(L53) -> 0 | E53: =M53 -> 0 | L53: =SUM(F53,H53,J53) -> 0 | M53: =SUM(G53,I53,K53) -> 0
A54: 47 | B54: Szakmai tevékenységet segítő szolgáltatások | C54: K336 | D54: =SUM(L54) -> 1217000 | E54: =M54 -> 1894000 | F54: =SUM(F55:F57) -> 120000 | G54: =SUM(G55:G57) -> 120000 | H54: =SUM(H55:H57) -> 0 | I54: =SUM(I55:I57) -> 310000 | J54: =SUM(J55:J57) -> 1097000 | K54: =SUM(K55:K57) -> 1464000 | L54: =SUM(F54,H54,J54) -> 1217000 | M54: =SUM(G54,I54,K54) -> 1894000
A55: 48 | B55: Logopédiai szolgáltatás, pszichológiai, orvosi viszgálata | D55: =SUM(L55) -> 1097000 | E55: =M55 -> 1224000 | J55: 1097000 | K55: 1224000 | L55: =SUM(F55,H55,J55) -> 1097000 | M55: =SUM(G55,I55,K55) -> 1224000
A56: 49 | B56: Egyéb szakmai szolgáltatás (2 fő dajka tanfolyamdíj, konferenciák) | D56: =SUM(L56) -> 0 | E56: =M56 -> 550000 | I56: 310000 | K56: 240000 | L56: =SUM(F56,H56,J56) -> 0 | M56: =SUM(G56,I56,K56) -> 550000
A57: 50 | B57: bölcsöde orvosi szolg. | D57: =SUM(L57) -> 120000 | E57: =M57 -> 120000 | F57: 120000 | G57: 120000 | L57: =SUM(F57,H57,J57) -> 120000 | M57: =SUM(G57,I57,K57) -> 120000
A58: 51 | B58: Egyéb szolgáltatások | C58: K337 | D58: =SUM(L58) -> 960584 | E58: =M58 -> 647000 | F58: =SUM(F59:F63) -> 0 | G58: =SUM(G59:G63) -> 0 | H58: =SUM(H59:H63) -> 0 | I58: =SUM(I59:I63) -> 0 | J58: =SUM(J59:J63) -> 960584 | K58: =SUM(K59:K63) -> 647000 | L58: =SUM(F58,H58,J58) -> 960584 | M58: =SUM(G58,I58,K58) -> 647000
A59: 52 | B59: Bankszámla vezetéshez kapcsolódó kiadások | D59: =SUM(L59) -> 61596 | E59: =M59 -> 60000 | J59: 61596 | K59: 60000 | L59: =SUM(F59,H59,J59) -> 61596 | M59: =SUM(G59,I59,K59) -> 60000
A60: 53 | B60: Postai szolgáltatás | D60: =SUM(L60) -> 8330 | E60: =M60 -> 10000 | J60: 8330 | K60: 10000 | L60: =SUM(F60,H60,J60) -> 8330 | M60: =SUM(G60,I60,K60) -> 10000
A61: 54 | B61: Külső adatvédelmi szolgáltatás | D61: =SUM(L61) -> 0 | E61: =M61 -> 300000 | K61: 300000 | L61: =SUM(F61,H61,J61) -> 0 | M61: =SUM(G61,I61,K61) -> 300000
A62: 55 | B62: Szemét szállítási díj | D62: =SUM(L62) -> 23964 | E62: =M62 -> 24000 | J62: 23964 | K62: 24000 | L62: =SUM(F62,H62,J62) -> 23964 | M62: =SUM(G62,I62,K62) -> 24000
A63: 56 | B63: Egyéb üzemeltetési szolgáltatások (rágcsálóírtás, munka- és tűzvédelmi feladatok, tűzoltókészülékek cseréje, foglalkozás eü.vizsgálat) | D63: =SUM(L63) -> 866694 | E63: =M63 -> 253000 | J63: 866694 | K63: 253000 | L63: =SUM(F63,H63,J63) -> 866694 | M63: =SUM(G63,I63,K63) -> 253000
A64: 57 | B64: Szolgáltatási kiadások | C64: K33 | D64: =SUM(L64) -> 4884164 | E64: =M64 -> 5576200 | F64: =SUM(F38,F44,F45,F49,F54,F58,F51,F52,F53) -> 120000 | G64: =SUM(G38,G44,G45,G49,G54,G58,G51,G52,G53) -> 284800 | H64: =SUM(H38,H44,H45,H49,H54,H58,H51,H52,H53) -> 0 | I64: =SUM(I38,I44,I45,I49,I54,I58,I51,I52,I53) -> 550000 | J64: =SUM(J45,J49,J54,J58,J51,J52,J53) -> 4764164 | K64: =SUM(K38,K44,K45,K49,K54,K58,K51,K52,K53) -> 4741400 | L64: =SUM(F64,H64,J64) -> 4884164 | M64: =SUM(G64,I64,K64) -> 5576200
A65: 58 | B65: Kiküldetések kiadásai | C65: K341 | D65: =SUM(L65) -> 0 | E65: =M65 -> 0 | L65: =SUM(F65,H65,J65) -> 0 | M65: =SUM(G65,I65,K65) -> 0
A66: 59 | B66: Reklám- és propagandakiadások | C66: K342 | D66: =SUM(L66) -> 0 | E66: =M66 -> 0 | L66: =SUM(F66,H66,J66) -> 0 | M66: =SUM(G66,I66,K66) -> 0
A67: 60 | B67: Kiküldetések, reklám- és propagandakiadások | C67: K34 | D67: =SUM(L67) -> 0 | E67: =M67 -> 0 | F67: =SUM(F65:F66) -> 0 | G67: =SUM(G65:G66) -> 0 | H67: =SUM(H65:H66) -> 0 | I67: =SUM(I65:I66) -> 0 | J67: =SUM(J65:J66) -> 0 | K67: =SUM(K65:K66) -> 0 | L67: =SUM(F67,H67,J67) -> 0 | M67: =SUM(G67,I67,K67) -> 0
A68: 61 | B68: Működési célú előzetesen felszámított általános forgalmi adó | C68: K351 | D68: =SUM(L68) -> 1127164 | E68: =M68 -> 540000 | G68: 70000 | J68: 1127164 | K68: 470000 | L68: =SUM(F68,H68,J68) -> 1127164 | M68: =SUM(G68,I68,K68) -> 540000
A69: 62 | B69: Fizetendő általános forgalmi adó | C69: K352 | D69: =SUM(L69) -> 0 | E69: =M69 -> 0 | L69: =SUM(F69,H69,J69) -> 0 | M69: =SUM(G69,I69,K69) -> 0
A70: 63 | B70: Kamatkiadások | C70: K353 | D70: =SUM(L70) -> 0 | E70: =M70 -> 0 | L70: =SUM(F70,H70,J70) -> 0 | M70: =SUM(G70,I70,K70) -> 0
A71: 64 | B71: Egyéb pénzügyi műveletek kiadásai | C71: K354 | D71: =SUM(L71) -> 0 | E71: =M71 -> 0 | L71: =SUM(F71,H71,J71) -> 0 | M71: =SUM(G71,I71,K71) -> 0
A72: 65 | B72: Egyéb dologi kiadások | C72: K355 | D72: =SUM(L72) -> 2834 | E72: =M72 -> 0 | F72: =SUM(F73:F77) -> 0 | G72: =SUM(G73:G77) -> 0 | H72: =SUM(H73:H77) -> 0 | I72: =SUM(I73:I77) -> 0 | J72: =SUM(J73:J77) -> 2834 | K72: =SUM(K73:K77) -> 0 | L72: =SUM(F72,H72,J72) -> 2834 | M72: =SUM(G72,I72,K72) -> 0
A73: 66 | D73: =SUM(L73) -> 0 | E73: =M73 -> 0 | L73: =SUM(F73,H73,J73) -> 0 | M73: =SUM(G73,I73,K73) -> 0
A74: 67 | D74: =SUM(L74) -> 0 | E74: =M74 -> 0 | L74: =SUM(F74,H74,J74) -> 0 | M74: =SUM(G74,I74,K74) -> 0
A75: 68 | B75: Díjak, egyéb befizetések-fizetési felszólítási díjak | D75: =SUM(L75) -> 0 | E75: =M75 -> 0 | L75: =SUM(F75,H75,J75) -> 0 | M75: =SUM(G75,I75,K75) -> 0
A76: 69 | B76: Késedelmi kamat | D76: =SUM(L76) -> 0 | E76: =M76 -> 0 | L76: =SUM(F76,H76,J76) -> 0 | M76: =SUM(G76,I76,K76) -> 0
A77: 70 | B77: Egyéb különféle dologi kiadások | D77: =SUM(L77) -> 2834 | E77: =M77 -> 0 | J77: 2834 | L77: =SUM(F77,H77,J77) -> 2834 | M77: =SUM(G77,I77,K77) -> 0
A78: 71 | B78: Különféle befizetések és egyéb dologi kiadások | C78: K35 | D78: =SUM(L78) -> 1129998 | E78: =M78 -> 540000 | F78: =SUM(F72,F71,F70,F69,F68) -> 0 | G78: =SUM(G72,G71,G70,G69,G68) -> 70000 | H78: =SUM(H72,H71,H70,H69,H68) -> 0 | I78: =SUM(I72,I71,I70,I69,I68) -> 0 | J78: =SUM(J72,J71,J70,J69,J68) -> 1129998 | K78: =SUM(K72,K71,K70,K69,K68) -> 470000 | L78: =SUM(F78,H78,J78) -> 1129998 | M78: =SUM(G78,I78,K78) -> 540000
A79: II. Dologi kiadások | C79: K3 | D79: =SUM(L79) -> 7397204 | E79: =M79 -> 6116200 | F79: =SUM(F64+F78) -> 120000 | G79: =SUM(G64+G78) -> 354800 | H79: =SUM(H64+H78) -> 0 | I79: =SUM(I64+I78) -> 550000 | J79: =SUM(J38,J44,J64,J67,J78) -> 7277204 | K79: =SUM(K64+K78) -> 5211400 | L79: =SUM(F79,H79,J79) -> 7397204 | M79: =SUM(G79,I79,K79) -> 6116200
A80: 72 | B80: Immateriális javak beszerzése, létesítése | C80: K61 | D80: =SUM(L80) -> 0 | E80: =M80 -> 0 | L80: =SUM(F80,H80,J80) -> 0 | M80: =SUM(G80,I80,K80) -> 0
A81: 73 | B81: Ingatlanok beszerzése, létesítése | C81: K62 | D81: =SUM(L81) -> 0 | E81: =M81 -> 0 | L81: =SUM(F81,H81,J81) -> 0 | M81: =SUM(G81,I81,K81) -> 0
A82: 74 | B82: Informatikai eszközök beszerzése, létesítése | C82: K63 | D82: =SUM(L82) -> 0 | E82: =M82 -> 0 | L82: =SUM(F82,H82,J82) -> 0 | M82: =SUM(G82,I82,K82) -> 0
A83: 75 | D83: =SUM(L83) -> 0 | E83: =M83 -> 0 | L83: =SUM(F83,H83,J83) -> 0 | M83: =SUM(G83,I83,K83) -> 0
A84: 76 | D84: =SUM(L84) -> 0 | E84: =M84 -> 0 | L84: =SUM(F84,H84,J84) -> 0 | M84: =SUM(G84,I84,K84) -> 0
A85: 77 | B85: Egyéb tárgyi eszközök beszerzése, létesítése | C85: K64 | D85: =SUM(L85) -> 186967 | E85: =M85 -> 1200000 | F85: =SUM(F86:F95) -> 0 | G85: =SUM(G86:G95) -> 1200000 | H85: =SUM(H86:H95) -> 0 | J85: =SUM(J86:J95) -> 186967 | L85: =SUM(F85,H85,J85) -> 186967 | M85: =SUM(G85,I85,K85) -> 1200000
A86: 78 | D86: =SUM(L86) -> 0 | E86: =M86 -> 0 | L86: =SUM(F86,H86,J86) -> 0 | M86: =SUM(G86,I86,K86) -> 0
A87: 79 | B87: tárgyi eszk.beszerzése | D87: =SUM(L87) -> 186967 | E87: =M87 -> 0 | J87: 186967 | L87: =SUM(F87,H87,J87) -> 186967 | M87: =SUM(G87,I87,K87) -> 0
A88: 80 | D88: =SUM(L88) -> 0 | E88: =M88 -> 0 | L88: =SUM(F88,H88,J88) -> 0 | M88: =SUM(G88,I88,K88) -> 0
A89: 81 | B89: Udvari játék beszerzése | D89: =SUM(L89) -> 0 | E89: =M89 -> 1200000 | G89: 1200000 | L89: =SUM(F89,H89,J89) -> 0 | M89: =SUM(G89,I89,K89) -> 1200000
A90: 82 | D90: =SUM(L90) -> 0 | E90: =M90 -> 0 | L90: =SUM(F90,H90,J90) -> 0 | M90: =SUM(G90,I90,K90) -> 0
A91: 83 | D91: =SUM(L91) -> 0 | E91: =M91 -> 0 | L91: =SUM(F91,H91,J91) -> 0 | M91: =SUM(G91,I91,K91) -> 0
A92: 84 | D92: =SUM(L92) -> 0 | E92: =M92 -> 0 | L92: =SUM(F92,H92,J92) -> 0 | M92: =SUM(G92,I92,K92) -> 0
A93: 85 | D93: =SUM(L93) -> 0 | E93: =M93 -> 0 | L93: =SUM(F93,H93,J93) -> 0 | M93: =SUM(G93,I93,K93) -> 0
A94: 86 | D94: =SUM(L94) -> 0 | E94: =M94 -> 0 | L94: =SUM(F94,H94,J94) -> 0 | M94: =SUM(G94,I94,K94) -> 0
A95: 87 | D95: =SUM(L95) -> 0 | E95: =M95 -> 0 | L95: =SUM(F95,H95,J95) -> 0 | M95: =SUM(G95,I95,K95) -> 0
A96: 88 | B96: Részesedések beszerzése | C96: K65 | D96: =SUM(L96) -> 0 | E96: =M96 -> 0 | L96: =SUM(F96,H96,J96) -> 0 | M96: =SUM(G96,I96,K96) -> 0
A97: 89 | B97: Meglévő részesedések növeléséhez kapcsolódó kiadások | C97: K66 | D97: =SUM(L97) -> 0 | E97: =M97 -> 0 | L97: =SUM(F97,H97,J97) -> 0 | M97: =SUM(G97,I97,K97) -> 0
A98: 90 | B98: Beruházási célú előzetesen felszámított általános forgalmi adó | C98: K67 | D98: =SUM(L98) -> 50481.09 | E98: =M98 -> 324000 | G98: =SUM(G85)*0.27 -> 324000 | H98: =SUM(H85,H82,H80,H81)*0.27 -> 0 | J98: =SUM(J85,J82,J80,J81)*0.27 -> 50481.09 | L98: =SUM(F98,H98,J98) -> 50481.09 | M98: =SUM(G98,I98,K98) -> 324000
A99: III. BERUHÁZÁSI KIADÁSOK ÖSSZESEN: | D99: =SUM(L99) -> 237448.09 | E99: =M99 -> 1524000 | F99: =SUM(F80:F82,F85,F96:F98) -> 0 | G99: =SUM(G80:G82,G85,G96:G98) -> 1524000 | H99: =SUM(H80:H82,H85,H96:H98) -> 0 | I99: =SUM(I80:I82,I85,I96:I98) -> 0 | J99: =SUM(J80:J82,J85,J96:J98) -> 237448.09 | K99: =SUM(K80:K82,K85,K96:K98) -> 0 | L99: =SUM(F99,H99,J99) -> 237448.09 | M99: =SUM(G99,I99,K99) -> 1524000
A100: 91 | B100: Ingatlanok felújítása | C100: K71 | D100: =SUM(L100) -> 0 | E100: =M100 -> 0 | L100: =SUM(F100,H100,J100) -> 0 | M100: =SUM(G100,I100,K100) -> 0
A101: 92 | B101: Informatikai eszközök felújítása | C101: K72 | D101: =SUM(L101) -> 0 | E101: =M101 -> 0 | L101: =SUM(F101,H101,J101) -> 0 | M101: =SUM(G101,I101,K101) -> 0
...

Sheet 18 mellMűvelődési Ház
A1: 18. melléklet az 1/2021. (III.08.) önkormányzati rendelethez
B3: Művelődési és Sportház 2021. évi költségvetési táblája
L4: adatok Ft-ban
F5: Kötelező feladat ellátás
A6: Sorszám | B6: Rovat megnevezése | C6: Rovat száma | D6: Intézmény mindösszesen | F6: Művelődési Ház (COFOG: 082091) | H6: Kiemelt Önkorm. rendezvények (cofog: 016080) | J6: Könyvtári állomány gyarapítása (cofog: 082042) | L6: Könyvtári szolgáltatások-Könyvtár (cofog: 082044)
D7: 2020. évi teljesítés | E7: 2021. évi eredeti | F7: 2020. évi teljesítés | G7: 2021. évi eredeti | H7: 2020.évi teljesítés | I7: 2021. évi eredeti | J7: 2020. évi teljesítés | K7: 2021. évi eredeti | L7: 2020. évi teljesítés | M7: 2021. évi eredeti
A9: 1 | B9: Törvény szerinti illetmények, munkabérek | C9: K1101 | D9: =SUM(F9,H9,J9,L9) -> 12230448 | E9: =SUM(G9,I9,K9,M9) -> 13808230 | F9: 12230448 | G9: 10778520 | M9: 3029710
A10: 2 | B10: Normatív jutalmak | C10: K1102 | D10: =SUM(F10,H10,J10,L10) -> 0 | E10: =SUM(G10,I10,K10,M10) -> 0
A11: 3 | B11: Céljuttatás, projektprémium | C11: K1103 | D11: =SUM(F11,H11,J11,L11) -> 0 | E11: =SUM(G11,I11,K11,M11) -> 0 | F11: 0
A12: 4 | B12: Készenléti, ügyeleti, helyettesítési díj, túlóra, túlszolgálat | C12: K1104 | D12: =SUM(F12,H12,J12,L12) -> 0 | E12: =SUM(G12,I12,K12,M12) -> 0
A13: 5 | B13: Végkielégítés | C13: K1105 | D13: =SUM(F13,H13,J13,L13) -> 0 | E13: =SUM(G13,I13,K13,M13) -> 0
A14: 6 | B14: Jubileumi jutalom | C14: K1106 | D14: =SUM(F14,H14,J14,L14) -> 0 | E14: =SUM(G14,I14,K14,M14) -> 0
A15: 7 | B15: Béren kívüli juttatások | C15: K1107 | D15: =SUM(F15,H15,J15,L15) -> 384000 | E15: =SUM(G15,I15,K15,M15) -> 600000 | F15: 288000 | G15: 450000 | L15: 96000 | M15: 150000
A16: 8 | B16: Ruházati költségtérítés | C16: K1108 | D16: =SUM(F16,H16,J16,L16) -> 0 | E16: =SUM(G16,I16,K16,M16) -> 0
A17: 9 | B17: Közlekedési költségtérítés | C17: K1109 | D17: =SUM(F17,H17,J17,L17) -> 181929 | E17: =SUM(G17,I17,K17,M17) -> 178000 | F17: 181929 | G17: 178000
A18: 10 | B18: Egyéb költségtérítések | C18: K1110 | D18: =SUM(F18,H18,J18,L18) -> 0 | E18: =SUM(G18,I18,K18,M18) -> 60000 | G18: 48000 | M18: 12000
A19: 11 | B19: Lakhatási támogatások | C19: K1111 | D19: =SUM(F19,H19,J19,L19) -> 0 | E19: =SUM(G19,I19,K19,M19) -> 0
A20: 12 | B20: Szociális támogatások | C20: K1112 | D20: =SUM(F20,H20,J20,L20) -> 0 | E20: =SUM(G20,I20,K20,M20) -> 0
A21: 13 | B21: Foglalkoztatottak egyéb személyi juttatásai | C21: K1113 | D21: =SUM(F21,H21,J21,L21) -> 271160 | E21: =SUM(G21,I21,K21,M21) -> 0 | F21: 271160
A22: 14 | B22: Foglalkoztatottak személyi juttatásai (=01+...+13) | C22: K11 | D22: =SUM(F22,H22,J22,L22) -> 13067537 | E22: =SUM(G22,I22,K22,M22) -> 14646230 | F22: =SUM(F9:F21) -> 12971537 | G22: =SUM(G9:G21) -> 11454520 | J22: =SUM(J9:J21) -> 0 | K22: =SUM(K9:K21) -> 0 | L22: =SUM(L9:L21) -> 96000 | M22: =SUM(M9:M21) -> 3191710
A23: 17 | B23: Egyéb külső személyi juttatások-Megbízási díjak | C23: K123 | D23: =SUM(F23,H23,J23,L23) -> 179551 | E23: =SUM(G23,I23,K23,M23) -> 160000 | F23: 179551 | G23: 160000
A24: 18 | B24: Külső személyi juttatások (=15+16+17) | C24: K12 | D24: =SUM(F24,H24,J24,L24) -> 179551 | E24: =SUM(G24,I24,K24,M24) -> 160000 | F24: =SUM(F23:F23) -> 179551 | G24: =SUM(G23:G23) -> 160000 | J24: =SUM(J23:J23) -> 0 | K24: =SUM(K23:K23) -> 0 | L24: =SUM(L23:L23) -> 0 | M24: =SUM(M23:M23) -> 0
A25: 19 | B25: Személyi juttatások (=14+18) | C25: K1 | D25: =SUM(F25,H25,J25,L25) -> 13247088 | E25: =SUM(G25,I25,K25,M25) -> 14806230 | F25: =SUM(F24,F22) -> 13151088 | G25: =SUM(G24,G22) -> 11614520 | J25: =SUM(J24,J22) -> 0 | K25: =SUM(K24,K22) -> 0 | L25: =SUM(L24,L22) -> 96000 | M25: =SUM(M24,M22) -> 3191710
A26: 20 | B26: Munkaadókat terhelő járulékok és szociális hozzájárulási adó | C26: K2 | D26: =SUM(F26,H26,J26,L26) -> 2276461 | E26: =SUM(G26,I26,K26,M26) -> 2452983 | F26: 2276461 | G26: 1921492 | K26: =K25*0.195 -> 0 | M26: 531491
A27: I. SZEMÉLYI JELLEGŰ RÁFORDÍTÁSOK ÉS JÁRULÉKOK MINDÖSSZESEN | D27: =SUM(F27,H27,J27,L27) -> 15523549 | E27: =SUM(G27,I27,K27,M27) -> 17259213 | F27: =SUM(F26,F25) -> 15427549 | G27: =SUM(G26,G25) -> 13536012 | J27: =SUM(J26,J25) -> 0 | K27: =SUM(K26,K25) -> 0 | L27: =SUM(L26,L25) -> 96000 | M27: =SUM(M26,M25) -> 3723201
A28: 21 | B28: Szakmai anyagok beszerzése | C28: K311 | D28: =SUM(D29:D32) -> 32978 | E28: =SUM(E29:E32) -> 0 | F28: =SUM(F29:F32) -> 32978 | G28: =SUM(G29:G32) -> 0 | J28: =SUM(J29:J32) -> 0 | K28: =SUM(K29:K32) -> 0 | L28: =SUM(L29:L32) -> 0 | M28: =SUM(M29:M32) -> 0
B29: egyéb szakmai anyag beszerzés | D29: =SUM(F29,H29,J29,L29) -> 32978 | E29: =SUM(G29,I29,K29,M29) -> 0 | F29: 32978
B30: könybeszerzés | D30: =SUM(F30,H30,J30,L30) -> 0 | E30: =SUM(G30,I30,K30,M30) -> 0
B31: folyóirat beszerzés | D31: =SUM(F31,H31,J31,L31) -> 0 | E31: =SUM(G31,I31,K31,M31) -> 0
B32: TP link wifi spot | D32: =SUM(F32,H32,J32,L32) -> 0 | E32: =SUM(G32,I32,K32,M32) -> 0
A33: 22 | B33: Üzemeltetési anyagok beszerzése | C33: K312 | D33: =SUM(F33,J33,L33) -> 629992 | E33: =SUM(G33,I33,K33,M33) -> 600000 | F33: =SUM(F34:F39) -> 629992 | G33: =SUM(G34:G39) -> 600000 | J33: =SUM(J34:J39) -> 0 | K33: =SUM(K34:K39) -> 0 | L33: =SUM(L34:L39) -> 0 | M33: =SUM(M34:M39) -> 0
B34: Irodaszerbeszerzés | D34: =SUM(F34,H34,J34,L34) -> 0 | E34: =SUM(G34,I34,K34,M34) -> 0
B35: Munkaruha,védőruha beszerzés | D35: =SUM(F35,H35,J35,L35) -> 0 | E35: =SUM(G35,I35,K35,M35) -> 0
B36: Egyéb üzemeltetési anyagok | D36: =SUM(F36,H36,J36,L36) -> 629992 | E36: =SUM(G36,I36,K36,M36) -> 600000 | F36: 629992 | G36: 600000
B37: Karbantartási anyag beszerzési | D37: =SUM(F37,H37,J37,L37) -> 0 | E37: =SUM(G37,I37,K37,M37) -> 0
B38: számítástechnikai anyag | D38: =SUM(F38,H38,J38,L38) -> 0 | E38: =SUM(G38,I38,K38,M38) -> 0
B39: Tisztítószer beszerzés | D39: =SUM(F39,H39,J39,L39) -> 0 | E39: =SUM(G39,I39,K39,M39) -> 0
A40: 23 | B40: Készletbeszerzés összesen | C40: K31 | D40: =SUM(F40,H40,J40,L40) -> 662970 | E40: =SUM(G40,I40,K40,M40) -> 600000 | F40: =SUM(F28,F33) -> 662970 | G40: =SUM(G28,G33) -> 600000 | J40: =SUM(J28,J33) -> 0 | K40: =SUM(K28,K33) -> 0 | L40: =SUM(L28,L33) -> 0 | M40: =SUM(M28,M33) -> 0
A41: 24 | B41: Informatikai szolgáltatások igénybevétele | C41: K321 | D41: =SUM(F41,H41,J41,L41) -> 83990 | E41: =SUM(G41,I41,K41,M41) -> 121000 | F41: =SUM(F42:F43) -> 83990 | G41: =SUM(G42:G43) -> 17000 | J41: =SUM(J42:J43) -> 0 | K41: =SUM(K42:K43) -> 0 | L41: =SUM(L42:L43) -> 0 | M41: =SUM(M42:M43) -> 104000
B42: Szikla szoftver követési és adatbázis követési díj | D42: =SUM(F42,H42,J42,L42) -> 74000 | E42: =SUM(G42,I42,K42,M42) -> 104000 | F42: 74000 | M42: 104000
B43: Rendszerkarbantartási díjak | D43: =SUM(F43,H43,J43,L43) -> 9990 | E43: =SUM(G43,I43,K43,M43) -> 17000 | F43: 9990 | G43: 17000
A44: 25 | B44: Egyéb kommunikációs szolgáltatások | C44: K322 | D44: =SUM(F44,H44,J44,L44) -> 156857 | E44: =SUM(G44,I44,K44,M44) -> 190000 | F44: =SUM(F45:F46) -> 156857 | G44: =SUM(G45:G46) -> 190000 | J44: =SUM(J45:J46) -> 0 | K44: =SUM(K45:K46) -> 0 | L44: =SUM(L45:L46) -> 0 | M44: =SUM(M45:M46) -> 0
B45: Mobil telefon | D45: =SUM(F45,H45,J45,L45) -> 0 | E45: =SUM(G45,I45,K45,M45) -> 0
B46: Vezetékes telefon | D46: =SUM(F46,H46,J46,L46) -> 156857 | E46: =SUM(G46,I46,K46,M46) -> 190000 | F46: 156857 | G46: 190000
A47: 26 | B47: Kommunikációs szolgáltatások | C47: K32 | D47: =SUM(F47,H47,J47,L47) -> 240847 | E47: =SUM(G47,I47,K47,M47) -> 311000 | F47: =SUM(F44,F41) -> 240847 | G47: =SUM(G44,G41) -> 207000 | J47: =SUM(J44,J41) -> 0 | K47: =SUM(K44,K41) -> 0 | L47: =SUM(L44,L41) -> 0 | M47: =SUM(M44,M41) -> 104000
A48: 27 | B48: Közüzemi díjak | C48: K331 | D48: =SUM(F48,H48,J48,L48) -> 2823996 | E48: =SUM(G48,I48,K48,M48) -> 2850000 | F48: =SUM(F49:F51) -> 2823996 | G48: =SUM(G49:G51) -> 2850000 | J48: =SUM(J49:J51) -> 0 | K48: =SUM(K49:K51) -> 0 | L48: =SUM(L49:L51) -> 0 | M48: =SUM(M49:M51) -> 0
B49: Villamos energia | D49: =SUM(F49,H49,J49,L49) -> 0 | E49: =SUM(G49,I49,K49,M49) -> 600000 | G49: 600000
B50: Gáz energia szolgáltatási díjak | D50: =SUM(F50,H50,J50,L50) -> 2823996 | E50: =SUM(G50,I50,K50,M50) -> 2100000 | F50: 2823996 | G50: 2100000
B51: Víz díj | D51: =SUM(F51,H51,J51,L51) -> 0 | E51: =SUM(G51,I51,K51,M51) -> 150000 | G51: 150000
A52: 28 | B52: Vásárolt élelmezés | C52: K332 | D52: =SUM(F52,H52,J52,L52) -> 0 | E52: =SUM(G52,I52,K52,M52) -> 250000 | F52: =F53 -> 0 | G52: 250000 | J52: =J53 -> 0 | K52: =K53 -> 0 | L52: =L53 -> 0 | M52: =M53 -> 0
D53: =SUM(F53,H53,J53,L53) -> 0 | E53: =SUM(G53,I53,K53,M53) -> 0
A54: 29 | B54: Bérleti és lízing díjak | C54: K333 | D54: =SUM(F54,H54,J54,L54) -> 0 | E54: =SUM(G54,I54,K54,M54) -> 0
A55: 30 | B55: Karbantartási szolgáltatások | C55: K334 | D55: =SUM(F55,H55,J55,L55) -> 1723922 | E55: =SUM(G55,I55,K55,M55) -> 390000 | F55: 1723922 | G55: 390000
A56: 31 | B56: Közvetített szolgáltatások | C56: K335 | D56: =SUM(F56,H56,J56,L56) -> 0 | E56: =SUM(G56,I56,K56,M56) -> 0
A57: 32 | B57: Szakmai tevékenységet segítő szolgáltatások | C57: K336 | D57: =SUM(F57,H57,J57,L57) -> 0 | E57: =SUM(G57,I57,K57,M57) -> 1380000 | F57: =SUM(F58:F60) -> 0 | G57: =SUM(G58:G61) -> 380000 | H57: =SUM(H58:H61) -> 0 | I57: =SUM(I58:I61) -> 1000000 | J57: =SUM(J58:J60) -> 0 | K57: =SUM(K58:K60) -> 0 | L57: =SUM(L58:L60) -> 0 | M57: =SUM(M58:M60) -> 0
B58: Egyéb szakmai tevékenységek (előadások) | D58: =SUM(F58,H58,J58,L58) -> 0 | E58: =SUM(G58,I58,K58,M58) -> 300000 | G58: 300000
B59: munkatárs továbbképzési költsége | D59: =SUM(F59,H59,J59,L59) -> 0 | E59: =SUM(G59,I59,K59,M59) -> 80000 | G59: 80000
B60: Országos könyvtári napok játszóház | D60: =SUM(F60,H60,J60,L60) -> 0 | E60: =SUM(G60,I60,K60,M60) -> 0
B61: Téli fesztivál és egyéb rendezvények | D61: =SUM(F61,H61,J61,L61) -> 0 | E61: =SUM(G61,I61,K61,M61) -> 1000000 | I61: 1000000
A62: 33 | B62: Egyéb szolgáltatások | C62: K337 | D62: =SUM(F62,H62,J62,L62) -> 225710 | E62: =SUM(G62,I62,K62,M62) -> 779000 | F62: =SUM(F63:F68) -> 225710 | G62: =SUM(G63:G68) -> 779000 | J62: =SUM(J63:J68) -> 0 | K62: =SUM(K63:K68) -> 0 | L62: =SUM(L63:L68) -> 0 | M62: =SUM(M63:M68) -> 0
B63: Bankszámla vezetéshez kapcsolódó kiadások | D63: =SUM(F63,H63,J63,L63) -> 0 | E63: =SUM(G63,I63,K63,M63) -> 90000 | G63: 90000
B64: Postai szolgáltatás | D64: =SUM(F64,H64,J64,L64) -> 0 | E64: =SUM(G64,I64,K64,M64) -> 10000 | G64: 10000
B65: Külső adatvédelmi szolgáltatás | D65: =SUM(F65,H65,J65,L65) -> 0 | E65: =SUM(G65,I65,K65,M65) -> 360000 | G65: 360000
B66: Szemét szállítási díj | D66: =SUM(F66,H66,J66,L66) -> 0 | E66: =SUM(G66,I66,K66,M66) -> 24000 | G66: 24000
B67: Egyéb üzemeltetési szolgáltatások (rágcsálóírtás, munka- és tűzvédelmi feladatok, tűzoltókészülékek cseréje) | D67: =SUM(F67,H67,J67,L67) -> 225710 | E67: =SUM(G67,I67,K67,M67) -> 295000 | F67: 225710 | G67: 295000
B68: Foglalkozás eü. Szolgáltatás díja | D68: =SUM(F68,H68,J68,L68) -> 0 | E68: =SUM(G68,I68,K68,M68) -> 0
A69: 34 | B69: Szolgáltatási kiadások | C69: K33 | D69: =SUM(F69,H69,J69,L69) -> 4773628 | E69: =SUM(G69,I69,K69,M69) -> 5649000 | F69: =SUM(F48,F52,F57,F62,F54,F55,F56) -> 4773628 | G69: =SUM(G48,G52,G57,G62,G54,G55,G56) -> 4649000 | H69: =SUM(H48,H52,H57,H62,H54,H55,H56) -> 0 | I69: =SUM(I48,I52,I57,I62,I54,I55,I56) -> 1000000 | J69: =SUM(J48,J52,J57,J62,J54,J55,J56) -> 0 | K69: =SUM(K48,K52,K57,K62,K54,K55,K56) -> 0 | L69: =SUM(L48,L52,L57,L62,L54,L55,L56) -> 0 | M69: =SUM(M48,M52,M57,M62,M54,M55,M56) -> 0
A70: 35 | B70: Kiküldetések kiadásai | C70: K341 | D70: =SUM(F70,H70,J70,L70) -> 129279 | E70: =SUM(G70,I70,K70,M70) -> 130000 | F70: 49279 | G70: 60000 | L70: 80000 | M70: 70000
A71: 36 | B71: Reklám- és propagandakiadások | C71: K342 | D71: =SUM(F71,H71,J71,L71) -> 0 | E71: =SUM(G71,I71,K71,M71) -> 0
A72: 37 | B72: Kiküldetések, reklám- és propagandakiadások | C72: K34 | D72: =SUM(F72,H72,J72,L72) -> 129279 | E72: =SUM(G72,I72,K72,M72) -> 130000 | F72: =SUM(F70:F71) -> 49279 | G72: =SUM(G70:G71) -> 60000 | H72: =SUM(H70:H71) -> 0 | I72: =SUM(I70:I71) -> 0 | J72: =SUM(J70:J71) -> 0 | K72: =SUM(K70:K71) -> 0 | L72: =SUM(L70:L71) -> 80000 | M72: =SUM(M70:M71) -> 70000
A73: 38 | B73: Működési célú előzetesen felszámított általános forgalmi adó | C73: K351 | D73: =SUM(F73,H73,J73,L73) -> 1267719 | E73: =SUM(G73,I73,K73,M73) -> 1167000 | F73: 1267719 | G73: 897000 | I73: =SUM(I61*0.27) -> 270000
A74: 39 | B74: Fizetendő általános forgalmi adó | C74: K352 | D74: =SUM(F74,H74,J74,L74) -> 0 | E74: =SUM(G74,I74,K74,M74) -> 0
A75: 40 | B75: Kamatkiadások | C75: K353 | D75: =SUM(F75,H75,J75,L75) -> 0 | E75: =SUM(G75,I75,K75,M75) -> 0
A76: 41 | B76: Egyéb pénzügyi műveletek kiadásai | C76: K354 | D76: =SUM(F76,H76,J76,L76) -> 0 | E76: =SUM(G76,I76,K76,M76) -> 0
A77: 42 | B77: Egyéb dologi kiadások | C77: K355 | D77: =SUM(F77,H77,J77,L77) -> 26275 | E77: =SUM(G77,I77,K77,M77) -> 0 | F77: =SUM(F78:F80) -> 26275 | G77: =SUM(G78:G80) -> 0 | H77: =SUM(H78:H80) -> 0 | I77: =SUM(I78:I80) -> 0 | J77: =SUM(J78:J80) -> 0 | K77: =SUM(K78:K80) -> 0 | L77: =SUM(L78:L80) -> 0 | M77: =SUM(M78:M80) -> 0
B78: Díjak, egyéb befizetések-jogdíjak | D78: =SUM(F78,H78,J78,L78) -> 0 | E78: =SUM(G78,I78,K78,M78) -> 0
B79: Késedelmi pótlék | D79: =SUM(F79,H79,J79,L79) -> 0 | E79: =SUM(G79,I79,K79,M79) -> 0
B80: Egyéb dologi kiadások | D80: =SUM(F80,H80,J80,L80) -> 26275 | E80: =SUM(G80,I80,K80,M80) -> 0 | F80: 26275
A81: 43 | B81: Különféle befizetések és egyéb dologi kiadások | C81: K35 | D81: =SUM(F81,H81,J81,L81) -> 1293994 | E81: =SUM(G81,I81,K81,M81) -> 1167000 | F81: =SUM(F77,F76,F75,F74,F73) -> 1293994 | G81: =SUM(G77,G76,G75,G74,G73) -> 897000 | H81: =SUM(H77,H76,H75,H74,H73) -> 0 | I81: =SUM(I77,I76,I75,I74,I73) -> 270000 | J81: =SUM(J77,J76,J75,J74,J73) -> 0 | K81: =SUM(K77,K76,K75,K74,K73) -> 0 | L81: =SUM(L77,L76,L75,L74,L73) -> 0 | M81: =SUM(M77,M76,M75,M74,M73) -> 0
A82: II. Dologi kiadások | C82: K3 | D82: =SUM(F82,H82,J82,L82) -> 7100718 | E82: =SUM(G82,I82,K82,M82) -> 7857000 | F82: =SUM(F81,F72,F69,F47,F40) -> 7020718 | G82: =SUM(G81,G72,G69,G47,G40) -> 6413000 | H82: =SUM(H81,H72,H69,H47,H40) -> 0 | I82: =SUM(I81,I72,I69,I47,I40) -> 1270000 | J82: =SUM(J81,J72,J69,J47,J40) -> 0 | K82: =SUM(K81,K72,K69,K47,K40) -> 0 | L82: =SUM(L81,L72,L69,L47,L40) -> 80000 | M82: =SUM(M81,M72,M69,M47,M40) -> 174000
A83: 44 | B83: Immateriális javak beszerzése, létesítése | C83: K61 | D83: =SUM(F83,H83,J83,L83) -> 0 | E83: =SUM(G83,I83,K83,M83) -> 0 | F83: =F84 -> 0 | J83: =J84 -> 0 | L83: =L84 -> 0
D84: =SUM(F84,H84,J84,L84) -> 0 | E84: =SUM(G84,I84,K84,M84) -> 0
A85: 45 | B85: Ingatlanok beszerzése, létesítése | C85: K62 | D85: =SUM(F85,H85,J85,L85) -> 0 | E85: =SUM(G85,I85,K85,M85) -> 0
A86: 46 | B86: Informatikai eszközök beszerzése, létesítése | C86: K63 | D86: =SUM(F86,H86,J86,L86) -> 0 | E86: =SUM(G86,I86,K86,M86) -> 676000 | F86: 0 | G86: 310000 | J86: =SUM(J87:J87) -> 0 | M86: 366000
B87: Közművelődési feladatellátáshoz kapcsolódó gépbeszerzés érdekeltség növelő pályázat | D87: =SUM(F87,H87,J87,L87) -> 0 | E87: =SUM(G87,I87,K87,M87) -> 0
A88: 47 | B88: Egyéb tárgyi eszközök beszerzése, létesítése | C88: K64 | D88: =SUM(F88,H88,J88,L88) -> 861443 | E88: =SUM(G88,I88,K88,M88) -> 875310 | F88: =SUM(F89:F90) -> 319415 | G88: =SUM(G89:G90) -> 300310 | J88: =J89 -> 542028 | K88: =K89 -> 575000 | L88: =L89 -> 0 | M88: =M89 -> 0
B89: Eszköz beszerzés lista alapján | D89: =SUM(F89,H89,J89,L89) -> 845710 | E89: =SUM(G89,I89,K89,M89) -> 875000 | F89: 303682 | G89: 300000 | J89: 542028 | K89: 575000
A90: 50 | B90: Beruházási célú előzetesen felszámított általános forgalmi adó | C90: K67 | D90: =SUM(F90,H90,J90,L90) -> 44057 | E90: =SUM(G90,I90,K90,M90) -> 29060 | F90: 15733 | G90: 310 | J90: 28324 | K90: =K89*0.05 -> 28750 | L90: =SUM(L88,L86,L83,L85)*0.27 -> 0 | M90: =M89*0.27 -> 0
A91: III. BERUHÁZÁSI KIADÁSOK ÖSSZESEN: | D91: =SUM(F91,H91,J91,L91) -> 905500 | E91: =SUM(G91,I91,K91,M91) -> 1580370 | F91: =SUM(F83:F86,F88,F90:F90) -> 335148 | G91: =SUM(G83:G86,G88,G90:G90) -> 610620 | H91: =SUM(H83:H86,H88,H90:H90) -> 0 | I91: =SUM(I83:I86,I88,I90:I90) -> 0 | J91: =SUM(J83:J86,J88,J90:J90) -> 570352 | K91: =SUM(K83:K86,K88,K90:K90) -> 603750 | L91: =SUM(L83:L86,L88,L90:L90) -> 0 | M91: =SUM(M83:M86,M88,M90:M90) -> 366000
A92: 51 | B92: Ingatlanok felújítása | C92: K71 | D92: =SUM(F92,H92,J92,L92) -> 774015 | E92: =SUM(G92,I92,K92,M92) -> 0 | F92: 774015 | G92: =G93+G94+G95 -> 0 | H92: =H93+H94+H95 -> 0 | I92: =I93+I94+I95 -> 0 | J92: =J93+J94+J95 -> 0 | K92: =K93+K94+K95 -> 0 | L92: =L93+L94+L95 -> 0 | M92: =M93+M94+M95 -> 0
D93: =SUM(F93,H93,J93,L93) -> 0 | E93: =SUM(G93,I93,K93,M93) -> 0
D94: =SUM(F94,H94,J94,L94) -> 0 | E94: =SUM(G94,I94,K94,M94) -> 0
B95: Könyvtár | D95: =SUM(F95,H95,J95,L95) -> 0 | E95: =SUM(G95,I95,K95,M95) -> 0
A96: 52 | B96: Informatikai eszközök felújítása | C96: K72 | D96: =SUM(F96,H96,J96,L96) -> 0 | E96: =SUM(G96,I96,K96,M96) -> 0
A97: 53 | B97: Egyéb tárgyi eszközök felújítása | C97: K73 | D97: =SUM(F97,H97,J97,L97) -> 0 | E97: =SUM(G97,I97,K97,M97) -> 0
A98: 54 | B98: Felújítási célú előzetesen felszámított általános forgalmi adó | C98: K74 | D98: =SUM(F98,H98,J98,L98) -> 208985 | E98: =SUM(G98,I98,K98,M98) -> 0 | F98: 208985 | G98: 0 | J98: =SUM(J92:J97)*0.27 -> 0 | K98: =K95*0.27 -> 0 | L98: =L92*0.27 -> 0 | M98: =SUM(M93:M97)*0.27 -> 0
A99: IV. FELÚJÍTÁSI KIADÁSOK ÖSSZESEN: | D99: =SUM(F99,H99,J99,L99) -> 983000 | E99: =SUM(G99,I99,K99,M99) -> 0 | F99: =SUM(F92:F98) -> 983000 | G99: =SUM(G92:G98) -> 0 | J99: =SUM(J93:J98) -> 0 | K99: =SUM(K93:K98) -> 0 | L99: =SUM(L93:L98) -> 0 | M99: =SUM(M93:M98) -> 0
A100: KIADÁSOK ÖSSZESEN: | D100: =SUM(F100,H100,J100,L100) -> 24512767 | E100: =SUM(G100,I100,K100,M100) -> 26696583 | F100: =SUM(F27,F82,F91,F99) -> 23766415 | G100: =SUM(G27,G82,G91,G99) -> 20559632 | H100: =SUM(H27,H82,H91,H99) -> 0 | I100: =SUM(I27,I82,I91,I99) -> 1270000 | J100: =SUM(J27,J82,J91,J99) -> 570352 | K100: =SUM(K27,K82,K91,K99) -> 603750 | L100: =SUM(L27,L82,L91,L99) -> 176000 | M100: =SUM(M27,M82,M91,M99) -> 4263201
A101: Bevételek
A102: 55 | B102: Egyéb különféle szolgáltatások bevételei | C102: B402 | D102: =SUM(F102,H102,J102,L102) -> 5363826 | E102: =SUM(G102,K102,M102) -> 7000000 | F102: 5363826 | G102: 7000000 | J102: 0 | K102: 0 | L102: 0 | M102: 0
...

Sheet 19 Hivatal költségvetése
A1: 19. melléklet az 1/2021. (III.08.) önkormányzati rendelethez
A2: Dánszentmiklósi Polgármesteri Hivatal 2021. évi költségvetési táblája
F3: Kötelező feladat ellátás
A4: Sorszám | B4: Rovat megnevezése | C4: Rovat száma | D4: Mindösszesen | F4: Dánszentmiklóson működő Hivatal (011130 COFOG)
D5: 2020. évi tény adatok | E5: 2021. évi eredeti | F5: 2020. évi tény | G5: 2021. évi
A7: 1 | B7: Törvény szerinti illetmények, munkabérek | C7: K1101 | D7: =SUM(,F7) -> 20472854 | E7: =SUM(,G7) -> 21528600 | F7: 20472854 | G7: 21528600
A8: 2 | B8: Normatív jutalmak | C8: K1102 | D8: =SUM(,F8) -> 0 | E8: =SUM(,G8) -> 0
A9: 3 | B9: Céljuttatás, projektprémium | C9: K1103 | D9: =SUM(,F9) -> 1757300 | E9: =SUM(,G9) -> 0 | F9: 1757300
A10: 4 | B10: Készenléti, ügyeleti, helyettesítési díj, túlóra, túlszolgálat | C10: K1104 | D10: =SUM(,F10) -> 52650 | E10: =SUM(,G10) -> 0 | F10: 52650
A11: 5 | B11: Végkielégítés | C11: K1105 | D11: =SUM(,F11) -> 0 | E11: =SUM(,G11) -> 0
A12: 6 | B12: Jubileumi jutalom | C12: K1106 | D12: =SUM(,F12) -> 0 | E12: =SUM(,G12) -> 0 | G12: 0
A13: 7 | B13: Béren kívüli juttatások | C13: K1107 | D13: =SUM(,F13) -> 894000 | E13: =SUM(,G13) -> 2082000 | F13: 894000 | G13: 2082000
A14: 8 | B14: Ruházati költségtérítés | C14: K1108 | D14: =SUM(,F14) -> 63000 | E14: =SUM(,G14) -> 63000 | F14: 63000 | G14: 63000
A15: 9 | B15: Közlekedési költségtérítés | C15: K1109 | D15: =SUM(,F15) -> 548476 | E15: =SUM(,G15) -> 602868 | F15: 548476 | G15: 602868
A16: 10 | B16: Egyéb költségtérítések | C16: K1110 | D16: =SUM(,F16) -> 0 | E16: =SUM(,G16) -> 322000 | G16: 322000
A17: 11 | B17: Lakhatási támogatások | C17: K1111 | D17: =SUM(,F17) -> 0 | E17: =SUM(,G17) -> 0
A18: 12 | B18: Szolgáltatás miatti kiadás | C18: K1112 | D18: =SUM(,F18) -> 0 | E18: =SUM(,G18) -> 300000 | G18: 300000
A19: 13 | B19: Foglalkoztatottak egyéb személyi juttatásai | C19: K1113 | D19: =SUM(,F19) -> 2119890 | E19: =SUM(,G19) -> 3602800 | F19: 2119890 | G19: 3602800
A20: 14 | B20: Foglalkoztatottak személyi juttatásai (=01+...+13) | C20: K11 | D20: =SUM(,F20) -> 25908170 | E20: =SUM(,G20) -> 28501268 | F20: =SUM(F7:F19) -> 25908170 | G20: =SUM(G7:G19) -> 28501268
C21: K121 | D21: =SUM(,F21) -> 0
C22: K122 | D22: =SUM(,F22) -> 0
A23: 17 | B23: Egyéb külső személyi juttatások-reprezentáció | C23: K123 | D23: =SUM(,F23) -> 0 | F23: 0 | G23: 40000
A24: 18 | B24: Külső személyi juttatások (=15+16+17) | C24: K12 | D24: =SUM(,F24) -> 0 | F24: =SUM(F21:F23) -> 0 | G24: =SUM(G21:G23) -> 40000
A25: 19 | B25: Személyi juttatások (=14+18) | C25: K1 | D25: =SUM(,F25) -> 25908170 | E25: =SUM(,G25) -> 28541268 | F25: =SUM(F24,F20) -> 25908170 | G25: =SUM(G24,G20) -> 28541268
A26: 20 | B26: Munkaadókat terhelő járulékok és szociális hozzájárulási adó | C26: K2 | D26: =SUM(,F26) -> 4402564 | E26: =SUM(,G26) -> 4217432 | F26: 4402564 | G26: 4217432
A27: I. SZEMÉLYI JELLEGŰ RÁFORDÍTÁSOK ÉS JÁRULÉKOK MINDÖSSZESEN | D27: =SUM(D26,D25) -> 30310734 | E27: =SUM(E26,E25) -> 32758700 | F27: =SUM(F26,F25) -> 30310734 | G27: =SUM(G26,G25) -> 32758700
A28: 21 | B28: Szakmai anyagok beszerzése | C28: K311 | D28: =SUM(,F28) -> 99814 | E28: =SUM(,G28) -> 100000 | F28: =SUM(F29:F32) -> 99814 | G28: =SUM(G29:G32) -> 100000
A29: 22 | B29: Könyvbeszerzés | D29: =SUM(,F29) -> 0 | E29: =SUM(,G29) -> 0
A30: 23 | B30: Vegyszer beszerzés | D30: =SUM(,F30) -> 0 | E30: =SUM(,G30) -> 0
A31: 24 | B31: egyéb inf.hord.szakmai anyag beszerzés | D31: =SUM(,F31) -> 99814 | E31: =SUM(,G31) -> 100000 | F31: 99814 | G31: 100000
A32: 25 | B32: Egyéb verizókövetési díja | D32: =SUM(,F32) -> 0 | E32: =SUM(,G32) -> 0
A33: 26 | B33: Üzemeltetési anyagok beszerzése | C33: K312 | D33: =SUM(,F33) -> 436167 | E33: =SUM(,G33) -> 410000 | F33: =SUM(F34:F39) -> 436167 | G33: =SUM(G34:G39) -> 410000
A34: 27 | B34: Irodaszerbeszerzés | D34: =SUM(,F34) -> 0 | E34: =SUM(,G34) -> 350000 | G34: 350000
A35: 28 | B35: Munkaruha,védőruha beszerzés | D35: =SUM(,F35) -> 0 | E35: =SUM(,G35) -> 0
A36: 29 | B36: Egyéb üzemeltetési anyagok | D36: =SUM(,F36) -> 436167 | E36: =SUM(,G36) -> 0 | F36: 436167
A37: 30 | B37: Karbantartási anyag beszerzési | D37: =SUM(,F37) -> 0 | E37: =SUM(,G37) -> 0
A38: 31 | B38: számítástechnikai anyag | D38: =SUM(,F38) -> 0 | E38: =SUM(,G38) -> 0
A39: 32 | B39: Tisztítószer beszerzés | D39: =SUM(,F39) -> 0 | E39: =SUM(,G39) -> 60000 | G39: 60000
A40: 33 | B40: Készletbeszerzés összesen | C40: K31 | D40: =SUM(,F40) -> 535981 | E40: =SUM(,G40) -> 510000 | F40: =SUM(F28,F33) -> 535981 | G40: =SUM(G28,G33) -> 510000
A41: 34 | B41: Informatikai szolgáltatások igénybevétele | C41: K321 | D41: =SUM(,F41) -> 1010479 | E41: =SUM(,G41) -> 400000 | F41: =SUM(F42:F43) -> 1010479 | G41: =SUM(G42:G43) -> 400000
A42: 35 | B42: Rendszerkarbantartási díjak | D42: =SUM(,F42) -> 0 | E42: =SUM(,G42) -> 0
A43: 36 | B43: Egyéb informatikai szolg.kiadás (webix) | D43: =SUM(,F43) -> 1010479 | E43: =SUM(,G43) -> 400000 | F43: 1010479 | G43: 400000
A44: 37 | B44: Egyéb kommunikációs szolgáltatások | C44: K322 | D44: =SUM(,F44) -> 954244 | E44: =SUM(,G44) -> 650000 | F44: =SUM(F45:F46) -> 954244 | G44: =SUM(G45:G46) -> 650000
A45: 38 | B45: Telefon, internet havi díjai | D45: =SUM(,F45) -> 0 | E45: =SUM(,G45) -> 0
A46: 39 | B46: Nem adatátviteli célú távközlési díjak | D46: =SUM(,F46) -> 954244 | E46: =SUM(,G46) -> 650000 | F46: 954244 | G46: 650000
A47: 40 | B47: Egyéb különféle informatikai szolg. | D47: =SUM(,F47) -> 0 | E47: =SUM(,G47) -> 0
A48: 41 | B48: Kommunikációs szolgáltatások | C48: K32 | D48: =SUM(,F48) -> 1964723 | E48: =SUM(,G48) -> 1050000 | F48: =SUM(F41,F44) -> 1964723 | G48: =SUM(G41,G44) -> 1050000
A49: 42 | B49: Közüzemi díjak | C49: K331 | D49: =SUM(,F49) -> 896297 | E49: =SUM(,G49) -> 1450000 | F49: =SUM(F50:F52) -> 896297 | G49: =SUM(G50:G52) -> 1450000
A50: 43 | B50: Villamos energia | D50: =SUM(,F50) -> 0 | E50: =SUM(,G50) -> 300000 | G50: 300000
A51: 44 | B51: Gáz energia szolgáltatási díjak | D51: =SUM(,F51) -> 896297 | E51: =SUM(,G51) -> 1000000 | F51: 896297 | G51: 1000000
A52: 45 | B52: Víz díj | D52: =SUM(,F52) -> 0 | E52: =SUM(,G52) -> 150000 | G52: 150000
A53: 46 | B53: Vásárolt élelmezés | C53: K332
A54: 48 | B54: Bérleti és lízing díjak | C54: K333 | D54: =SUM(,F54) -> 6496 | E54: =SUM(,G54) -> 0 | F54: 6496
A55: 49 | B55: Karbantartási, kisjavítási szolgáltatások | C55: K334 | D55: =SUM(,F55) -> 17716 | E55: =SUM(,G55) -> 100000 | F55: 17716 | G55: 100000
A56: 50 | B56: Közvetített szolgáltatások | C56: K335 | D56: =SUM(,F56) -> 0 | E56: =SUM(,G56) -> 0
A57: 51 | B57: Szakmai tevékenységet segítő szolgáltatások | C57: K336 | D57: =SUM(,F57) -> 5179442 | E57: =SUM(,G57) -> 4740000 | F57: =SUM(F58:F60) -> 5179442 | G57: =SUM(G58:G60) -> 4740000
A58: 52 | B58: Vásárolt közszolgáltatás | D58: =SUM(,F58) -> 0 | E58: =SUM(,G58) -> 0
A59: 53 | B59: Egyéb szakmai szolgáltatás | D59: =SUM(,F59) -> 0 | E59: =SUM(,G59) -> 180000 | G59: 180000
A60: 54 | B60: Számlázott szellemi tevékenység | D60: =SUM(,F60) -> 5179442 | E60: =SUM(,G60) -> 4560000 | F60: 5179442 | G60: 4560000
A61: 55 | B61: Egyéb szolgáltatások | C61: K337 | D61: =SUM(,F61) -> 607815 | E61: =SUM(,G61) -> 1485000 | F61: =SUM(F62:F66) -> 607815 | G61: =SUM(G62:G66) -> 1485000
A62: 56 | B62: Biztosítás, szolgáltatási díjak | D62: =SUM(,F62) -> 0 | E62: =SUM(,G62) -> 0
A63: 57 | B63: Postai szolgáltatás | D63: =SUM(,F63) -> 0 | E63: =SUM(,G63) -> 500000 | G63: 500000
A64: 58 | B64: Külső adatvédelmi szolgáltatás | D64: =SUM(,F64) -> 0 | E64: =SUM(,G64) -> 420000 | G64: 420000
A65: 59 | B65: Pénzügyi,szolg.díj./Bankköltség/ | D65: =SUM(,F65) -> 0 | E65: =SUM(,G65) -> 115000 | G65: 115000
A66: 60 | B66: Egyéb üzemeltetési szolgáltatások (kéményseprés,rovarirtás, fogl.eü, egyéb üz.fennt.kiadási szolg., fiókbérlet) | D66: =SUM(,F66) -> 607815 | E66: =SUM(,G66) -> 450000 | F66: 607815 | G66: 450000
A67: 61 | B67: Szolgáltatási kiadások | C67: K33 | D67: =SUM(,F67) -> 6707766 | E67: =SUM(,G67) -> 7775000 | F67: =SUM(F49,F53,F57,F61,F54,F55,F56) -> 6707766 | G67: =SUM(G49,G53,G57,G61,G54,G55,G56) -> 7775000
A68: 62 | B68: Kiküldetések kiadásai | C68: K341 | D68: =SUM(,F68) -> 4772 | E68: =SUM(,G68) -> 0 | F68: 4772
A69: 63 | B69: Reklám- és propagandakiadások | C69: K342 | D69: =SUM(,F69) -> 0 | E69: =SUM(,G69) -> 0
A70: 64 | B70: Kiküldetések, reklám- és propagandakiadások | C70: K34 | D70: =SUM(,F70) -> 4772 | E70: =SUM(,G70) -> 0 | F70: =SUM(F68:F69) -> 4772 | G70: =SUM(G68:G69) -> 0
A71: 65 | B71: Működési célú előzetesen felszámított általános forgalmi adó | C71: K351 | D71: =SUM(,F71) -> 868389 | E71: =SUM(,G71) -> 1021427 | F71: 868389 | G71: 1021427
A72: 66 | B72: Fizetendő általános forgalmi adó | C72: K352 | D72: =SUM(,F72) -> 0 | E72: =SUM(,G72) -> 0
A73: 67 | B73: Kamatkiadások | C73: K353 | D73: =SUM(,F73) -> 0 | E73: =SUM(,G73) -> 0
A74: 68 | B74: Egyéb pénzügyi műveletek kiadásai | C74: K354 | D74: =SUM(,F74) -> 0 | E74: =SUM(,G74) -> 0
A75: 69 | B75: Egyéb dologi kiadások | C75: K355 | D75: =SUM(,F75) -> 87192 | E75: =SUM(,G75) -> 50000 | F75: =SUM(F76:F80) -> 87192 | G75: =SUM(G76:G80) -> 50000
A76: 70 | D76: =SUM(,F76) -> 0 | E76: =SUM(,G76) -> 0
A77: 71 | D77: =SUM(,F77) -> 0 | E77: =SUM(,G77) -> 0
A78: 72 | B78: Díjak, egyéb befizetések-fizetési felszólítási díjak | D78: =SUM(,F78) -> 0 | E78: =SUM(,G78) -> 0
A79: 73 | B79: Késedelmi kamat | D79: =SUM(,F79) -> 0 | E79: =SUM(,G79) -> 0
A80: 74 | B80: Egyéb különféle dologi kiadások | D80: =SUM(,F80) -> 87192 | E80: =SUM(,G80) -> 50000 | F80: 87192 | G80: 50000
A81: 75 | B81: Különféle befizetések és egyéb dologi kiadások | C81: K35 | D81: =SUM(,F81) -> 955581 | E81: =SUM(,G81) -> 1071427 | F81: =SUM(F75,F74,F73,F72,F71) -> 955581 | G81: =SUM(G75,G74,G73,G72,G71) -> 1071427
A82: II. Dologi kiadások | C82: K3 | D82: =SUM(,F82) -> 10168823 | E82: =SUM(,G82) -> 10406427 | F82: =SUM(F81,F70,F67,F48,F40) -> 10168823 | G82: =SUM(G81,G70,G67,G48,G40) -> 10406427
A83: 76 | B83: Immateriális javak beszerzése, létesítése | C83: K61 | D83: =SUM(,F83) -> 0 | E83: =SUM(,G83) -> 0 | F83: =SUM(F84) -> 0
A84: 77 | D84: =SUM(,F84) -> 0 | E84: =SUM(,G84) -> 0
A85: 78 | B85: Ingatlanok beszerzése, létesítése | C85: K62 | D85: =SUM(,F85) -> 0 | E85: =SUM(,G85) -> 0
A86: 79 | B86: Informatikai eszközök beszerzése, létesítése | C86: K63 | D86: =SUM(,F86) -> 441300 | E86: =SUM(,G86) -> 250000 | F86: 441300 | G86: 250000
A87: 86 | B87: Egyéb tárgyi eszközök beszerzése, létesítése | C87: K64 | D87: =SUM(,F87) -> 36142 | E87: =SUM(,G87) -> 0 | F87: =F88 -> 36142 | G87: =G88 -> 0
B88: Irodai bútorzat beszerzés, Klímaberendezés szerelése | D88: =SUM(,F88) -> 36142 | E88: =SUM(,G88) -> 0 | F88: 36142
A89: 91 | B89: Részesedések beszerzése | C89: K65 | D89: =SUM(,F89) -> 0 | E89: =SUM(,G89) -> 0
A90: 92 | B90: Meglévő részesedések növeléséhez kapcsolódó kiadások | C90: K66 | D90: =SUM(,F90) -> 0 | E90: =SUM(,G90) -> 0
A91: 93 | B91: Beruházási célú előzetesen felszámított általános forgalmi adó | C91: K67 | D91: =SUM(,F91) -> 128909 | E91: =SUM(,G91) -> 67500 | F91: 128909 | G91: 67500
A92: 94 | B92: Beruházások | C92: K6 | D92: =SUM(,F92) -> 606351 | E92: =SUM(,G92) -> 317500 | F92: =SUM(F91+F90+F89+F87+F86+F85+F83) -> 606351 | G92: =SUM(G91+G90+G89+G87+G86+G85+G83) -> 317500
A93: 95 | B93: Ingatlanok felújítása | C93: K71 | D93: =SUM(,F93) -> 0 | E93: =SUM(,G93) -> 0 | G93: 0
B94: Hivatal épületének felújítása (falvédő festés) | D94: =SUM(,F94) -> 0 | E94: =SUM(,G94) -> 0 | G94: 0
B95: Ajtó csere (2 db) | D95: =SUM(,F95) -> 0 | E95: =SUM(,G95) -> 0 | G95: 0
B96: Előtető, nagykapu felújítása | D96: =SUM(,F96) -> 0 | E96: =SUM(,G96) -> 0 | G96: 0
A97: 96 | B97: Informatikai eszközök felújítása | C97: K72 | D97: =SUM(,F97) -> 0 | E97: =SUM(,G97) -> 0 | G97: 0
A98: 97 | B98: Egyéb tárgyi eszközök felújítása | C98: K73 | D98: =SUM(,F98) -> 0 | E98: =SUM(,G98) -> 0 | G98: 0
A99: 98 | B99: Felújítási célú előzetesen felszámított általános forgalmi adó | C99: K74 | D99: =SUM(,F99) -> 0 | E99: =SUM(,G99) -> 0 | G99: 0
A100: 99 | B100: Felújítások (=76+...+79) | C100: K7 | D100: =SUM(,F100) -> 0 | E100: =SUM(,G100) -> 0 | F100: =SUM(F93,F97,F98,F99) -> 0 | G100: 0
A101: 100 | B101: KIADÁSOK MINDÖSSZESEN | C101: K1-K8 | D101: =SUM(D100,D92,D82,D27) -> 41085908 | E101: =SUM(E100,E92,E82,E27) -> 43482627 | F101: =SUM(F100,F92,F82,F27) -> 41085908 | G101: =SUM(G100,G92,G82,G27) -> 43482627
...

Sheet 20 mell Ei felhaszn
A1: 20. melléklet az 1/2021. (III.08.) önkormányzati rendelethez
B3: Dánszentmiklós Község Önkormányzatának 2021. évi előirányzat felhasználási és likviditási terve
N4: adatok Ft-ban
A5: Megnevezés | B5: január | C5: február | D5: március | E5: április | F5: május | G5: június | H5: július | I5: augusztus | J5: szeptember | K5: október | L5: november | M5: december | N5: mindösszesen
A6: B E V É T E L E K
A7: Önkormányzat és intézményei
A8: Önkormányzat gazd kör. működési bevételei | B8: ='2.melléklet Önkormányzat mérleg'!D17/12 -> 22451125 | C8: =B8 -> 22451125 | D8: =C8 -> 22451125 | E8: =D8 -> 22451125 | F8: =E8 -> 22451125 | G8: =F8 -> 22451125 | H8: =G8 -> 22451125 | I8: =H8 -> 22451125 | J8: =I8 -> 22451125 | ... M8: =L8 -> 22451125 | N8: =SUM(B8:M8) -> 2.694135e+08
A9: Önkormányzat gazd.kör. felhalmozási bevételei | B9: ='1.melléklÖnkormányzati összesen'!H19/6 -> 31861072 | C9: =B9 -> 31861072 | D9: =C9 -> 31861072 | E9: =D9 -> 31861072 | F9: =E9 -> 31861072 | G9: =F9 -> 31861072 | N9: =SUM(B9:M9) -> 191166434
A10: Költségvetési szervek bevételei | B10: ='1.melléklÖnkormányzati összesen'!F23/12 -> 13272413 | C10: =B10 -> 13272413 | D10: =C10 -> 13272413 | E10: =D10 -> 13272413 | F10: =E10 -> 13272413 | G10: =F10 -> 13272413 | H10: =G10 -> 13272413 | I10: =H10 -> 13272413 | J10: =I10 -> 13272413 | ... M10: =L10 -> 13272413 | N10: =SUM(B10:M10) -> 1.5926895e+08
A11: Bevételek összesen: | B11: =SUM(B8:B10) -> 67584610 | C11: =SUM(C8:C10) -> 67584610 | D11: =SUM(D8:D10) -> 67584610 | E11: =SUM(E8:E10) -> 67584610 | F11: =SUM(F8:F10) -> 67584610 | G11: =SUM(G8:G10) -> 67584610 | H11: =SUM(H8:H10) -> 35723538 | I11: =SUM(I8:I10) -> 35723538 | ... N11: =SUM(N8:N10) -> 6.1984889e+08
A12: K I A D Á S O K
A13: Önkormányzat és Intézményei
A14: Működési kiadásai | B14: =SUM('1.melléklÖnkormányzati összesen'!P9:P13)/12-589938 -> 23614967 | C14: =B14 -> 23614967 | D14: =C14 -> 23614967 | E14: =D14 -> 23614967 | F14: =E14 -> 23614967 | G14: =F14 -> 23614967 | H14: =G14 -> 23614967 | I14: =H14 -> 23614967 | J14: =I14 -> 23614967 | ... L14: =K14 -> 23614967 | M14: =L14+2+1079254 -> 24694223 | N14: =SUM(B14:M14) -> 2.8445886e+08
A15: Felhalmozási kiadásai | G15: ='1.melléklÖnkormányzati összesen'!P14+'1.melléklÖnkormányzati összesen'!P15 -> 169140102 | J15: =H15 -> 0 | N15: =SUM(B15:M15) -> 169140102
A16: Felújítási kiadásai | N16: =SUM(B16:M16) -> 0
A17: Intézményi finanszírozás | B17: =B10 -> 13272413 | C17: =C10 -> 13272413 | D17: =D10 -> 13272413 | E17: =E10 -> 13272413 | F17: =F10 -> 13272413 | G17: =G10 -> 13272413 | H17: =H10 -> 13272413 | I17: =I10 -> 13272413 | ... M17: =M10 -> 13272413 | N17: =SUM(B17:M17) -> 1.5926895e+08
A18: Megelőlegezés | B18: ='1.melléklÖnkormányzati összesen'!P19 -> 8280974 | N18: =SUM(B18:M18) -> 8280974
A19: Kiadások összesen: | B19: =SUM(B14:B18) -> 45168354 | C19: =SUM(C14:C18) -> 36887380 | D19: =SUM(D14:D18) -> 36887380 | E19: =SUM(E14:E18) -> 36887380 | F19: =SUM(F14:F18) -> 36887380 | G19: =SUM(G14:G18) -> 2.0602748e+08 | H19: =SUM(H14:H18) -> 36887380 | I19: =SUM(I14:I18) -> 36887380 | ... N19: =SUM(N14:N18) -> 6.2114889e+08
A20: Önkormányzat kiadásai összesen: | B20: =B19 -> 45168354 | C20: =C19 -> 36887380 | D20: =D19 -> 36887380 | E20: =E19 -> 36887380 | F20: =F19 -> 36887380 | G20: =G19 -> 2.0602748e+08 | H20: =H19 -> 36887380 | I20: =I19 -> 36887380 | ... M20: =M19 -> 37966636 | N20: =SUM(B20:M20) -> 6.2114889e+08
A21: Önkormányzat bevételei összesen: | B21: =B11 -> 67584610 | C21: =C11 -> 67584610 | D21: =D11 -> 67584610 | E21: =E11 -> 67584610 | F21: =F11 -> 67584610 | G21: =G11 -> 67584610 | H21: =H11 -> 35723538 | I21: =I11 -> 35723538 | ... M21: =M11 -> 35723538 | N21: =SUM(B21:M21) -> 6.1984889e+08
A22: Bevételek, kiadások egyenlege | B22: =B21-B20 -> 22416257 | C22: =B22+C21-C20 -> 53113487 | D22: =C22+D21-D20 -> 83810718 | E22: =D22+E21-E20 -> 1.1450795e+08 | F22: =E22+F21-F20 -> 1.4520518e+08 | G22: =F22+G21-G20 -> 6762307.2 | H22: =G22+H21-H20 -> 5598465.4 | I22: =H22+I21-I20 -> 4434623.6 | J22: =I22+J21-J20 -> 3270781.8 | ... M22: =L22+M21-M20 -> -1299999.6 | N22: =N21-N20 -> -1299999.6

Sheet 21 mellEngedélyezett létszám
A1: 21. melléklet az 1/2021. (III.08.) önkormányzati rendelethez
A3: Dánszentmiklós Község Önkormányzatának és fenntartása alatt működő intézményeknek 2021. évi engedélyezett létszámkerete
A5: Intézmény /szakfeladat/ | C5: engedélyezett létszám összesen | D5: Engedélyezett létszám
D6: szakmai létszám | G6: egyéb létszám | I6: közfoglal
D7: teljes munkai. | E7: választott köztiszt. | F7: részmunkaidős | G7: teljes munkaidős | H7: részmunkaid.
A9: Polgármesteri Hivatal
B11: 2021.január 01 | C11: =SUM(D11:I11) -> 8 | D11: 7 | F11: 1
A14: Önkormányzat
B16: 2021.január 01 | C16: =SUM(D16:I16) -> 7 | D16: 3 | E16: 1 | G16: 3
A19: Művelődési és Sportház
B21: 2021. január 01 | C21: =SUM(D21:I21) -> 4 | D21: 3 | G21: 1
A24: Mosolygó Alma Egységes Óvoda-Bölcsőde
B26: 2021. január 01 | C26: =SUM(D26:I26) -> 18 | D26: 16 | H26: 2
A29: közfoglalkoztatás
B31: 2021. január 01 | C31: 5 | I31: 5

Sheet 22mell Közvetett tám
A2: 22. melléklet az 1/2021. (III.08.) önkormányzati rendelethez
A5: Dánszentmiklós Község Önkormányzatának 2021. évben nyújtandó közvetett támogatásai
A8: 11/2014 (XI.28.) számú önkormányzati rendelet a magánszemélyek kommunális adójáról szerinti mentesség kedvezmény
B9: fő | C9: összeg
A10: 3.§(1)bek.a) | B10: 3 | C10: 28000
A11: 3.§(1) bek.b) | B11: 54 | C11: 183000
A13: Összesen | B13: =SUM(B10:B12) -> 57 | C13: =SUM(C10:C12) -> 211000

Sheet 23mell Adósságot kel
A1: 23. melléklet az 1/2021. (III.08.) önkormányzati rendelethez
A4: Dánszentmiklós Község Önkormányzata adósságot keletkeztető ügyleteiből eredő fizetési kötelezettségeinek bemutatása
H5: adatok forintban
A6: MEGNEVEZÉS | B6: Sorszám | D6: Saját bevétel és adósságot keletkeztető ügyletből eredő fizetési kötelezettség összegei | H6: ÖSSZESEN 7=(3+4+5+6)
C8: 2018 | D8: 2019 | E8: 2020 | F8: 2021 | G8: 2022
A9: 1 | B9: 2 | C9: 3 | D9: 3 | E9: 4 | F9: 5 | G9: 6 | H9: 7
A10: Helyi adók | B10: 01 | C10: ='4mellékletKözhatalmi bevételek'!C19 -> 50422954 | D10: ='4mellékletKözhatalmi bevételek'!D19 -> 40400000 | E10: =D10*1.039 -> 41975600 | F10: =E10*1.039 -> 43612648 | G10: =F10*1.039 -> 45313542 | H10: =D10+E10+F10+G10 -> 1.7130179e+08
A11: Osztalék, koncessziós díjak | B11: 02 | C11: 0 | D11: =C11*1.039 -> 0 | E11: =D11*1.039 -> 0 | F11: =E11*1.039 -> 0 | H11: =D11+E11+F11+G11 -> 0
A12: Díjak, pótlékok, bírságok | B12: 03 | C12: 0 | D12: 0 | E12: =D12*1.039 -> 0 | F12: =E12*1.039 -> 0 | H12: =D12+E12+F12+G12 -> 0
A13: Tárgyi eszközök, immateriális javak, vagyoni értékű jog értékesítése, vagyonhasznosításból származó bevétel | B13: 04 | C13: 0 | D13: =C13*1.039 -> 0 | E13: =D13*1.039 -> 0 | F13: =E13*1.039 -> 0 | H13: =D13+E13+F13+G13 -> 0
A14: Részvények, részesedések értékesítése | B14: 05 | C14: 0 | D14: 0 | E14: 0 | F14: 0 | H14: =D14+E14+F14+G14 -> 0
A15: Vállalatértékesítésből, privatizációból származó bevételek | B15: 06 | C15: 0 | D15: 0 | E15: 0 | F15: 0 | H15: =D15+E15+F15+G15 -> 0
A16: Kezességvállalással kapcsolatos megtérülés | B16: 07 | C16: 0 | D16: 0 | E16: 0 | F16: 0 | H16: =D16+E16+F16+G16 -> 0
A17: Saját bevételek (01+… .+07) | B17: 08 | C17: =SUM(C10:C16) -> 50422954 | D17: =SUM(D10:D16) -> 40400000 | E17: =SUM(E10:E16) -> 41975600 | F17: =SUM(F10:F16) -> 43612648 | G17: =SUM(G10:G16) -> 45313542 | H17: =SUM(H10:H16) -> 1.7130179e+08
A18: Saját bevételek (08. sor) 50%-a | B18: 09 | C18: =+C17*0.5 -> 25211477 | D18: =+D17*0.5 -> 20200000 | E18: =+E17*0.5 -> 20987800 | F18: =+F17*0.5 -> 21806324 | G18: =+G17*0.5 -> 22656771 | H18: =D18+E18+F18+G18 -> 85650895
A19: Előző év(ek)ben keletkezett tárgyévi fizetési kötelezettség (11+…..+17) | B19: 10 | C19: =SUM(C20:C26) -> 0 | D19: =SUM(D20:D26) -> 0 | E19: =SUM(E20:E26) -> 0 | F19: =SUM(F20:F26) -> 0 | H19: =+C19+D19+E19+F19 -> 0
A20: Felvett, átvállalt hitel és annak tőketartozása | B20: 11 | C20: 0 | D20: 0 | E20: 0 | F20: 0 | H20: =+C20+D20+E20+F20 -> 0
A21: Felvett, átvállalt kölcsön és annak tőketartozása | B21: 12 | C21: 0 | D21: 0 | E21: 0 | F21: 0 | H21: =+C21+D21+E21+F21 -> 0
A22: Hitelviszonyt megtestesítő értékpapír | B22: 13 | C22: 0 | D22: 0 | E22: 0 | F22: 0 | H22: =+C22+D22+E22+F22 -> 0
A23: Adott váltó | B23: 14 | C23: 0 | D23: 0 | E23: 0 | F23: 0 | H23: =+C23+D23+E23+F23 -> 0
A24: Pénzügyi lízing | B24: 15 | C24: 0 | D24: 0 | E24: 0 | F24: 0 | H24: =+C24+D24+E24+F24 -> 0
A25: Halasztott fizetés | B25: 16 | C25: 0 | D25: 0 | E25: 0 | F25: 0 | H25: =+C25+D25+E25+F25 -> 0
A26: Kezességvállalásból eredő fizetési kötelezettség | B26: 17 | C26: 0 | D26: 0 | E26: 0 | F26: 0 | H26: =+C26+D26+E26+F26 -> 0
A27: Tárgyévben keletkezett, illetve keletkező, tárgyévet terhelő fizetési kötelezettség (19+…..+25) | B27: 18 | C27: =SUM(C28:C34) -> 0 | D27: =SUM(D28:D34) -> 0 | E27: =SUM(E28:E34) -> 0 | F27: =SUM(F28:F34) -> 0 | H27: =+C27+D27+E27+F27 -> 0
A28: Felvett, átvállalt hitel és annak tőketartozása | B28: 19 | C28: 0 | D28: 0 | E28: 0 | F28: 0 | H28: =+C28+D28+E28+F28 -> 0
A29: Felvett, átvállalt kölcsön és annak tőketartozása | B29: 20 | C29: 0 | D29: 0 | E29: 0 | F29: 0 | H29: =+C29+D29+E29+F29 -> 0
A30: Hitelviszonyt megtestesítő értékpapír | B30: 21 | C30: 0 | D30: 0 | E30: 0 | F30: 0 | H30: =+C30+D30+E30+F30 -> 0
A31: Adott váltó | B31: 22 | C31: 0 | D31: 0 | E31: 0 | F31: 0 | H31: =+C31+D31+E31+F31 -> 0
A32: Pénzügyi lízing | B32: 23 | C32: 0 | D32: 0 | E32: 0 | F32: 0 | H32: =+C32+D32+E32+F32 -> 0
A33: Halasztott fizetés | B33: 24 | C33: 0 | D33: 0 | E33: 0 | F33: 0 | H33: =+C33+D33+E33+F33 -> 0
A34: Kezességvállalásból eredő fizetési kötelezettség | B34: 25 | C34: 0 | D34: 0 | E34: 0 | F34: 0 | H34: =+C34+D34+E34+F34 -> 0
A35: Fizetési kötelezettség összesen (10+18) | B35: 26 | C35: =+C19+C27 -> 0 | D35: =+D19+D27 -> 0 | E35: =+E19+E27 -> 0 | F35: =+F19+F27 -> 0 | H35: =+C35+D35+E35+F35 -> 0
A36: Fizetési kötelezettséggel csökkentett saját bevétel (09-26) | B36: 27 | C36: =+C18-C35 -> 25211477 | D36: =+D18-D35 -> 20200000 | E36: =+E18-E35 -> 20987800 | F36: =+F18-F35 -> 21806324 | G36: =+G18-G35 -> 22656771 | H36: =D36+E36+F36+G36 -> 85650895

Sheet 24mell Kötelezettség
A1: 24. melléklet az 1/2021. (III.08.) önkormányzati rendelethez
A4: Dánszentmiklós Község Önkormányzatának több éves kihatással járó kötelezettségei
A8: Sorszám | B8: Kötelezettség jogcíme | C8: Kötelezettség vállalás éve | K8: Lejárat éve | L8: Összesen
D9: 2017 | E9: 2018 | F9: 2019 | G9: 2020 | H9: 2021 | I9: 2022 | J9: 2023
B10: MŰKÖDÉSI CÉLÚ KÖTELEZETTSÉGEK ÖSSZESEN | C10: =SUM(C8:C8) -> 0 | D10: =SUM(D8:D8) -> 0 | E10: =SUM(E8:E8) -> 0 | F10: =SUM(F8:F8) -> 0 | K10: 0 | L10: =SUM(L8:L8) -> 0
A11: 1 | C11: 0 | E11: 0 | F11: 0 | K11: 0
B12: ELMIB részvény | D12: 2751180 | E12: 2833440 | F12: 2919096 | G12: 3006684 | H12: 3096732 | I12: 3189636 | J12: 2697630 | K12: 2023 | L12: =SUM(D12:J12) -> 20494398
B13: FELHALMOZÁSI CÉLÚ KÖTELEZETTSÉGEK ÖSSZESEN | C13: =SUM(C11) -> 0 | D13: =SUM(D12) -> 2751180 | E13: =SUM(E12) -> 2833440 | F13: =SUM(F12) -> 2919096 | G13: =SUM(G12) -> 3006684 | H13: =SUM(H12) -> 3096732 | I13: =SUM(I12) -> 3189636 | J13: =SUM(J12) -> 2697630 | K13: 0 | L13: =SUM(L12) -> 20494398
B14: MINDÖSSZESEN: | C14: 0 | D14: =SUM(D13) -> 2751180 | E14: =SUM(E13) -> 2833440 | F14: =SUM(F13) -> 2919096 | G14: =SUM(G13) -> 3006684 | H14: =SUM(H13) -> 3096732 | I14: =SUM(I13) -> 3189636 | J14: =SUM(J13) -> 2697630 | K14: =SUM(K13) -> 0 | L14: =SUM(L13) -> 20494398
