Workbook

Sheet 1.melléklÖnkormányzati összesen
A1: 1. melléklet az 1/2021. (III.08.) önkormányzati rendelethez
A3: Dánszentmiklós Község Önkormányzatának 2021. évi összesített intézményi szintű mérlege
O5: adatok Ft-ban
A6: Költségvetési bevételek | I6: Költségvetési kiadások
A7: Rovat megnevezése | B7: Rovat száma | C7: Önkormányzat | E7: Intézményei | G7: Mindösszesen | I7: Rovat megnevezése | J7: Rovat száma | K7: Önkormányzat | M7: Intézményei | O7: Mindösszesen
C8: 2020. évi teljesítés | D8: 2021. évi eredeti | E8: 2020. évi teljesítés | F8: 2021. évi eredeti | G8: 2020. évi teljesítés | H8: 2021. évi eredeti | K8: 2020. évi teljesítés | L8: 2021. évi eredeti | M8: 2020. évi teljesítés | N8: 2021. évi eredeti | O8: 2020. évi teljesítés | P8: 2021. évi eredeti
A9: Önkormányzatok működési támogatásai | B9: B11 | C9: ='2.melléklet Önkormányzat mérleg'!C8 -> 196840488 | D9: ='2.melléklet Önkormányzat mérleg'!D8 -> 207024334 | E9: 0 | G9: =SUM(C9,E9) -> 196840488 | H9: =SUM(D9,F9) -> 207024334 | I9: Foglalkoztatottak személyi juttatásai | J9: K1 | K9: ='2.melléklet Önkormányzat mérleg'!G8 -> 33083652 | L9: ='2.melléklet Önkormányzat mérleg'!H8 -> 35628952 | M9: 106826895 | N9: ='16mellIntézményi összesített'!J8 -> 114111672 | O9: =SUM(K9,M9) -> 139910547 | P9: =SUM(L9,N9) -> 149740624
A10: Egyéb működési célú támogatások bevételei államháztartáson belülről | B10: B16 | C10: ='2.melléklet Önkormányzat mérleg'!C9 -> 10766200 | D10: ='2.melléklet Önkormányzat mérleg'!D9 -> 11317200 | E10: 0 | G10: =SUM(C10,E10) -> 10766200 | H10: =SUM(D10,F10) -> 11317200 | I10: Munkadókat terhelő járulékok, szoch. adó | J10: K2 | K10: ='2.melléklet Önkormányzat mérleg'!G9 -> 5789639 | L10: ='2.melléklet Önkormányzat mérleg'!H9 -> 5456110 | M10: 18610707 | N10: ='16mellIntézményi összesített'!J9 -> 17355785 | O10: =SUM(K10,M10) -> 24400346 | P10: =SUM(L10,N10) -> 22811895
A11: Működési célú támogatások államháztartáson belülről mindösszesen | B11: B1 | C11: ='2.melléklet Önkormányzat mérleg'!C10 -> 207606688 | D11: ='2.melléklet Önkormányzat mérleg'!D10 -> 218341534 | E11: =SUM(E9:E10) -> 0 | G11: =SUM(C11,E11) -> 207606688 | H11: =SUM(D11,F11) -> 218341534 | I11: Dologi kiadások | J11: K3 | K11: ='2.melléklet Önkormányzat mérleg'!G10 -> 45754611 | L11: ='2.melléklet Önkormányzat mérleg'!H10 -> 59742812 | M11: 25984069 | N11: ='16mellIntézményi összesített'!J10 -> 24379627 | O11: =SUM(K11,M11) -> 71738680 | P11: =SUM(L11,N11) -> 84122439
A12: Felhalmozási célú támogatások államháztartáson belülről | B12: B2 | C12: ='2.melléklet Önkormányzat mérleg'!C11 -> 0 | D12: ='2.melléklet Önkormányzat mérleg'!D11 -> 0 | E12: 0 | G12: =SUM(C12,E12) -> 0 | H12: =SUM(D12,F12) -> 0 | I12: Ellátottak pénzbeli juttatásai | J12: K4 | K12: ='2.melléklet Önkormányzat mérleg'!G11 -> 9100000 | L12: ='2.melléklet Önkormányzat mérleg'!H11 -> 14900000 | M12: 0 | N12: 0 | O12: =SUM(K12,M12) -> 9100000 | P12: =SUM(L12,N12) -> 14900000
A13: Közhatalmi bevételek mindösszesen: | B13: B3 | C13: ='2.melléklet Önkormányzat mérleg'!C12 -> 65000000 | D13: ='2.melléklet Önkormányzat mérleg'!D12 -> 40400000 | E13: 0 | G13: =SUM(C13,E13) -> 65000000 | H13: =SUM(D13,F13) -> 40400000 | I13: Egyéb működési célú kiadások | J13: K5 | K13: 14497428 | L13: ='2.melléklet Önkormányzat mérleg'!H12+'2.melléklet Önkormányzat mérleg'!H13 -> 18883898 | M13: 0 | N13: 0 | O13: =SUM(K13,M13) -> 14497428 | P13: =SUM(L13,N13) -> 18883898
A14: Működési bevételek mindösszesen | B14: B4 | C14: ='2.melléklet Önkormányzat mérleg'!C13 -> 0 | D14: ='2.melléklet Önkormányzat mérleg'!D13 -> 0 | E14: 7300000 | F14: ='16mellIntézményi összesített'!J15 -> 7300000 | G14: =SUM(C14,E14) -> 7300000 | H14: =SUM(D14,F14) -> 7300000 | I14: Beruházások | J14: K6 | K14: 3641684 | L14: ='2.melléklet Önkormányzat mérleg'!H14 -> 92718232 | M14: 2071205 | N14: ='16mellIntézményi összesített'!J11 -> 3421870 | O14: =SUM(K14,M14) -> 5712889 | P14: =SUM(L14,N14) -> 96140102
A15: Működési célú átvett pénzeszközök | B15: B6 | C15: ='2.melléklet Önkormányzat mérleg'!C14 -> 12141250 | D15: ='2.melléklet Önkormányzat mérleg'!D14 -> 10671965 | E15: ='16mellIntézményi összesített'!I16 -> 0 | G15: =SUM(C15,E15) -> 12141250 | H15: =SUM(D15,F15) -> 10671965 | I15: Felújítások | J15: K7 | K15: ='2.melléklet Önkormányzat mérleg'!G15 -> 21139150 | L15: ='2.melléklet Önkormányzat mérleg'!H15 -> 73000000 | M15: 0 | N15: ='16mellIntézményi összesített'!J12 -> 0 | O15: =SUM(K15,M15) -> 21139150 | P15: =SUM(L15,N15) -> 73000000
A16: Felhalmozási célú átvett pénzeszközök | B16: B7 | C16: ='2.melléklet Önkormányzat mérleg'!C16 -> 2000000 | D16: ='2.melléklet Önkormányzat mérleg'!D16 -> 0 | E16: 0 | G16: =SUM(C16,E16) -> 2000000 | H16: =SUM(D16,F16) -> 0 | O16: =SUM(K16,M16) -> 0 | P16: =SUM(L16,N16) -> 0
A17: Költségvetési bevételek | B17: (B1-B7) | C17: =SUM(C11:C16) -> 286747938 | D17: =SUM(D11:D16) -> 269413499 | E17: =SUM(E11:E16) -> 7300000 | F17: =SUM(F11:F16) -> 7300000 | G17: =SUM(G11:G16) -> 294047938 | H17: =SUM(H11:H16) -> 276713499 | I17: Költségvetési kiadások | K17: =SUM(K9:K15) -> 133006164 | L17: =SUM(L9:L15) -> 3.0033e+08 | M17: =SUM(M9:M15) -> 153492876 | N17: =SUM(N9:N15) -> 1.5926895e+08 | O17: =M17+K17 -> 286499040 | P17: =N17+L17 -> 4.5959896e+08
A18: Előző év költségvetési maradványának igénybevétele | B18: (B8131) | C18: ='2.melléklet Önkormányzat mérleg'!C18 -> 0 | D18: ='2.melléklet Önkormányzat mérleg'!D18 -> 186769314 | G18: =SUM(C18,E18) -> 0 | H18: =SUM(D18,F18) -> 186769314 | O18: =SUM(K18,M18) -> 0 | P18: =SUM(L18,N18) -> 0
A19: Maradvány igénybevétele | B19: (B813) | C19: ='2.melléklet Önkormányzat mérleg'!C19 -> 0 | D19: ='2.melléklet Önkormányzat mérleg'!D19 -> 186769314 | E19: =SUM(E18) -> 0 | F19: ='16mellIntézményi összesített'!J17 -> 4397120 | G19: =SUM(C19,E19) -> 0 | H19: =SUM(D19,F19) -> 191166434 | I19: Államháztartáson belüli megelőlegezések visszafizetése | J19: K914 | K19: ='2.melléklet Önkormányzat mérleg'!G19 -> 7548899 | L19: ='2.melléklet Önkormányzat mérleg'!H19 -> 8280974 | M19: 0 | O19: =SUM(K19,M19) -> 7548899 | P19: =SUM(L19,N19) -> 8280974
A20: Központi, irányítószervi támogatás B816 | B20: B816 | C20: ='2.melléklet Önkormányzat mérleg'!C20 -> 0 | D20: ='2.melléklet Önkormányzat mérleg'!D20 -> 0 | E20: 146192876 | F20: ='16mellIntézményi összesített'!J18 -> 1.4757183e+08 | G20: =SUM(C20,E20) -> 146192876 | H20: =SUM(D20,F20) -> 1.4757183e+08 | I20: Központi, irányító szervi támogatások folyósítása | J20: K915 | K20: ='2.melléklet Önkormányzat mérleg'!G20 -> 146192875 | L20: ='2.melléklet Önkormányzat mérleg'!H20 -> 1.4757183e+08 | M20: 0 | O20: =SUM(K20,M20) -> 146192875 | P20: =SUM(L20,N20) -> 1.4757183e+08
A21: Belföldi finanszírozás bevételei | B21: (B81) | C21: ='2.melléklet Önkormányzat mérleg'!C21 -> 0 | D21: ='2.melléklet Önkormányzat mérleg'!D21 -> 186769314 | E21: =SUM(E19:E20) -> 146192876 | F21: =SUM(F19:F20) -> 1.5196895e+08 | G21: =SUM(C21,E21) -> 146192876 | H21: =SUM(D21,F21) -> 3.3873827e+08 | I21: Belföldi finanszírozás kiadásai | J21: K91 | K21: =SUM(K19:K20) -> 153741774 | L21: =SUM(L19:L20) -> 1.5585281e+08 | M21: =SUM(M19:M20) -> 0 | O21: =SUM(K21,M21) -> 153741774 | P21: =SUM(L21,N21) -> 1.5585281e+08
A22: Finanszírozási bevételek | B22: (B8) | C22: =SUM(C21) -> 0 | D22: =SUM(D21) -> 186769314 | E22: =SUM(E21) -> 146192876 | F22: =SUM(F21) -> 1.5196895e+08 | G22: =SUM(G21) -> 146192876 | H22: =SUM(H21) -> 3.3873827e+08 | I22: Finanszírozási kiadások | J22: K9 | K22: =SUM(K21) -> 153741774 | L22: =SUM(L21) -> 1.5585281e+08 | M22: =SUM(M21) -> 0 | N22: =SUM(N21) -> 0 | O22: =SUM(O21) -> 153741774 | P22: =SUM(P21) -> 1.5585281e+08
A23: Mindösszesen bevétel: | C23: =SUM(C22,C17) -> 286747938 | D23: =SUM(D22,D17) -> 456182813 | E23: =SUM(E22,E17) -> 153492876 | F23: =SUM(F22,F17) -> 1.5926895e+08 | G23: =SUM(G22,G17) -> 440240814 | H23: =SUM(H22,H17) -> 6.1545177e+08 | I23: Mindösszesen kiadás: | K23: =K17+K22 -> 286747938 | L23: =L17+L22 -> 4.5618281e+08 | M23: =M17+M22 -> 153492876 | N23: =N17+N22 -> 1.5926895e+08 | O23: =O17+O22 -> 440240814 | P23: =P17+P22 -> 6.1545177e+08
A24: ellenőrző sor: | C24: =C23-K23 -> 0 | D24: =D23-L23 -> 0.36000001 | E24: =E23-M23 -> 0 | F24: =F23-N23 -> 0 | G24: =G23-O23 -> 0 | H24: =H23-P23 -> 0.36000001 | K24: =K23-C23 -> 0 | M24: =M23-E23 -> 0 | O24: =O23-G23 -> 0

Sheet 2.melléklet Önkormányzat mérleg
A1: 2. melléklet az 1/2021. (III.08.) önkormányzati rendelethez
A3: Dánszentmiklós Község Önkormányzatának 2021. évi összesített intézményi szintű mérlege
A6: Költségvetési bevételek | E6: Költségvetési kiadások
A7: Rovat megnevezése | B7: Rovat száma | C7: 2020. évi előirányzat | D7: 2021. évi eredeti előirányzat | E7: Rovat megnevezése | F7: Rovat száma | G7: 2020. évi előirányzat | H7: 2021. évi eredeti előirányzat
A8: Önkormányzatok működési támogatásai | B8: B11 | C8: 196840488 | D8: ='3mell-Normatíva'!G49 -> 207024334 | E8: Foglalkoztatottak személyi juttatásai | F8: K1 | G8: 33083652 | H8: ='6 melléklet kiadás'!C17 -> 35628952
A9: Egyéb működési célú támogatások bevételei államháztartáson belülről | B9: B16 | C9: 10766200 | D9: ='3mell-Normatíva'!G50+'3mell-Normatíva'!G54 -> 11317200 | E9: Munkadókat terhelő járulékok és szociális hozzájárulási adó | F9: K2 | G9: 5789639 | H9: ='6 melléklet kiadás'!D17 -> 5456110
A10: Működési célú támogatások államháztartáson belülről mindösszesen | B10: B1 | C10: =SUM(C8:C9) -> 207606688 | D10: =SUM(D8:D9) -> 218341534 | E10: Dologi kiadások | F10: K3 | G10: 45754611 | H10: ='6 melléklet kiadás'!E17 -> 59742812
A11: Felhalm. célú támogatások államháztartáson belülről | B11: B2 | D11: ='[1]Normatíva 2018'!G66 -> 0 | E11: Ellátottak pénzbeli juttatásai (K4) | F11: K4 | G11: 9100000 | H11: ='6 melléklet kiadás'!F17 -> 14900000
A12: Közhatalmi bevételek mindösszesen: | B12: B3 | C12: 65000000 | D12: ='4mellékletKözhatalmi bevételek'!D19 -> 40400000 | E12: Egyéb működési célú kiadások | F12: K5 | G12: 4689000 | H12: ='6 melléklet kiadás'!G17 -> 3704811
E13: Általános tartalék | F13: K513 | G13: 9808428 | H13: ='6 melléklet kiadás'!J16 -> 15179087
A14: Működési bevételek mindösszesen | B14: B4 - B5 | C14: 12141250 | D14: ='5melléklet Működési bevétel'!D31 -> 10671965 | E14: Beruházások | F14: K6 | G14: 3641684 | H14: ='6 melléklet kiadás'!H17 -> 92718232
A15: Működési célú átvett pénzeszközök | B15: B6 | E15: Felújítások | F15: K7 | G15: 21139150 | H15: ='6 melléklet kiadás'!I17 -> 73000000
A16: Felhalmozási célú átvett pénzeszközök | B16: B7 | C16: 2000000 | D16: 0 | E16: Felhalmozási célú nyújott kölcsönök | H16: 0
A17: Költségvetési bevételek | B17: (B1-B7) | C17: =SUM(C10:C16) -> 286747938 | D17: =SUM(D10:D16) -> 269413499 | E17: Költségvetési kiadások | G17: =SUM(G8:G16) -> 133006164 | H17: =SUM(H8:H16) -> 3.0033e+08
A18: Előző év költségvetési maradványának igénybevétele | B18: (B8131) | D18: 186769314
A19: Maradvány igénybevétele | B19: (B813) | C19: =SUM(C18) -> 0 | D19: =SUM(D18) -> 186769314 | E19: Államháztartáson belüli megelőlegezések visszafizetése | F19: K914 | G19: 7548899 | H19: ='6 melléklet kiadás'!K17 -> 8280974
A20: Központi, irányítószervi támogatás B816 | B20: B816 | E20: Központi, irányító szervi támogatások folyósítása | F20: K915 | G20: 146192875 | H20: ='6 melléklet kiadás'!L16 -> 1.4757183e+08
A21: Belföldi finanszírozás bevételei | B21: (B81) | C21: =C19+C20 -> 0 | D21: =D19+D20 -> 186769314 | E21: Belföldi finanszírozás kiadásai | F21: K91 | G21: =SUM(G19:G20) -> 153741774 | H21: =SUM(H19:H20) -> 1.5585281e+08
A22: Hitel felvétele beruházáshoz
A23: Finanszírozási bevételek | B23: (B8) | C23: =C21 -> 0 | D23: =D21 -> 186769314 | E23: Finanszírozási kiadások | F23: K9 | G23: =SUM(G21) -> 153741774 | H23: =SUM(H21) -> 1.5585281e+08
A24: Mindösszesen bevétel: | C24: =SUM(C23,C17) -> 286747938 | D24: =SUM(D23,D17) -> 456182813 | E24: Mindösszesen kiadás: | G24: =G17+G23 -> 286747938 | H24: =H17+H23 -> 4.5618281e+08
A25: ellenőrző sor: | C25: 0 | D25: =D24-H24 -> 0.36000001 | G25: =G24-C24 -> 0

Sheet 3mell-Normatíva
A1: 3. melléklet az 1/2021. (III.08.) önkormányzati rendelethez
A4: Dánszentmiklós Község Önkormányzatát megillető 2021. évi normatíva és államháztartáson belüli átvett pénzeszközök
A7: Támogatási forma | B7: Támogatás megnevezése | C7: Támogatás | F7: 2020. évi teljesítés | G7: 2021. évi eredeti előirányzat
C8: Mutató | D8: Ft/mutató | E8: Ft-ban
C9: Eredeti előirányzat
C10: 2020
A12: I.1.a) | B12: Önkormányzati hivatal működésének támogatása (beszámítás után) | C12: 7.79 | D12: 5450000 | E12: 42455500 | F12: 42455500 | G12: 42595500
A13: I.1.b) | B13: Település-üzemeltetéshez kapcsolódó feladatellátás támogatása (beszámítás után) | E13: =SUM(E14:E17) -> 24760069 | F13: =SUM(F14:F17) -> 24760069 | G13: =SUM(G14:G17) -> 30606343
A14: I.1. b) ba) | B14: A zöldterület-gazdálkodással kapcsolatos feladatok ellátásának támogatása | E14: 9092160 | F14: 9092160 | G14: 11195566
A15: I.1. b) bb) | B15: Közvilágítás fenntartásának támogatása | E15: 9152000 | F15: 9152000 | G15: 11387459
A16: I.1. b) bc) | B16: Köztemető fenntartással kapcsolatos feladatok támogatása | E16: 977109 | F16: 977109 | G16: 1203156
A17: I.1. b) bd) | B17: Közutak fenntartásának támogatása | E17: 5538800 | F17: 5538800 | G17: 6820162
A18: I.1.c) | B18: Egyéb kötelező önkormányzati feladatok támogatása (beszámítás után) | E18: 7811100 | F18: 7811100 | G18: 9850743
A19: I.1.d) | B19: Lakott külterülettel kapcsolatos feladatok támogatása (beszámítás után)* | E19: 147900 | F19: 147900 | G19: 163276
A20: I.1.e) | B20: Üdülőhelyi feladatok támogatása** | E20: 0 | F20: 0
B21: I.1. jogcímekhez kapcsolódó kiegészítés | E21: 16105256 | F21: 16511178 | G21: 9854164
B22: Polgármesteri illetmény támogatása | E22: 840800 | F22: 840800
A23: I. | B23: Települési önkormányzatok általános működésének támogatása (B111) | E23: =SUM(E12,E13,E18,E19,E20,E21,E22) -> 92120625 | F23: =SUM(F12,F13,F18,F19,F20,F21,F22) -> 92526547 | G23: =SUM(G12,G13,G18,G19,G20,G21,G22) -> 93070026
A24: II.1. | B24: Óvodapedagógusok 8 havi támogatása | C24: 8.1 | D24: 4371500 | E24: 23606100 | F24: 23606100 | G24: 24955700
B25: Óvodapedagógusok 4 havi támogatása | C25: 8.1 | D25: 4371500 | E25: 11803050 | F25: 11803050 | G25: 12477850
B26: Óvodapedagógusuk 4 havi pótlólagos támogatása | F26: 3322883
B27: segítők 8 havi támogatása | C27: 5 | D27: 2400000 | E27: 8000000 | F27: 8000000 | G27: 9730000
B28: segítők 4 havi támogatása | C28: 5 | D28: 2400000 | E28: 4000000 | F28: 5500000 | G28: 4865000
B29: Óvodapedagógusok, és az óvodapedagógusok nevelőmunkáját közvetlenül segítők bértámogatása összesen (B112): | E29: =SUM(E24:E28) -> 47409150 | F29: =SUM(F24:F28) -> 52232033 | G29: =SUM(G24:G28) -> 52028550
A30: II.2. | B30: óvodaműködtetési támogatás 8 havi támogatása | C30: 78 | D30: 97400 | E30: 8084200 | F30: 5064800 | G30: 7694600
B31: óvodaműködtetési támogatás 4 havi támogatása | C31: 77 | D31: 97400 | E31: 0 | F31: 2532400
B32: Óvodaműködtetési támogatás összesen (B112): | E32: =SUM(E30:E31) -> 8084200 | F32: =SUM(F30:F31) -> 7597200 | G32: =SUM(G30:G31) -> 7694600
A33: II.4. | B33: Kiegészítő támogatás az óvodapedagógusok minősítéséből adódó többlet kiadásokhoz | E33: =SUM(E34:E36) -> 4448342 | F33: =SUM(F34:F36) -> 4448342 | G33: =SUM(G34:G36) -> 4950000
A34: II.4.a.(1) | B34: Alapfokozatú végzettségű PED II. besorolás kiegészítése | C34: 3 fő | D34: 396700 | E34: 1190100 | F34: 1190100 | G34: 1728000
A35: II.4.b.(1) | B35: Alapfokozatú végzettségű PED II. besorolás kiegészítése | C35: 1 fő | D35: 363642 | E35: 363642 | F35: 363642
A36: II.4.a.(2) | B36: Alapfokozatú végzettségű mester ped. kieg támogatása | C36: 2 fő | D36: 1447300 | E36: 2894600 | F36: 2894600 | G36: 3222000
A37: II. | B37: Települési önkormányzatok egyes köznevelési feladatainak támogatása összesen (B112): | E37: =SUM(E29,E32,E33) -> 59941692 | F37: =SUM(F29,F32,F33) -> 64277575 | G37: =SUM(G29,G32,G33) -> 64673150
A38: III.2. | B38: A települési önkormányzatok szociális feladatainak egyéb támogatása | E38: 18044000 | F38: 18044000 | G38: 18640000
A39: III.3. | B39: Gyermekek napközbeni ellátása | E39: =SUM(E40:E41) -> 10752000 | F39: =SUM(F40:F41) -> 11625500 | G39: =SUM(G40:G41) -> 11213000
B40: Bölcsődei ellátás | C40: 1.5 | D40: 2993000 | E40: 7412000 | F40: 8285500 | G40: 9360000
B41: Bölcsődei üzemeltetési ellátás | E41: 3340000 | F41: 3340000 | G41: 1853000
A42: III.5. | B42: Gyermekétkeztetés támogatása | E42: =SUM(E43:E44) -> 12076097 | F42: =SUM(F43:F44) -> 13651697 | G42: =SUM(G43:G44) -> 12515148
A43: III.5.a) | B43: Gyermekétkeztetés szempontjából elismert dolgozók bértámogatása | C43: 4.75 | D43: 2200000 | E43: 10450000 | F43: 12025600 | G43: 11666160
A44: III.5.b) | B44: Gyermekétkezetés üzemeltetési támogatása | E44: 1626097 | F44: 1626097 | G44: 848988
A45: III.6. | B45: Rászoruló gyermekek szünidei étkeztetési támogatása | E45: 707940 | F45: 601920 | G45: 639540
...

Sheet 4mellékletKözhatalmi bevételek
A1: 4. melléklet az 1/2021. (III.08.) önkormányzati rendelethez
A3: Dánszentmiklós Község Önkormányzatának 2021. évi közhatalmi bevételei
A5: Rovat megnevezése | B5: Rovat száma | C5: 2020. évi teljesítés | D5: 2021. évi eredeti előirányzat
A6: Vagyoni tipusú adók | B6: B34 | C6: =SUM(C7:C9) -> 11217931 | D6: =SUM(D7:D9) -> 11800000
A7: ebből: építményadó | C7: 2933523 | D7: 3000000
A8: ebből: magánszemélyek kommunális adója | C8: 8284408 | D8: 8800000
A9: ebből: telekadó | C9: 0 | D9: 0
A10: Értékesítési és forgalmi adók | B10: B351 | C10: =SUM(C11) -> 35616677 | D10: =SUM(D11) -> 25000000
A11: ebből: állandó jeleggel végzett iparűzési tevékenység után fizetett helyi iparűzési adó | C11: 35616677 | D11: 25000000
A12: Gépjárműadók | B12: B354 | C12: 0 | D12: 0
A13: Egyéb áruhasználati és szolgáltatási adók (B355) | B13: B355 | C13: 0 | D13: 0
A14: Termékek és szolgáltatások adói mindösszesen | B14: B35 | C14: =SUM(C10,C12,C13) -> 35616677 | D14: =SUM(D10,D12,D13) -> 25000000
A15: Egyéb közhatalmi bevételek | B15: B36 | C15: =SUM(C16:C18) -> 3588346 | D15: =SUM(D16:D18) -> 3600000
A16: ebből: igazgatási szolgáltatási díjak | C16: 80000 | D16: 0
A17: ebből: egyéb bírság , pótlék | C17: 518961 | D17: 600000
A18: ebből: talajterhelési díj bevétele | C18: 2989385 | D18: 3000000
A19: Közhatalmi bevételek mindösszesen: | B19: B3 | C19: =SUM(C6,C14,C15) -> 50422954 | D19: =SUM(D6,D14,D15) -> 40400000

Sheet 5melléklet Működési bevétel
A1: 5. melléklet az 1/2021. (III.08.) önkormányzati rendelethez
A4: Dánszentmiklós Község Önkormányzatának 2021. évi működési és felhalmozási bevételei
C5: adatok Ft-ban
A6: Rovat megnevezése | B6: Rovat száma | C6: 2020. évi teljesítés | D6: 2021. évi eredeti előirányzat
A7: Készletértékesítés ellenértéke | B7: B401 | C7: 14173 | D7: 15000
A8: Szolgáltatások ellenértéke | B8: B402 | C8: =SUM(C9:C14) -> 3574178 | D8: =SUM(D9:D14) -> 4564500
A9: nem lakás célú ingatlanok bérleti díja | C9: 1593230 | D9: 1672000
A10: mezőgazdasági földbérleti díj | C10: 630000 | D10: 892500
A11: sírhely díj | C11: 574448 | D11: 1000000
A12: lakáscélú bérleti díjak | C12: 0 | D12: 0
A13: fizikoterápiás szolgáltatás díja-bérleti díj | C13: 776500 | D13: 1000000
A14: víziközmű és szennyvíz bérleti díj bevétele (kötött felhasználású) | D14: 0
A15: Közvetített szolgáltatások ellenértéke | B15: B403 | C15: 200000 | D15: 1240000
A16: Ellátási díjak | B16: B405 | C16: =SUM(C17:C18) -> 1976063 | D16: =SUM(D17:D18) -> 2560000
A17: óvodai étkezési térítési díjak | C17: 61487 | D17: 60000
A18: iskolai étkezési térítési díjak | C18: 1914576 | D18: 2500000
A19: Kiszámlázott általános forgalmi adó | B19: B406 | C19: =SUM(C7,C9,C10,C11,C15,C16,)*0.27 -> 1346736.8 | D19: =SUM(D7,D9,D10,D11,D15,D16,)*0.27 -> 1992465
A20: Kamatbevételek és más nyereségjellegű bevételek | B20: B408 | C20: 55 | D20: 0
A21: Biztosító által fizetett kártérítés | B21: B410 | C21: 0 | D21: =C21 -> 0
A22: Egyéb működési bevételek | B22: B411 | C22: 768011 | D22: 0
A23: Működési bevételek mindösszesen | B23: B4 | C23: =SUM(C7,C8,C16,C15,C19:C22) -> 7879216.8 | D23: =SUM(D7,D8,D16,D15,D19:D22) -> 10371965
A25: Ingatlan értékesítés | B25: B501 | C25: 2100000 | D25: 0
A26: Egyéb felhalmozási célú átvett pénzeszközök | B26: B75 | C26: 290000 | D26: 300000
D27: =C27 -> 0
A28: Felhalmozási bevételek mindösszesen | B28: B5 | C28: =SUM(C25,C26) -> 2390000 | D28: =SUM(D26,D25) -> 300000
D29: =C29 -> 0
D30: =C30 -> 0
A31: Működési -felhalmozási bevételek mindösszesen | B31: B4 - B7 | C31: =SUM(C23,C28) -> 10269217 | D31: =SUM(D23,D28) -> 10671965

Sheet 6 melléklet kiadás
B1: 6. melléklet az 1/2021. (III.08.) önkormányzati rendelethez
B3: Dánszentmiklós Község Önkormányzatának 2021. évi feladat ellátásonkénti kiadási összesítője
A5: Rovat megnevezése/Feladat ellátás | C5: Személyi jellegű ráfordítás K1 | D5: Járulékok K2 | E5: Dologi kiadások K3 | F5: Települési támogatások K4 | G5: Átadott pénzeszközök K5 | H5: Beruházások K6 | I5: Felújítások K7 | J5: Tartalék K513 | K5: Megelőlegezés K914 | L5: Intézményfinanszírozás K915 | M5: Mindösszesen
A7: Általános kiadás | B7: Eredeti előirányzat | C7: ='7.melléklet Általános kiadások'!D20 -> 11281532 | D7: ='7.melléklet Általános kiadások'!D21 -> 1636832 | E7: ='7.melléklet Általános kiadások'!D78 -> 13708972 | M7: =SUM(C7:I7) -> 26627336
A8: Település üzemeltetés | B8: Eredeti előirányzat | C8: ='8.melléklet Település üzemelte'!P17 -> 10107300 | D8: ='8.melléklet Település üzemelte'!P18 -> 1566635 | E8: ='8.melléklet Település üzemelte'!P75 -> 21233200 | M8: =SUM(C8:L8) -> 32907135
A9: Étkeztetési feladatok | B9: Eredeti előirányzat | C9: 0 | D9: 0 | E9: ='9.melléklet Étkeztetés'!H12 -> 13733090 | M9: =SUM(C9:I9) -> 13733090
A10: Egészségügyi feladatok | B10: Eredeti előirányzat | C10: ='10.mell Egészségügyi'!N20 -> 9349400 | D10: ='10.mell Egészségügyi'!N21 -> 1396767 | E10: ='10.mell Egészségügyi'!N78 -> 11067550 | M10: =SUM(C10:I10) -> 21813717
A11: Közfoglalkoztatási t ámogatás | B11: Eredeti előirányzat | C11: ='11. melléklet Közfoglalkoztatás'!D20 -> 4890720 | D11: ='11. melléklet Közfoglalkoztatás'!D21 -> 855876 | E11: 0 | M11: =SUM(C11:I11) -> 5746596
A12: Település támogatás | B12: Eredeti előirányzat | F12: ='12 melléklet Települési támogat'!D15 -> 14900000 | M12: =SUM(C12:I12) -> 14900000
A13: Átadott pénzeszközök | B13: Eredeti előirányzat | G13: ='13 melléklet Átadott pénzeszköz'!D18 -> 3704811 | M13: =SUM(C13:I13) -> 3704811
A14: Beruházások | B14: Eredeti előirányzat | H14: ='14mellBeruházások felújítások'!D26 -> 92718232 | M14: =SUM(C14:I14) -> 92718232
A15: Felújítások | B15: Eredeti előirányzat | I15: ='14mellBeruházások felújítások'!D39 -> 73000000 | M15: =SUM(C15:I15) -> 73000000
A16: Maradvány, intézményi finanszírozás, megelőlegezés | B16: Eredeti előirányzat | J16: ='15 mell Tartalék'!C21 -> 15179087 | K16: 8280974 | L16: ='16mellIntézményi összesített'!J18 -> 1.4757183e+08 | M16: =SUM(C16:L16) -> 1.710319e+08
A17: Mindösszesen | B17: Eredeti előirányzat 2021 | C17: =SUM(C7:C16) -> 35628952 | D17: =SUM(D7:D16) -> 5456110 | E17: =SUM(E7:E16) -> 59742812 | F17: =SUM(F7:F16) -> 14900000 | G17: =SUM(G7:G16) -> 3704811 | H17: =SUM(H7:H16) -> 92718232 | I17: =SUM(I7:I16) -> 73000000 | J17: =SUM(J7:J16) -> 15179087 | ... M17: =SUM(M7:M16) -> 4.5618281e+08

Sheet 7.melléklet Általános kiadások
A1: 7. melléklet az 1/2021. (III.08.) önkormányzati rendelethez
A3: Dánszentmiklós KÖZSÉG ÖNKORMÁNYZAT ÁLTALÁNOS KIADÁSAI 011130 COFOG 2021. év
A5: Rovat megnevezése | B5: Rovat száma | C5: Általános kiadások (011130)
C6: 2020. évi teljesítés | D6: 2021. évi eredeti
A7: Törvény szerinti illetmények, munkabérek | B7: K1101
A8: Készenléti, ügyeleti, helyettesítési díj, túlóra, túlszolgálat | B8: K1104
A9: Végkielégítés | B9: K1105
A10: Jubileumi jutalom | B10: K1106
A11: Béren kívüli juttatások | B11: K1107 | C11: 149000 | D11: 347000
A12: Közlekedési költségtérítés | B12: K1109
A13: Egyéb költségtérítések | B13: K1110 | C13: 12000 | D13: =C13 -> 12000
A14: Egyéb személyi jellegű ráfordítások | B14: K1113
A15: Foglalkoztatottak személyi juttatásai | B15: K11 | C15: =SUM(C7:C14) -> 161000 | D15: =SUM(D7:D14) -> 359000
A16: Választott tisztségviselők juttatásai | B16: K121 | C16: 7810408 | D16: 10772532
A17: Munkavégzésre irányuló egyéb jogviszonyban nem saját foglalkoztatottnak fizetett juttatások | B17: K122 | C17: 135470
A18: Reprezentáció | B18: K123 | C18: 120672 | D18: 150000
A19: Külső személyi juttatások | B19: K12 | C19: =SUM(C16:C18) -> 8066550 | D19: =SUM(D16:D18) -> 10922532
A20: Személyi juttatások | B20: K1 | C20: =C19+C15 -> 8227550 | D20: =D19+D15 -> 11281532
A21: Munkaadókat terhelő járulékok és szociális hozzájárulási adó | B21: K2 | C21: =C20*0.2 -> 1645510 | D21: 1636832
A22: Szakmai anyagok beszerzése | B22: K311 | C22: =SUM(C23:C27) -> 22095 | D22: =SUM(D23:D27) -> 0
A23: Gyógyszer beszerzés | C23: 0
A24: Könyvbeszerzés | C24: 22095
A25: Folyóírat | D25: =C25 -> 0
A26: Egyéb információ hordozó | D26: =C26 -> 0
A27: Egyéb szakmai anyag
A28: Üzemeltetési anyagok beszerzése | B28: K312 | C28: =SUM(C29:C34) -> 115944 | D28: =SUM(D29:D34) -> 0
A29: Irodaszer-, nyomtatvány | D29: =C29 -> 0
A30: Vegyszerbeszerzés | D30: =C30 -> 0
A31: Hajtó- és kenőanyag beszerzés
A32: Karbantartási anyag beszerzés
A33: Tisztítószer beszerzés
A34: Egyéb üzemeltetési anyag | C34: 115944
A35: Árubeszerzés | B35: K313 | D35: =C35 -> 0
A36: Készletbeszerzés | B36: K31 | C36: =SUM(C28,C22,C35) -> 138039 | D36: =SUM(D28,D22,D35) -> 0
A37: Informatikai szolgáltatások igénybevétele | B37: K321 | C37: =SUM(C38:C41) -> 28460 | D37: =C37 -> 28460
A38: Informatikai eszközök, szolgáltatások bérleti díja | C38: 28460 | D38: =C38 -> 28460
A39: Informatikai eszközök karbantartási díja | D39: =C39 -> 0
A40: Adatátviteli célú eszközök | D40: =C40 -> 0
A41: Ekf. Inform.szolg.: Weboldal | D41: 55000
A42: Egyéb kommunikációs szolgáltatások | B42: K322 | C42: =SUM(C43:C44) -> 34901 | D42: =SUM(D43:D44) -> 0
...

Sheet 8.melléklet Település üzemelte
A1: 8. melléklet az 1/2021. (III.08.) önkormányzati rendelethez
B3: Dánszentmiklós község Önkormányzatának 2021. évi település üzemeltetési feladatainak kiadásai
A5: Rovat megnevezése és rovat kódja | C5: Város- és községgazdálkodási feladatok (066020) | E5: Közutak üzemeltetése (045160) | G5: Közvilágítás (064010) | I5: Köztemető fenntartása, üzemeltetése (013320) | K5: Zöldterület kezelés (066010) | M5: Sport | O5: Mindösszesen
C6: 2020. évi teljesítés | D6: 2021. évi eredeti | E6: 2020. évi teljesítés | F6: 2021. évi eredeti | G6: 2020. évi teljesítés | H6: 2021. évi eredeti | I6: 2020. évi teljesítés | J6: 2021. évi eredeti | K6: 2020. évi teljesítés | L6: 2021. évi eredeti | M6: 2020. évi teljesítés | N6: 2021. évi eredeti | O6: 2020. évi teljesítés | P6: 2021. évi eredeti
A7: Törvény szerinti illetmények, munkabérek | B7: K1101 | C7: 5701355 | D7: 9283800 | O7: =SUM(C7,E7,G7,I7,K7) -> 5701355 | P7: =SUM(D7,F7,H7,J7,N7) -> 9283800
A8: Céljuttatás, projekt prémium | B8: K1103 | C8: 148099 | D8: 300000 | O8: =SUM(C8,E8,G8,I8,K8) -> 148099 | P8: =SUM(D8,F8,H8,J8,N8) -> 300000
A9: Végkielégítés | B9: K1105 | O9: =SUM(C9,E9,G9,I9,K9) -> 0 | P9: =SUM(D9,F9,H9,J9,N9) -> 0
A10: Jubileumi jutalom | B10: K1106 | O10: =SUM(C10,E10,G10,I10,K10) -> 0 | P10: =SUM(D10,F10,H10,J10,N10) -> 0
A11: Béren kívüli juttatások | B11: K1107 | C11: 192000 | D11: 487500 | O11: =SUM(C11,E11,G11,I11,K11) -> 192000 | P11: =SUM(D11,F11,H11,J11,N11) -> 487500
A12: Közlekedési költségtérítés | B12: K1109 | O12: =SUM(C12,E12,G12,I12,K12) -> 0 | P12: =SUM(D12,F12,H12,J12,N12) -> 0
A13: Egyéb költségtérítések | B13: K1110 | O13: =SUM(C13,E13,G13,I13,K13) -> 0 | P13: =SUM(D13,F13,H13,J13,N13) -> 0
A14: Egyéb személyi jellegű ráfordítások | B14: K1113 | C14: 29300 | D14: 36000 | O14: =SUM(C14,E14,G14,I14,K14) -> 29300 | P14: =SUM(D14,F14,H14,J14,N14) -> 36000
A15: Foglalkoztatottak személyi juttatásai | B15: K11 | C15: =SUM(C7:C14) -> 6070754 | D15: =SUM(D7:D14) -> 10107300 | E15: =SUM(E7:E14) -> 0 | F15: =SUM(F7:F14) -> 0 | G15: =SUM(G7:G14) -> 0 | H15: =SUM(H7:H14) -> 0 | I15: =SUM(I7:I14) -> 0 | J15: =SUM(J7:J14) -> 0 | ... N15: =SUM(N7:N14) -> 0 | O15: =SUM(C15,E15,G15,I15,K15) -> 6070754 | P15: =SUM(D15,F15,H15,J15,N15) -> 10107300
A16: Külső személyi juttatások | B16: K12 | C16: 0 | D16: 0 | E16: 0 | F16: 0 | G16: 0 | H16: 0 | I16: 0 | J16: 0 | K16: 0 | L16: 0 | M16: 0 | N16: 0 | O16: =SUM(C16,E16,G16,I16,K16) -> 0 | P16: =SUM(D16,F16,H16,J16,N16) -> 0
A17: Személyi juttatások | B17: K1 | C17: =C16+C15 -> 6070754 | D17: =D16+D15 -> 10107300 | E17: =E16+E15 -> 0 | F17: =F16+F15 -> 0 | G17: =G16+G15 -> 0 | H17: =H16+H15 -> 0 | I17: =I16+I15 -> 0 | J17: =J16+J15 -> 0 | ... N17: =N16+N15 -> 0 | O17: =SUM(C17,E17,G17,I17,K17) -> 6070754 | P17: =SUM(D17,F17,H17,J17,N17) -> 10107300
A18: Munkaadókat terhelő járulékok és szochó | B18: K2 | C18: 990149 | D18: 1566635 | E18: =E17*0.175 -> 0 | F18: =F17*0.195 -> 0 | G18: =G17*0.195 -> 0 | H18: =H17*0.195 -> 0 | I18: =I17*0.195 -> 0 | J18: =J17*0.195 -> 0 | K18: =K17*0.195 -> 0 | N18: =N17*0.195 -> 0 | O18: =SUM(C18,E18,G18,I18,K18) -> 990149 | P18: =SUM(D18,F18,H18,J18,N18) -> 1566635
A19: Szakmai anyagok beszerzése | B19: K311 | C19: =SUM(C20:C24) -> 0 | D19: =SUM(D20:D24) -> 0 | E19: =SUM(E20:E24) -> 0 | F19: =SUM(F20:F24) -> 0 | G19: =SUM(G20:G24) -> 0 | H19: =SUM(H20:H24) -> 0 | I19: =SUM(I20:I24) -> 0 | J19: =SUM(J20:J24) -> 0 | K19: =SUM(K20:K24) -> 0 | N19: =SUM(N20:N24) -> 0 | O19: =SUM(C19,E19,G19,I19,K19) -> 0 | P19: =SUM(D19,F19,H19,J19,N19) -> 0
A20: Gyógyszer beszerzés | O20: =SUM(C20,E20,G20,I20,K20) -> 0 | P20: =SUM(D20,F20,H20,J20,N20) -> 0
A21: Könyvbeszerzés | O21: =SUM(C21,E21,G21,I21,K21) -> 0 | P21: =SUM(D21,F21,H21,J21,N21) -> 0
A22: Folyóírat | O22: =SUM(C22,E22,G22,I22,K22) -> 0 | P22: =SUM(D22,F22,H22,J22,N22) -> 0
A23: Egyéb információ hordozó | O23: =SUM(C23,E23,G23,I23,K23) -> 0 | P23: =SUM(D23,F23,H23,J23,N23) -> 0
A24: Egyéb szakmai anyag | O24: =SUM(C24,E24,G24,I24,K24) -> 0 | P24: =SUM(D24,F24,H24,J24,N24) -> 0
A25: Üzemeltetési anyagok beszerzése | B25: K312 | C25: =SUM(C26:C31) -> 632131 | D25: =SUM(D26:D31) -> 3280000 | E25: =SUM(E26:E31) -> 112361 | F25: =SUM(F26:F31) -> 0 | G25: =SUM(G26:G31) -> 0 | H25: =SUM(H26:H31) -> 0 | I25: =SUM(I26:I31) -> 4409 | J25: =SUM(J26:J31) -> 10000 | ... N25: =SUM(N26:N31) -> 0 | O25: =SUM(C25,E25,G25,I25,K25) -> 1038408 | P25: =SUM(D25,F25,H25,J25,L25,N25) -> 4590000
A26: Székelykapu karbantart.anyag | D26: 800000 | O26: =SUM(C26,E26,G26,I26,K26) -> 0 | P26: =SUM(D26,F26,H26,J26,N26) -> 800000
A27: Parkosítás | L27: 500000 | O27: =SUM(C27,E27,G27,I27,K27) -> 0 | P27: =SUM(D27,F27,H27,J27,L27,N27) -> 500000
A28: Játszótér karb.anyag | D28: 800000 | O28: =SUM(C28,E28,G28,I28,K28) -> 0 | P28: =SUM(D28,F28,H28,J28,N28) -> 800000
A29: szemétszedés | L29: 500000 | O29: =SUM(C29,E29,G29,I29,K29) -> 0 | P29: =SUM(D29,F29,H29,J29,L29,N29) -> 500000
A30: Karbant, anyag besz.Önk. | D30: 800000 | O30: =SUM(C30,E30,G30,I30,K30) -> 0 | P30: =SUM(D30,F30,H30,J30,L30,N30) -> 800000
A31: Egyéb üzemeltetési anyag | C31: 632131 | D31: 880000 | E31: 112361 | I31: 4409 | J31: 10000 | K31: 289507 | L31: 300000 | O31: =SUM(C31,E31,G31,I31,K31) -> 1038408 | P31: =SUM(D31,F31,H31,J31,L31,N31) -> 1190000
A32: Árubeszerzés | B32: K313 | O32: =SUM(C32,E32,G32,I32,K32) -> 0 | P32: =SUM(D32,F32,H32,J32,N32) -> 0
A33: Készletbeszerzés | B33: K31 | C33: =SUM(C25,C19,C32) -> 632131 | D33: =SUM(D25,D19,D32) -> 3280000 | E33: =SUM(E25,E19,E32) -> 112361 | F33: =SUM(F25,F19,F32) -> 0 | G33: =SUM(G25,G19,G32) -> 0 | H33: =SUM(H25,H19,H32) -> 0 | I33: =SUM(I25,I19,I32) -> 4409 | J33: =SUM(J25,J19,J32) -> 10000 | ... N33: =SUM(N25,N19,N32) -> 0 | O33: =SUM(C33,E33,G33,I33,K33) -> 1038408 | P33: =SUM(D33,F33,H33,J33,L33,N33) -> 4590000
A34: Informatikai szolgáltatások | B34: K321 | C34: =SUM(C35:C38) -> 1143 | D34: =SUM(D35:D38) -> 0 | E34: =SUM(E35:E38) -> 0 | F34: =SUM(F35:F38) -> 0 | G34: =SUM(G35:G38) -> 0 | H34: =SUM(H35:H38) -> 0 | I34: =SUM(I35:I38) -> 0 | J34: =SUM(J35:J38) -> 0 | ... N34: =SUM(N35:N38) -> 0 | O34: =SUM(C34,E34,G34,I34,K34) -> 1143 | P34: =SUM(D34,F34,H34,J34,N34) -> 0
A35: Informatikai eszközök, szolgáltatások bérleti díja | C35: 1143 | O35: =SUM(C35,E35,G35,I35,K35) -> 1143 | P35: =SUM(D35,F35,H35,J35,N35) -> 0
A36: Informatikai eszközök karbantartási díja | O36: =SUM(C36,E36,G36,I36,K36) -> 0 | P36: =SUM(D36,F36,H36,J36,N36) -> 0
A37: Adatátviteli célú eszközök | O37: =SUM(C37,E37,G37,I37,K37) -> 0 | P37: =SUM(D37,F37,H37,J37,N37) -> 0
A38: Egyéb klf. Informat. Szolg. | O38: =SUM(C38,E38,G38,I38,K38) -> 0 | P38: =SUM(D38,F38,H38,J38,N38) -> 0
A39: Egyéb kommunikációs szolgáltatások | B39: K322 | C39: =SUM(C40:C41) -> 369241 | D39: =SUM(D40:D41) -> 600000 | E39: =SUM(E40:E41) -> 0 | F39: =SUM(F40:F41) -> 0 | G39: =SUM(G40:G41) -> 0 | H39: =SUM(H40:H41) -> 0 | I39: =SUM(I40:I41) -> 0 | J39: =SUM(J40:J41) -> 0 | ... N39: =SUM(N40:N41) -> 0 | O39: =SUM(C39,E39,G39,I39,K39) -> 369241 | P39: =SUM(D39,F39,H39,J39,N39) -> 600000
A40: Nem adatátviteli célú távközlési eszközök díja | C40: 369241 | D40: 600000 | O40: =SUM(C40,E40,G40,I40,K40) -> 369241 | P40: =SUM(D40,F40,H40,J40,N40) -> 600000
A41: Egyéb klf. kommunikációs szolgáltatások díjai | O41: =SUM(C41,E41,G41,I41,K41) -> 0 | P41: =SUM(D41,F41,H41,J41,N41) -> 0
A42: Kommunikációs szolgáltatások | B42: K32 | C42: =SUM(C34,C39) -> 370384 | E42: =SUM(E34,E39) -> 0 | I42: =SUM(I34,I39) -> 0 | K42: =SUM(K34,K39) -> 0 | O42: =SUM(C42,E42,G42,I42,K42) -> 370384 | P42: =SUM(D42,F42,H42,J42,N42) -> 0
...

Sheet 9.melléklet Étkeztetés
A1: 9. melléklet az 1/2021. (III.08.) önkormányzati rendelethez
A3: Dánszentmiklós KÖZSÉG ÖNKORMÁNYZAT KIADÁSAI Gyermekétkeztetési feladatok 2021. év
A5: Rovat megnevezése | B5: Rovat száma | C5: Étkeztetési feladatok | G5: MINDÖSSZESEN
C6: Gyermekétkeztetés (096015) | E6: Szünidei gyermekétkeztetés (104037)
C7: 2020. évi teljesítés | D7: 2021. évi eredeti | E7: 2020. évi teljesítés | F7: 2021. évi eredeti | G7: 2020. évi teljesítés | H7: 2021. évi eredeti előirányzat
A8: Vásárolt élelmezés | B8: K332 | C8: 11652437 | D8: 11000000 | E8: 456573 | F8: 600071 | G8: =SUM(C8,E8) -> 12109010 | H8: =SUM(D8,F8) -> 11600071
A9: Működési célú előzetesen felszámított ÁFA | B9: K351 | C9: =SUM(C10:C11) -> 3146158 | D9: =SUM(D10:D11) -> 1971000 | E9: =SUM(E10:E11) -> 123274.71 | F9: =SUM(F10:F11) -> 162019.17 | G9: =SUM(C9,E9) -> 3269432.7 | H9: =SUM(D9,F9) -> 2133019.2
A10: Levonható ÁFA | C10: =C8*0.27 -> 3146158 | D10: 1971000 | G10: =SUM(C10,E10) -> 3146158 | H10: =SUM(D10,F10) -> 1971000
A11: Le nem vonható ÁFA | C11: 0 | E11: =E8*0.27 -> 123274.71 | F11: =F8*0.27 -> 162019.17 | G11: =SUM(C11,E11) -> 123274.71 | H11: =SUM(D11,F11) -> 162019.17
A12: Dologi kiadások | B12: K3 | C12: =SUM(C8+C9) -> 14798595 | D12: =SUM(D8+D9) -> 12971000 | E12: =SUM(E8+E9) -> 579847.71 | F12: =SUM(F8+F9) -> 762090.17 | G12: =SUM(G8+G9) -> 15378443 | H12: =SUM(H8+H9) -> 13733090

Sheet 10.mell Egészségügyi
A1: 10. melléklet az 1/2021. (III.08.) önkormányzati rendelethez
A3: Dánszentmiklós KÖZSÉG ÖNKORMÁNYZAT KIADÁSAI Egészségügyi feladat ellátás 2021. év
A5: Rovat megnevezése | B5: Rovat száma | C5: Védőnői szolgálat (074031) | E5: Fizikoterápiás szolgáltatás (072450) | G5: Egészségügyi laboratóriumi szolgáltatás (072420) | I5: Házi orvosi alap ellátás (072111) | K5: Házi orvosi ügyeleti ellátás (072112) | M5: Mindösszesen
C6: 2020. évi teljesítés | D6: 2021. évi eredeti előirányzat | E6: 2020. évi teljesítés | F6: 2021. évi eredeti előirányzat | G6: 2020. évi teljesítés | H6: 2021. évi eredeti előirányzat | I6: 2020. évi teljesítés | J6: 2021. évi eredeti előirányzat | K6: 2020. évi teljesítés | L6: 2021. évi eredeti előirányzat | M6: 2020. évi teljesítés | N6: 2021. évi eredeti előirányzat
A7: Törvény szerinti illetmények, munkabérek | B7: K1101 | C7: 1923000 | D7: 3023000 | E7: 2462780 | F7: 2527200 | G7: 2929100 | H7: 2851200 | M7: =SUM(C7,E7,G7,I7,K7) -> 7314880 | N7: =SUM(D7,F7,H7,J7,L7) -> 8401400
A8: Céljuttatás, projekt prémium | B8: K1103 | M8: =SUM(C8,E8,G8,I8,K8) -> 0 | N8: =SUM(D8,F8,H8,J8,L8) -> 0
A9: Végkielégítés | B9: K1105 | M9: =SUM(C9,E9,G9,I9,K9) -> 0 | N9: =SUM(D9,F9,H9,J9,L9) -> 0
A10: Jubileumi jutalom | B10: K1106 | M10: =SUM(C10,E10,G10,I10,K10) -> 0 | N10: =SUM(D10,F10,H10,J10,L10) -> 0
A11: Béren kívüli juttatások | B11: K1107 | D11: 32000 | E11: 96000 | F11: 150000 | G11: 96000 | H11: 150000 | M11: =SUM(C11,E11,G11,I11,K11) -> 192000 | N11: =SUM(D11,F11,H11,J11,L11) -> 332000
A12: Közlekedési költségtérítés | B12: K1109 | C12: 273843 | D12: 280000 | G12: 234000 | H12: 312000 | M12: =SUM(C12,E12,G12,I12,K12) -> 507843 | N12: =SUM(D12,F12,H12,J12,L12) -> 592000
A13: Egyéb költségtérítések | B13: K1110 | F13: 12000 | G13: 12000 | H13: 12000 | M13: =SUM(C13,E13,G13,I13,K13) -> 12000 | N13: =SUM(D13,F13,H13,J13,L13) -> 24000
A14: Egyéb személyi jellegű ráfordítások | B14: K1113 | C14: 500000 | E14: 46175 | M14: =SUM(C14,E14,G14,I14,K14) -> 546175 | N14: =SUM(D14,F14,H14,J14,L14) -> 0
A15: Foglalkoztatottak személyi juttatásai | B15: K11 | C15: =SUM(C7:C14) -> 2696843 | D15: =SUM(D7:D14) -> 3335000 | E15: =SUM(E7:E14) -> 2604955 | F15: =SUM(F7:F14) -> 2689200 | G15: =SUM(G7:G14) -> 3271100 | H15: =SUM(H7:H14) -> 3325200 | I15: =SUM(I7:I14) -> 0 | J15: =SUM(J7:J14) -> 0 | ... N15: =SUM(N7:N14) -> 9349400
A16: Választott tisztségviselők juttatásai | B16: K121 | M16: =SUM(C16,E16,G16,I16,K16) -> 0 | N16: =SUM(D16,F16,H16,J16,L16) -> 0
A17: Munkavégzésre irányuló egyéb jogviszonyban nem saját foglalkoztatottnak fizetett juttatások | B17: K122 | M17: =SUM(C17,E17,G17,I17,K17) -> 0 | N17: =SUM(D17,F17,H17,J17,L17) -> 0
A18: Egyéb külső személyi juttatások | B18: K123 | M18: =SUM(C18,E18,G18,I18,K18) -> 0 | N18: =SUM(D18,F18,H18,J18,L18) -> 0
A19: Külső személyi juttatások | B19: K12 | C19: =SUM(C16:C18) -> 0 | D19: =SUM(D16:D18) -> 0 | E19: =SUM(E16:E18) -> 0 | F19: =SUM(F16:F18) -> 0 | G19: =SUM(G16:G18) -> 0 | H19: =SUM(H16:H18) -> 0 | I19: =SUM(I16:I18) -> 0 | J19: =SUM(J16:J18) -> 0 | ... L19: =SUM(L16:L18) -> 0 | M19: =SUM(C19,E19,G19,I19,K19) -> 0 | N19: =SUM(D19,F19,H19,J19,L19) -> 0
A20: Személyi juttatások | B20: K1 | C20: =C19+C15 -> 2696843 | D20: =D19+D15 -> 3335000 | E20: =E19+E15 -> 2604955 | F20: =F19+F15 -> 2689200 | G20: =G19+G15 -> 3271100 | H20: =H19+H15 -> 3325200 | I20: =I19+I15 -> 0 | J20: =J19+J15 -> 0 | ... L20: =L19+L15 -> 0 | M20: =SUM(C20,E20,G20,I20,K20) -> 8572898 | N20: =SUM(D20,F20,H20,J20,L20) -> 9349400
A21: Munkaadókat terhelő járulékok és szociális hozzájárulási adó | B21: K2 | C21: 407525 | D21: 477845 | E21: 433001 | F21: 440086 | G21: 519665 | H21: 478836 | I21: =I20*0.195 -> 0 | J21: =J20*0.195 -> 0 | K21: =K20*0.195 -> 0 | L21: =L20*0.195 -> 0 | M21: =SUM(C21,E21,G21,I21,K21) -> 1360191 | N21: =SUM(D21,F21,H21,J21,L21) -> 1396767
A22: Szakmai anyagok beszerzése | B22: K311 | C22: =SUM(C23:C27) -> 0 | D22: =SUM(D23:D27) -> 0 | E22: =SUM(E23:E27) -> 25054 | F22: =SUM(F23:F27) -> 20000 | G22: =SUM(G23:G27) -> 569951 | H22: =SUM(H23:H27) -> 550000 | I22: =SUM(I23:I27) -> 0 | J22: =SUM(J23:J27) -> 0 | ... L22: =SUM(L23:L27) -> 0 | M22: =SUM(C22,E22,G22,I22,K22) -> 595005 | N22: =SUM(D22,F22,H22,J22,L22) -> 570000
A23: Gyógyszer beszerzés | M23: =SUM(C23,E23,G23,I23,K23) -> 0 | N23: =SUM(D23,F23,H23,J23,L23) -> 0
A24: Könyvbeszerzés | M24: =SUM(C24,E24,G24,I24,K24) -> 0 | N24: =SUM(D24,F24,H24,J24,L24) -> 0
A25: Folyóírat | M25: =SUM(C25,E25,G25,I25,K25) -> 0 | N25: =SUM(D25,F25,H25,J25,L25) -> 0
A26: Egyéb információ hordozó | M26: =SUM(C26,E26,G26,I26,K26) -> 0 | N26: =SUM(D26,F26,H26,J26,L26) -> 0
A27: Egyéb szakmai anyag | E27: 25054 | F27: 20000 | G27: 569951 | H27: 550000 | M27: =SUM(C27,E27,G27,I27,K27) -> 595005 | N27: =SUM(D27,F27,H27,J27,L27) -> 570000
A28: Üzemeltetési anyagok beszerzése | B28: K312 | C28: =SUM(C29:C34) -> 70651 | D28: =SUM(D29:D34) -> 80000 | E28: =SUM(E29:E34) -> 63850 | F28: =SUM(F29:F34) -> 62000 | G28: =SUM(G29:G34) -> 59884 | H28: =SUM(H29:H34) -> 60000 | I28: =SUM(I29:I34) -> 92060 | J28: =SUM(J29:J34) -> 0 | ... L28: =SUM(L29:L34) -> 0 | M28: =SUM(C28,E28,G28,I28,K28) -> 286445 | N28: =SUM(D28,F28,H28,J28,L28) -> 202000
A29: Irodaszer-, nyomtatvány | F29: 12000 | M29: =SUM(C29,E29,G29,I29,K29) -> 0 | N29: =SUM(D29,F29,H29,J29,L29) -> 12000
A30: Vegyszerbeszerzés | M30: =SUM(C30,E30,G30,I30,K30) -> 0 | N30: =SUM(D30,F30,H30,J30,L30) -> 0
A31: Hajtó- és kenőanyag beszerzés | M31: =SUM(C31,E31,G31,I31,K31) -> 0 | N31: =SUM(D31,F31,H31,J31,L31) -> 0
A32: Karbantartási anyag beszerzés | M32: =SUM(C32,E32,G32,I32,K32) -> 0 | N32: =SUM(D32,F32,H32,J32,L32) -> 0
A33: Tisztítószer beszerzés | C33: 70651 | D33: 80000 | E33: 63850 | F33: 50000 | G33: 59884 | H33: 60000 | I33: 92060 | M33: =SUM(C33,E33,G33,I33,K33) -> 286445 | N33: =SUM(D33,F33,H33,J33,L33) -> 190000
A34: Egyéb üzemeltetési anyag | M34: =SUM(C34,E34,G34,I34,K34) -> 0 | N34: =SUM(D34,F34,H34,J34,L34) -> 0
A35: Árubeszerzés | B35: K313 | M35: =SUM(C35,E35,G35,I35,K35) -> 0 | N35: =SUM(D35,F35,H35,J35,L35) -> 0
A36: Készletbeszerzés | B36: K31 | C36: =SUM(C28,C22,C35) -> 70651 | D36: =SUM(D28,D22,D35) -> 80000 | E36: =SUM(E28,E22,E35) -> 88904 | F36: =SUM(F28,F22,F35) -> 82000 | G36: =SUM(G28,G22,G35) -> 629835 | H36: =SUM(H28,H22,H35) -> 610000 | I36: =SUM(I28,I22,I35) -> 92060 | J36: =SUM(J28,J22,J35) -> 0 | ... L36: =SUM(L28,L22,L35) -> 0 | M36: =SUM(C36,E36,G36,I36,K36) -> 881450 | N36: =SUM(D36,F36,H36,J36,L36) -> 772000
A37: Informatikai szolgáltatások igénybevétele | B37: K321 | C37: =SUM(C38:C41) -> 98411 | D37: =SUM(D38:D41) -> 100000 | E37: =SUM(E38:E41) -> 0 | F37: =SUM(F38:F41) -> 0 | G37: =SUM(G38:G41) -> 0 | H37: =SUM(H38:H41) -> 0 | I37: =SUM(I38:I41) -> 0 | J37: =SUM(J38:J41) -> 0 | ... L37: =SUM(L38:L41) -> 0 | M37: =SUM(C37,E37,G37,I37,K37) -> 98411 | N37: =SUM(D37,F37,H37,J37,L37) -> 100000
A38: Informatikai eszközök szolgáltat. bérleti díja | M38: =SUM(C38,E38,G38,I38,K38) -> 0 | N38: =SUM(D38,F38,H38,J38,L38) -> 0
A39: Informatikai eszközök karbantartási díja | M39: =SUM(C39,E39,G39,I39,K39) -> 0 | N39: =SUM(D39,F39,H39,J39,L39) -> 0
A40: Adatátviteli célú eszközök | M40: =SUM(C40,E40,G40,I40,K40) -> 0 | N40: =SUM(D40,F40,H40,J40,L40) -> 0
A41: Egyéb különféle informatikai szolgáltatások | C41: 98411 | D41: 100000 | M41: =SUM(C41,E41,G41,I41,K41) -> 98411 | N41: =SUM(D41,F41,H41,J41,L41) -> 100000
A42: Egyéb kommunikációs szolgáltatások | B42: K322 | C42: =SUM(C43:C44) -> 43227 | D42: =SUM(D43:D44) -> 50000 | E42: =SUM(E43:E44) -> 0 | F42: =SUM(F43:F44) -> 0 | G42: =SUM(G43:G44) -> 130387 | H42: =SUM(H43:H44) -> 130000 | I42: =SUM(I43:I44) -> 114212 | J42: =SUM(J43:J44) -> 150000 | ... L42: =SUM(L43:L44) -> 0 | M42: =SUM(C42,E42,G42,I42,K42) -> 287826 | N42: =SUM(D42,F42,H42,J42,L42) -> 330000
...

Sheet 11. melléklet Közfoglalkoztatás
A1: 11. melléklet az 1/2021. (III.08.) önkormányzati rendelethez
A3: Dánszentmiklós KÖZSÉG ÖNKORMÁNYZAT KIADÁSAI közfoglalkoztatási feladat ellátás 2021. év
A5: Rovat megnevezése | B5: Rovat száma | C5: Közfoglalkoztatási program (041232)
C6: 2020. évi teljesítés | D6: 2021. évi eredeti
A7: Törvény szerinti illetmények | B7: K1101 | C7: 4605615 | D7: 4890720
A8: Céljuttatás, projekt prémium | B8: K1103
A9: Végkielégítés | B9: K1105
A10: Jubileumi jutalom | B10: K1106
A11: Béren kívüli juttatások | B11: K1107
A12: Közlekedési költségtérítés | B12: K1109
A13: Egyéb költségtérítések | B13: K1110
A14: Egyéb személyi jellegű ráfordítások | B14: K1113
A15: Foglalkoztatottak személyi juttatásai | B15: K11 | C15: =SUM(C7:C14) -> 4605615 | D15: =SUM(D7:D14) -> 4890720
A16: Választott tisztségviselők juttatásai | B16: K121
A17: Munkavégzésre irányuló egyéb jogviszonyban nem saját foglalkoztatottnak fizetett juttatások | B17: K122
A18: Egyéb külső személyi juttatások | B18: K123
A19: Külső személyi juttatások | B19: K12 | C19: =SUM(C16:C18) -> 0 | D19: =SUM(D16:D18) -> 0
A20: Személyi juttatások | B20: K1 | C20: =C19+C15 -> 4605615 | D20: =D19+D15 -> 4890720
A21: Munkaadókat terhelő járulékok és szochó | B21: K2 | C21: =C20*0.195 -> 898094.93 | D21: =D20*0.175 -> 855876
A22: Mindösszesen | C22: =SUM(C20:C21) -> 5503709.9 | D22: =SUM(D20:D21) -> 5746596

Sheet 13 melléklet Átadott pénzeszköz
A1: 13. melléklet az 1/2021. (III.08.) önkormányzati rendelethez
A5: Dánszentmiklós Község Önkormányzat 2021.évi átadott pénzeszközök jogcímenként
D7: adatok Ft-ban
A8: Sorszám | B8: Jogcím | C8: 2020. évi eredeti előirányzat | D8: 2021. évi eredeti előirányzat
A10: 1. | B10: Államháztartáson kívüli működési célú pénzeszköz átadás (K512) | C10: =SUM(C11) -> 150000 | D10: =SUM(D11) -> 0
B11: Civil szervezetek támogatása pályázat útján (polgármesteri hatáskör) Kutyamentsvár Alap. | C11: 150000
A12: 2. | B12: Államháztartáson belüli működési célú pénzeszköz átadás (K506) | C12: =C13+C16 -> 3704811 | D12: =C12 -> 3704811
A13: 2.1 | B13: Kistérségi szociális célú feladatok (K506) | C13: =SUM(C14:C15) -> 3554811 | D13: =SUM(D14:D15) -> 3554811
B14: Humánszolgáltató Társulás | C14: 431550 | D14: 431550
B15: Albertirsai Segítőház | C15: 3123261 | D15: 3123261
A16: 2.2 | B16: Egyéb önkormányzati rendeletben szabályzott támogatás (K506) | C16: =C17 -> 150000 | D16: =D17 -> 150000
A17: 1 | B17: Bursa Hungarica ösztöndíj | C17: 150000 | D17: 150000
A18: 8.1. | B18: Átadott pénzeszközök összesen | C18: =C10+C12 -> 3854811 | D18: =D10+D12 -> 3704811

Sheet 12 melléklet Települési támogat
A1: 12. melléklet az 1/2021. (III.08.) önkormányzati rendelethez
A3: Dánszentmiklós Község Önkormányzat 2021.évi ellátottak pénzbeli juttatásai kiadási előirányzatai jogcímenként
D5: adatok Ft-ban
A6: Sorszám | B6: Jogcímek | C6: 2020. évi teljesítés | D6: 2021. évi eredeti előirányzat
A7: 4.1.1. | B7: Települési támogatások szoc.tv.45§ (K48) | C7: =SUM(C8:C14) -> 14520873 | D7: =SUM(D8:D14) -> 14900000
A8: 1. | B8: létfenntartási gondok enyhítése céljából rendkívüli települési támogatás iránti kérelmekről,107060) | C8: 3133516 | D8: 2500000
A9: 2. | B9: lakhatás támogatása iránti kérelmek (107060) | C9: 2000000 | D9: 2100000
A10: 3. | B10: karácsonyi támogatás (107060) | C10: 7500000 | D10: 7100000
A11: 4. | B11: elhunyt személy köztemetése (107060) | C11: 395000 | D11: 400000
A12: 5. | B12: Babaköszöntő ajándék | C12: 275000 | D12: 300000
A13: 6. | B13: Bölcsöde finanszírozása | C13: 300000 | D13: 1500000
A14: 7 | B14: Szociális lakás fenntartási ktg. | C14: 917357 | D14: 1000000
A15: Összesen: | C15: =C7 -> 14520873 | D15: =D7 -> 14900000

Sheet 14mellBeruházások felújítások
A1: 14. melléklet az 1/2021. (III.08.) önkormányzati rendelethez
A3: Dánszentmiklós Község Önkormányzatának beruházási és felújításai tábla 2021. év
A6: Rovat megnevezése | B6: Rovat száma | C6: 2020. évi teljesítés | D6: 2021. évi eredi előirányzat
A7: Immateriális javak beszerzése, létesítése | B7: K61 | C7: =SUM(C8:C10) -> 542700 | D7: =SUM(D8:D10) -> 4390000
A8: Temető program | D8: 380000
C9: 542700
A10: Területrendezési terv módosítás | D10: 4010000
A11: Ingatlanok beszerzése, létesítése | B11: K62 | C11: =SUM(C12:C13) -> 1600000 | D11: =SUM(D12:D13) -> 0
A12: Egészségház parkolóhoz | C12: 1600000
A14: Informatikai eszközök beszerzése, létesítése | B14: K63 | C14: =SUM(C15) -> 1111101 | D14: =SUM(D15:D16) -> 0
C15: 1111101
A17: Egyéb tárgyi eszközök beszerzése, létesítése | B17: K64 | C17: =SUM(C18:C19) -> 8649982 | D17: =SUM(D18:D19) -> 84300000
C18: 8649982
A19: Víztorny pályázat+ önerő | D19: 84300000
A20: Beruházási célú előzetesen felszámított általános forgalmi adó | B20: K67 | C20: =SUM(C21:C24) -> 3100678 | D20: =SUM(D21:D24) -> 931500
A21: Területrendezési terv módosítás | D21: 931500
C24: 3100678
A25: Elmib részvények beszerzése 2018. évi része | B25: K66 | C25: 3006684 | D25: 3096732
A26: Beruházások | B26: K6 | C26: =SUM(C20,C17,C14,C11,C7,C25) -> 18011145 | D26: =SUM(D20,D17,D14,D11,D7,D25) -> 92718232
A27: Ingatlanok felújítása | B27: K71 | C27: =SUM(C28:C31) -> 30070565 | D27: =SUM(D28:D31) -> 57480200
A28: Útfelújítás pályázat szeritn | D28: 51181000
C29: 30070565
A30: Muskátli utacában út felújítás | D30: 6299200
A32: Egyéb tárgyi eszközök felújítása | B32: K73 | C32: =SUM(C33:C33) -> 0 | D32: =SUM(D33:D33) -> 0
A34: Felújítási célú előzetesen felszámított általános forgalmi adó | B34: K74 | C34: =SUM(C35:C38) -> 8011052 | D34: =SUM(D35:D38) -> 15519800
A35: Útfelújítás ÁFA | D35: 13819000
C36: 8011052 | D36: =D29*0.27 -> 0
A37: Muskátli utacában út felújítás | D37: 1700800
C38: =C31*0.27 -> 0 | D38: =D31*0.27 -> 0
A39: Felújítások | B39: K7 | C39: =SUM(C27,C34,C32) -> 38081617 | D39: =SUM(D27,D34,D32) -> 73000000

Sheet 15 mell Tartalék
A1: 15. melléklet az 1/2021. (III.08.) önkormányzati rendelethez
A3: Dánszentmiklós Község Önkormányzatának Tartalék táblázata 2021. évre
B5: Dánszentmiklós Község Önkormányzat 2021. évi szabad maradvány
B7: Banki egyenleg | C7: =SUM(C8:C9) -> 186769314
B8: Főszámla | C8: 178600493
B9: Közfoglalkoztatási számla | C9: 8168821
B11: Ebből kötelezettséggel terhelt összeg
B12: Főszámlán megelőlegezés visszafizetése | C12: 8280974
B13: Víztorny támogatás | C13: 84300000
B14: Útfelújítási támogatás | C14: 65000000
B15: Értékpapír vásárlás | C15: 10000000
B16: Jóteljesítési garancia | C16: 1509253
B17: Tavalyi évet terhelő elmaradt számlázás | C17: 2500000
B20: Mindösszesen kötött felhasználású pénzeszköz | C20: =SUM(C12:C19) -> 171590227
B21: Tartalék általános | C21: =C7-C20 -> 15179087

Sheet 16mellIntézményi összesített
A1: 16. melléklet az 1/2021. (III.08.) önkormányzati rendelethez
A3: Dánszentmiklós Község Önkormányzata fenntartása alatt működő költségvetési szervek összesített 2021. évi költségvetési tábla
I4: adatok Ft-ban
A5: Megnevezés/Intézmény felhasználó megnevezése | B5: Feladat | C5: Mosolygó Alma Óvoda és egységes Óvoda-Bölcsőde | E5: Művelődési és Sportház | G5: Dánszentmiklósi Polgármesteri Hivatal | I5: Mindösszesen
C6: 2020. évi teljesítés | D6: 2021. évi eredeti előirányzat | E6: 2020. évi teljesítés | F6: 2021. évi eredeti előirányzat | G6: 2020. évi teljesítés | H6: 2021. évi eredeti előirányzat | I6: 2020. évi teljesítés | J6: 2021. évi eredeti előirányzat
A8: Személyi jellegű ráfordítások K1 | B8: Kötelező | C8: ='17mell Óvoda'!D23 -> 64173566 | D8: ='17mell Óvoda'!E23 -> 70764174 | E8: ='18 mellMűvelődési Ház'!D25 -> 13247088 | F8: ='18 mellMűvelődési Ház'!E25 -> 14806230 | G8: ='19 Hivatal költségvetése'!D25 -> 25908170 | H8: ='19 Hivatal költségvetése'!E25 -> 28541268 | I8: =SUM(C8,E8,G8) -> 103328824 | J8: =SUM(D8,F8,H8) -> 114111672
A9: Munkaadókat terhelő járulékok K2 | B9: Kötelező | C9: ='17mell Óvoda'!D24 -> 10916538 | D9: ='17mell Óvoda'!E24 -> 10685370 | E9: ='18 mellMűvelődési Ház'!D26 -> 2276461 | F9: ='18 mellMűvelődési Ház'!E26 -> 2452983 | G9: ='19 Hivatal költségvetése'!D26 -> 4402564 | H9: ='19 Hivatal költségvetése'!E26 -> 4217432 | I9: =SUM(C9,E9,G9) -> 17595563 | J9: =SUM(D9,F9,H9) -> 17355785
A10: Dologi kiadások K3 | B10: Kötelező | C10: ='17mell Óvoda'!D79 -> 7397204 | D10: ='17mell Óvoda'!E79 -> 6116200 | E10: ='18 mellMűvelődési Ház'!D82 -> 7100718 | F10: ='18 mellMűvelődési Ház'!E82 -> 7857000 | G10: ='19 Hivatal költségvetése'!D82 -> 10168823 | H10: ='19 Hivatal költségvetése'!E82 -> 10406427 | I10: =SUM(C10,E10,G10) -> 24666745 | J10: =SUM(D10,F10,H10) -> 24379627
A11: Beruházások K6 | B11: Kötelező | C11: ='17mell Óvoda'!D99 -> 237448.09 | D11: ='17mell Óvoda'!E99 -> 1524000 | E11: ='18 mellMűvelődési Ház'!D91 -> 905500 | F11: ='18 mellMűvelődési Ház'!E91 -> 1580370 | G11: ='19 Hivatal költségvetése'!D92 -> 606351 | H11: ='19 Hivatal költségvetése'!E92 -> 317500 | I11: =SUM(C11,E11,G11) -> 1749299.1 | J11: =SUM(D11,F11,H11) -> 3421870
A12: Felújítások K7 | B12: Kötelező | C12: ='17mell Óvoda'!D104 -> 0 | D12: ='17mell Óvoda'!E104 -> 0 | E12: ='18 mellMűvelődési Ház'!D99 -> 983000 | F12: ='18 mellMűvelődési Ház'!E99 -> 0 | G12: ='19 Hivatal költségvetése'!D100 -> 0 | H12: ='19 Hivatal költségvetése'!E100 -> 0 | I12: =SUM(C12,E12,G12) -> 983000 | J12: =SUM(D12,F12,H12) -> 0
A13: Mindösszesen kiadás intézmény: | B13: Kötelező | C13: =SUM(C8:C12) -> 82724756 | D13: =SUM(D8:D12) -> 89089744 | E13: =SUM(E8:E12) -> 24512767 | F13: =SUM(F8:F12) -> 26696583 | G13: =SUM(G8:G12) -> 41085908 | H13: =SUM(H8:H12) -> 43482627 | I13: =SUM(I8:I12) -> 1.4832343e+08 | J13: =SUM(J8:J12) -> 1.5926895e+08
A14: Működési célú bevételek B16 | B14: Kötelező | I14: =SUM(C14,E14,G14) -> 0 | J14: =SUM(D14,F14,H14) -> 0
A15: Működési bevételek B4 | B15: Kötelező | C15: ='17mell Óvoda'!D107+'17mell Óvoda'!D108 -> 22193 | D15: ='17mell Óvoda'!E107+'17mell Óvoda'!E108 -> 0 | E15: ='18 mellMűvelődési Ház'!D102+'18 mellMűvelődési Ház'!D103 -> 5363826 | F15: ='18 mellMűvelődési Ház'!E102+'18 mellMűvelődési Ház'!E103 -> 7000000 | G15: ='19 Hivatal költségvetése'!D103 -> 557741 | H15: ='19 Hivatal költségvetése'!E103 -> 300000 | I15: =SUM(C15,E15,G15) -> 5943760 | J15: =SUM(D15,F15,H15) -> 7300000
A16: Működési célú kapott támogatások B6 | B16: Kötelező | E16: ='18 mellMűvelődési Ház'!D104 -> 0 | F16: ='18 mellMűvelődési Ház'!E104 -> 0 | I16: =SUM(C16,E16,G16) -> 0 | J16: =SUM(D16,F16,H16) -> 0
A17: Előző év költségvetési maradványának igénybevétele B813 | B17: Kötelező | C17: ='17mell Óvoda'!J109 -> 512329 | D17: ='17mell Óvoda'!K109 -> 0 | E17: ='18 mellMűvelődési Ház'!F105 -> 613428 | F17: ='18 mellMűvelődési Ház'!G105 -> 3809993 | G17: ='19 Hivatal költségvetése'!D104 -> 847725 | H17: ='19 Hivatal költségvetése'!E104 -> 587127 | I17: =SUM(C17,E17,G17) -> 1973482 | J17: =SUM(D17,F17,H17) -> 4397120
A18: Központi, irányítószervi támogatás B816 | B18: Kötelező | C18: ='17mell Óvoda'!D110 -> 82190234 | D18: ='17mell Óvoda'!E110 -> 89089744 | E18: ='18 mellMűvelődési Ház'!D106 -> 18535513 | F18: ='18 mellMűvelődési Ház'!E106 -> 15886590 | G18: ='19 Hivatal költségvetése'!D105 -> 39680442 | H18: ='19 Hivatal költségvetése'!E105 -> 42595500 | I18: =SUM(C18,E18,G18) -> 1.4040619e+08 | J18: =SUM(D18,F18,H18) -> 1.4757183e+08
A19: Mindösszesen bevétel intézmény: | C19: =SUM(C14:C18) -> 82724756 | D19: =SUM(D14:D18) -> 89089744 | E19: =SUM(E14:E18) -> 24512767 | F19: =SUM(F14:F18) -> 26696583 | G19: =SUM(G14:G18) -> 41085908 | H19: =SUM(H14:H18) -> 43482627 | I19: =SUM(I14:I18) -> 1.4832343e+08 | J19: =SUM(J14:J18) -> 1.5926895e+08
A20: Ellenőrző sor | C20: =C19-C13 -> 0 | D20: =D13-D19 -> 0 | E20: =E19-E13 -> 0 | F20: =F19-F13 -> 0 | G20: =G19-G13 -> 0 | H20: =H19-H13 -> 0 | I20: =I19-I13 -> 0 | J20: =J19-J13 -> 0

Sheet 17mell Óvoda
A1: 17. melléklet az 1/2021. (III.08.) önkormányzati rendelethez
B2: Mosolygó Alma Óvoda és egységes Óvod- Bölcsőde 2021. évi költségvetési táblája
F3: Kötelező feladatellátás
A4: Sorszám | B4: Rovat megnevezése | C4: Rovat száma | D4: Mindösszesen | F4: Bölcsődei feladatok | H4: Óvodai nevelés, szakmai feladatok (COFOG: 091110) | J4: Óvodai nevelés, működési feladatok (091140) | L4: ÓVODA MINDÖSSZESEN
D5: 2020. évi teljesítés | E5: 2021. évi eredeti | F5: 2020. évi teljesítés | G5: 2021. évi eredeti | H5: 2020. évi teljesítés | I5: 2021. évi eredeti | J5: 2020. évi teljesítés | K5: 2021. évi eredeti | L5: 2020. évi teljesítés | M5: 2021. évi eredeti
A7: 1 | B7: Törvény szerinti illetmények, munkabérek | C7: K1101 | D7: =SUM(L7) -> 60794095 | E7: =M7 -> 62991574 | G7: 9810930 | H7: 60794095 | I7: 51344494 | K7: 1836150 | L7: =SUM(F7,H7,J7) -> 60794095 | M7: =SUM(G7,I7,K7) -> 62991574
A8: 2 | B8: Normatív jutalmak | C8: K1102 | D8: =SUM(L8) -> 232597 | E8: =M8 -> 0 | H8: 232597 | L8: =SUM(F8,H8,J8) -> 232597 | M8: =SUM(G8,I8,K8) -> 0
A9: 3 | B9: Céljuttatás, projektprémium | C9: K1103 | D9: =SUM(L9) -> 0 | E9: =M9 -> 0 | L9: =SUM(F9,H9,J9) -> 0 | M9: =SUM(G9,I9,K9) -> 0
A10: 4 | B10: Készenléti, ügyeleti, helyettesítési díj, túlóra, túlszolgálat | C10: K1104 | D10: =SUM(L10) -> 0 | E10: =M10 -> 0 | J10: 0 | L10: =SUM(F10,H10,J10) -> 0 | M10: =SUM(G10,I10,K10) -> 0
A11: 5 | B11: Végkielégítés | C11: K1105 | D11: =SUM(L11) -> 0 | E11: =M11 -> 0 | L11: =SUM(F11,H11,J11) -> 0 | M11: =SUM(G11,I11,K11) -> 0
A12: 6 | B12: Jubileumi jutalom | C12: K1106 | D12: =SUM(L12) -> 0 | E12: =M12 -> 3471300 | I12: 3471300 | L12: =SUM(F12,H12,J12) -> 0 | M12: =SUM(G12,I12,K12) -> 3471300
A13: 7 | B13: Béren kívüli juttatások | C13: K1107 | D13: =SUM(L13) -> 1728000 | E13: =M13 -> 2475000 | F13: 288000 | G13: 450000 | H13: 1344000 | I13: 1950000 | J13: 96000 | K13: 75000 | L13: =SUM(F13,H13,J13) -> 1728000 | M13: =SUM(G13,I13,K13) -> 2475000
A14: 8 | B14: Ruházati költségtérítés | C14: K1108 | D14: =SUM(L14) -> 0 | E14: =M14 -> 0 | L14: =SUM(F14,H14,J14) -> 0 | M14: =SUM(G14,I14,K14) -> 0
A15: 9 | B15: Közlekedési költségtérítés | C15: K1109 | D15: =SUM(L15) -> 273815 | E15: =M15 -> 425000 | H15: 273815 | I15: 425000 | L15: =SUM(F15,H15,J15) -> 273815 | M15: =SUM(G15,I15,K15) -> 425000
A16: 10 | B16: Egyéb költségtérítések | C16: K1110 | D16: =SUM(L16) -> 0 | E16: =M16 -> 0 | L16: =SUM(F16,H16,J16) -> 0 | M16: =SUM(G16,I16,K16) -> 0
A17: 11 | B17: Lakhatási támogatások | C17: K1111 | D17: =SUM(L17) -> 0 | E17: =M17 -> 0 | L17: =SUM(F17,H17,J17) -> 0 | M17: =SUM(G17,I17,K17) -> 0
A18: 12 | B18: Szociális támogatások | C18: K1112 | D18: =SUM(L18) -> 0 | E18: =M18 -> 0 | L18: =SUM(F18,H18,J18) -> 0 | M18: =SUM(G18,I18,K18) -> 0
A19: 13 | B19: Foglalkoztatottak egyéb személyi juttatásai | C19: K1113 | D19: =SUM(L19) -> 1145059 | E19: =M19 -> 216000 | F19: 36000 | G19: 36000 | H19: 1097059 | I19: 168000 | J19: 12000 | K19: 12000 | L19: =SUM(F19,H19,J19) -> 1145059 | M19: =SUM(G19,I19,K19) -> 216000
A20: 14 | B20: Foglalkoztatottak személyi juttatásai (=01+...+13) | C20: K11 | D20: =SUM(L20) -> 64173566 | E20: =M20 -> 69578874 | F20: =SUM(F7:F19) -> 324000 | G20: =SUM(G7:G19) -> 10296930 | H20: =SUM(H7:H19) -> 63741566 | I20: =SUM(I7:I19) -> 57358794 | J20: =SUM(J7:J19) -> 108000 | K20: =SUM(K7:K19) -> 1923150 | L20: =SUM(F20,H20,J20) -> 64173566 | M20: =SUM(G20,I20,K20) -> 69578874
A21: 15 | B21: Reprezentáció | C21: K123 | D21: =SUM(L21) -> 0 | E21: =M21 -> 0 | L21: =SUM(F21,H21,J21) -> 0 | M21: =SUM(G21,I21,K21) -> 0
A22: 16 | B22: Külső személyi juttatások (=15+16+17) | C22: K12 | D22: =SUM(L22) -> 0 | E22: =M22 -> 1185300 | F22: =SUM(F21:F21) -> 0 | G22: =SUM(G21:G21) -> 0 | I22: 1185300 | K22: =SUM(K21:K21) -> 0 | L22: =SUM(F22,H22,J22) -> 0 | M22: =SUM(G22,I22,K22) -> 1185300
A23: 17 | B23: Személyi juttatások (=14+18) | C23: K1 | D23: =SUM(L23) -> 64173566 | E23: =M23 -> 70764174 | F23: =SUM(F22,F20) -> 324000 | G23: =SUM(G22,G20) -> 10296930 | H23: =SUM(H22,H20) -> 63741566 | I23: =SUM(I22,I20) -> 58544094 | J23: =SUM(J22,J20) -> 108000 | K23: =SUM(K22,K20) -> 1923150 | L23: =SUM(F23,H23,J23) -> 64173566 | M23: =SUM(G23,I23,K23) -> 70764174
A24: 18 | B24: Munkaadókat terhelő járulékok és szociális hozzájárulási adó | C24: K2 | D24: =SUM(L24) -> 10916538 | E24: =M24 -> 10685370 | G24: =(G7+G8+G13)*0.155 -> 1590444.1 | H24: 10916538 | I24: =(I7+I8+I13+I12)*0.155 -> 8798698.1 | K24: =(K7+K8+K13)*0.155 -> 296228.25 | L24: =SUM(F24,H24,J24) -> 10916538 | M24: =SUM(G24,I24,K24) -> 10685370
A25: I. SZEMÉLYI JELLEGŰ RÁFORDÍTÁSOK ÉS JÁRULÉKOK MINDÖSSZESEN | D25: =SUM(L25) -> 75090104 | E25: =M25 -> 81449544 | F25: =SUM(F24,F23) -> 324000 | G25: =SUM(G24,G23) -> 11887374 | H25: =SUM(H24,H23) -> 74658104 | I25: =SUM(I24,I23) -> 67342792 | J25: =SUM(J24,J23) -> 108000 | K25: =SUM(K24,K23) -> 2219378.2 | L25: =SUM(F25,H25,J25) -> 75090104 | M25: =SUM(G25,I25,K25) -> 81449544
A26: 19 | B26: Szakmai anyagok beszerzése | C26: K311 | D26: =SUM(L26) -> 312845 | E26: =M26 -> 0 | F26: =SUM(F27:F30) -> 0 | G26: =SUM(G27:G30) -> 0 | H26: =SUM(H27:H30) -> 0 | I26: =SUM(I27:I30) -> 0 | J26: =SUM(J27:J30) -> 312845 | K26: =SUM(K27:K30) -> 0 | L26: =SUM(F26,H26,J26) -> 312845 | M26: =SUM(G26,I26,K26) -> 0
A27: 20 | B27: Könyvbeszerzés | D27: =SUM(L27) -> 0 | E27: =M27 -> 0 | L27: =SUM(F27,H27,J27) -> 0 | M27: =SUM(G27,I27,K27) -> 0
A28: 21 | B28: Vegyszer beszerzés | D28: =SUM(L28) -> 0 | E28: =M28 -> 0 | L28: =SUM(F28,H28,J28) -> 0 | M28: =SUM(G28,I28,K28) -> 0
