Workbook

Sheet 1.Mérlegszintű
A1: 2/2021.(V.31.) rendelet 1.melléklete
A5: Költségvetési bevételek | L5: Költségvetési kiadások
A6: Rovat megnevezése | B6: Rovat száma | C6: Eredeti | F6: Módosított | I6: Teljesítés | N6: Erdeti | Q6: Módosított | T6: Teljesítés
C7: Önkormányzat | D7: Intézményei | E7: Mindösszesen | F7: Önkormányzat | G7: Intézményei | H7: Mindösszesen | I7: Önkormányzat | J7: Intézményei | K7: Mindösszesen | L7: Rovat megnevezése | M7: Rovat száma | N7: Önkormányzat | O7: Intézményei | P7: Mindösszesen | Q7: Önkormányzat | R7: Intézményei | S7: Mindösszesen | T7: Önkormányzat | U7: Intézményei | V7: Mindösszesen
A8: Önkormányzatok működési támogatásai | B8: B11 | C8: ='5.Önkorm. bevét'!B14 -> 196840488 | E8: =SUM(C8:D8) -> 196840488 | F8: ='5.Önkorm. bevét'!C14 -> 211338263 | H8: =SUM(F8:G8) -> 211338263 | I8: ='5.Önkorm. bevét'!D14 -> 211338263 | K8: =SUM(I8:J8) -> 211338263 | L8: Foglalkoztatottak személyi juttatásai | M8: K1 | N8: ='3.Önkorm. kiad.'!B16 -> 33083652 | O8: ='11. Hiv. kiad'!B16+'18. Ovi kiad'!B16+'25.Művház kiad'!B16 -> 106826895 | P8: =SUM(N8:O8) -> 139910547 | Q8: ='3.Önkorm. kiad.'!C16 -> 35363652 | R8: ='11. Hiv. kiad'!C16+'18. Ovi kiad'!C16+'25.Művház kiad'!C16 -> 105914730 | S8: =SUM(Q8:R8) -> 141278382 | T8: ='3.Önkorm. kiad.'!D16 -> 33280982 | U8: ='11. Hiv. kiad'!D16+'18. Ovi kiad'!D16+'25.Művház kiad'!D16 -> 103328824 | V8: =SUM(T8:U8) -> 136609806
A9: Egyéb működési célú támogatások bevételei államháztartáson belülről | B9: B16 | C9: ='5.Önkorm. bevét'!B15 -> 10766200 | D9: ='[1]13. Hiv. bevét'!B6+'[1]20. Ovi bevétel'!B6+'[1]27. Műv.Ház bevétel'!B6 -> 0 | E9: =SUM(C9:D9) -> 10766200 | F9: ='5.Önkorm. bevét'!C15 -> 10766200 | H9: =SUM(F9:G9) -> 10766200 | I9: ='5.Önkorm. bevét'!D15 -> 12521911 | K9: =SUM(I9:J9) -> 12521911 | L9: Munkadókat terhelő járulékok és szociális hozzájárulási adó | M9: K2 | N9: ='3.Önkorm. kiad.'!B17 -> 5789639 | O9: ='11. Hiv. kiad'!B17+'18. Ovi kiad'!B17+'25.Művház kiad'!B17 -> 18610706 | P9: =SUM(N9:O9) -> 24400345 | Q9: ='3.Önkorm. kiad.'!C17 -> 5789639 | R9: ='11. Hiv. kiad'!C17+'18. Ovi kiad'!C17+'25.Művház kiad'!C17 -> 18517217 | S9: =SUM(Q9:R9) -> 24306856 | T9: ='3.Önkorm. kiad.'!D17 -> 5398892 | U9: ='11. Hiv. kiad'!D17+'18. Ovi kiad'!D17+'25.Művház kiad'!D17 -> 17595563 | V9: =SUM(T9:U9) -> 22994455
A10: Működési célú támogatások államháztartáson belülről mindösszesen | B10: B1 | C10: =SUM(C8:C9) -> 207606688 | D10: =SUM(D8:D9) -> 0 | E10: =SUM(C10:D10) -> 207606688 | F10: =SUM(F8:F9) -> 222104463 | G10: =SUM(G8:G9) -> 0 | H10: =SUM(F10:G10) -> 222104463 | I10: =SUM(I8:I9) -> 223860174 | J10: =SUM(J8:J9) -> 0 | K10: =SUM(I10:J10) -> 223860174 | L10: Dologi kiadások | M10: K3 | N10: ='3.Önkorm. kiad.'!B42 -> 45754611 | O10: ='11. Hiv. kiad'!B37+'18. Ovi kiad'!B34+'25.Művház kiad'!B37 -> 25984069 | P10: =SUM(N10:O10) -> 71738680 | Q10: ='3.Önkorm. kiad.'!C42 -> 71963424 | R10: ='11. Hiv. kiad'!C37+'18. Ovi kiad'!C34+'25.Művház kiad'!C37 -> 31816986 | S10: =SUM(Q10:R10) -> 103780410 | T10: ='3.Önkorm. kiad.'!D42 -> 56127087 | U10: ='11. Hiv. kiad'!D37+'18. Ovi kiad'!D34+'25.Művház kiad'!D37 -> 24586745 | V10: =SUM(T10:U10) -> 80713832
A11: Felhalmozási célú támogatások államháztartáson belülről | B11: B2 | C11: ='[1]5.Ök. bevétel'!B20 -> 0 | E11: =SUM(C11:D11) -> 0 | F11: ='5.Önkorm. bevét'!C23 -> 147550000 | H11: =SUM(F11:G11) -> 147550000 | I11: ='5.Önkorm. bevét'!D23 -> 149433492 | K11: =SUM(I11:J11) -> 149433492 | L11: Ellátottak pénzbeli juttatásai (K4) | M11: K4 | N11: ='3.Önkorm. kiad.'!B47 -> 9100000 | P11: =SUM(N11:O11) -> 9100000 | Q11: ='3.Önkorm. kiad.'!C47 -> 14898124 | S11: =SUM(Q11:R11) -> 14898124 | T11: ='3.Önkorm. kiad.'!D47 -> 13193473 | V11: =SUM(T11:U11) -> 13193473
A12: Közhatalmi bevételek mindösszesen: | B12: B3 | C12: ='5.Önkorm. bevét'!B37 -> 65000000 | E12: =SUM(C12:D12) -> 65000000 | F12: ='5.Önkorm. bevét'!C37 -> 65000000 | H12: =SUM(F12:G12) -> 65000000 | I12: ='5.Önkorm. bevét'!D37 -> 51758506 | K12: =SUM(I12:J12) -> 51758506 | L12: Egyéb működési célú kiadások | M12: K5 | N12: ='3.Önkorm. kiad.'!B57 -> 14497428 | P12: =SUM(N12:O12) -> 14497428 | Q12: ='3.Önkorm. kiad.'!C57 -> 145267018 | S12: =SUM(Q12:R12) -> 145267018 | T12: ='3.Önkorm. kiad.'!D57 -> 5690304 | V12: =SUM(T12:U12) -> 5690304
A13: Működési bevételek mindösszesen | B13: B4 | C13: ='5.Önkorm. bevét'!B49 -> 9741250 | D13: ='13.Hiv. bevét'!B10+'20. Ovi bevét'!B9+'27. Művház bevét'!B12 -> 7300000 | E13: =SUM(C13:D13) -> 17041250 | F13: ='5.Önkorm. bevét'!C49 -> 9741250 | G13: ='13.Hiv. bevét'!C10+'27. Művház bevét'!C12 -> 7300000 | H13: =SUM(F13:G13) -> 17041250 | I13: ='5.Önkorm. bevét'!D49 -> 8925688 | J13: ='13.Hiv. bevét'!D10+'20. Ovi bevét'!D9+'27. Művház bevét'!D12 -> 5943760 | K13: =SUM(I13:J13) -> 14869448 | L13: Beruházások | M13: K6 | N13: ='3.Önkorm. kiad.'!B65 -> 3641684 | O13: ='11. Hiv. kiad'!B41+'18. Ovi kiad'!B37+'25.Művház kiad'!B41 -> 2071205 | P13: =SUM(N13:O13) -> 5712889 | Q13: ='3.Önkorm. kiad.'!C65 -> 21784881 | R13: ='11. Hiv. kiad'!C41+'18. Ovi kiad'!C37+'25.Művház kiad'!C41 -> 1646366 | S13: =SUM(Q13:R13) -> 23431247 | T13: ='3.Önkorm. kiad.'!D65 -> 18011145 | U13: ='11. Hiv. kiad'!D41+'18. Ovi kiad'!D37+'25.Művház kiad'!D41 -> 1163214 | V13: =SUM(T13:U13) -> 19174359
A14: Felhalmozási bevételek | B14: B5 | C14: ='5.Önkorm. bevét'!B51 -> 2100000 | E14: =SUM(C14:D14) -> 2100000 | F14: ='5.Önkorm. bevét'!C51 -> 2100000 | H14: =SUM(F14:G14) -> 2100000 | I14: ='5.Önkorm. bevét'!D51 -> 2100000 | K14: =SUM(I14:J14) -> 2100000
A15: Működési célú átvett pénzeszközök | B15: B6 | C15: 0 | E15: =SUM(C15:D15) -> 0 | F15: 0 | H15: =SUM(F15:G15) -> 0 | I15: ='5.Önkorm. bevét'!D54 -> 40000 | K15: =SUM(I15:J15) -> 40000 | L15: Felújítások | M15: K7 | N15: ='3.Önkorm. kiad.'!B68 -> 21139150 | O15: ='25.Művház kiad'!B44 -> 0 | P15: =SUM(N15:O15) -> 21139150 | Q15: ='3.Önkorm. kiad.'!C68 -> 53506051 | R15: ='25.Művház kiad'!C44 -> 983000 | S15: =SUM(Q15:R15) -> 54489051 | T15: ='3.Önkorm. kiad.'!D68 -> 38081617 | U15: ='25.Művház kiad'!D44 -> 983000 | V15: =SUM(T15:U15) -> 39064617
A16: Felhalmozási célú átvett pénzeszközök | B16: B7 | C16: ='5.Önkorm. bevét'!B57 -> 2300000 | E16: =SUM(C16:D16) -> 2300000 | F16: ='5.Önkorm. bevét'!C57 -> 2300000 | H16: =SUM(F16:G16) -> 2300000 | I16: ='5.Önkorm. bevét'!D57 -> 250000 | K16: =SUM(I16:J16) -> 250000 | P16: =SUM(N16:O16) -> 0 | S16: =SUM(Q16:R16) -> 0 | V16: =SUM(T16:U16) -> 0
A17: Költségvetési bevételek | B17: (B1-B7) | C17: =SUM(C10:C16) -> 286747938 | D17: =SUM(D10:D16) -> 7300000 | E17: =SUM(E10:E16) -> 294047938 | F17: =SUM(F10:F16) -> 448795713 | G17: =SUM(G10:G16) -> 7300000 | H17: =SUM(H10:H16) -> 456095713 | I17: =SUM(I10:I16) -> 436367860 | J17: =SUM(J10:J16) -> 5943760 | K17: =SUM(K10:K16) -> 442311620 | L17: Költségvetési kiadások | N17: =SUM(N8:N15) -> 133006164 | O17: =SUM(O8:O15) -> 153492875 | P17: =SUM(N17:O17) -> 286499039 | Q17: =SUM(Q8:Q16) -> 348572789 | R17: =SUM(R8:R16) -> 158878299 | S17: =SUM(S8:S16) -> 507451088 | T17: =SUM(T8:T16) -> 169783500 | U17: =SUM(U8:U16) -> 147657346 | V17: =SUM(V8:V16) -> 317440846
A18: Forgatási célú belföldi értékpapírok beváltása, értékesítése | B18: (B812) | E18: =SUM(C18:D18) -> 0 | F18: 0 | H18: =SUM(F18:G18) -> 0 | I18: 0 | K18: =SUM(I18:J18) -> 0 | P18: =SUM(N18:O18) -> 0 | S18: =SUM(Q18:R18) -> 0 | V18: =SUM(T18:U18) -> 0
A19: Maradvány igénybevétele | B19: (B813) | C19: ='5.Önkorm. bevét'!B59 -> 0 | D19: ='[1]13. Hiv. bevét'!B14+'[1]20. Ovi bevétel'!B12+'[1]27. Műv.Ház bevétel'!B13 -> 0 | E19: =SUM(C19:D19) -> 0 | F19: ='5.Önkorm. bevét'!C59 -> 56930792 | G19: ='13.Hiv. bevét'!C13+'20. Ovi bevét'!C12+'27. Művház bevét'!C14 -> 1973482 | H19: =SUM(F19:G19) -> 58904274 | I19: ='5.Önkorm. bevét'!D60 -> 56930792 | J19: ='13.Hiv. bevét'!D12+'20. Ovi bevét'!D11+'27. Művház bevét'!D14 -> 1973482 | K19: =SUM(I19:J19) -> 58904274 | L19: Államháztartáson belüli megelőlegezések visszafizetése | M19: K914 | N19: ='3.Önkorm. kiad.'!B70 -> 7548899 | P19: =SUM(N19:O19) -> 7548899 | Q19: ='3.Önkorm. kiad.'!C70 -> 8007058 | S19: =SUM(Q19:R19) -> 8007058 | T19: ='3.Önkorm. kiad.'!D70 -> 8007058 | V19: =SUM(T19:U19) -> 8007058
A20: Megelőlegezés | B20: B814 | E20: =SUM(C20:D20) -> 0 | F20: ='5.Önkorm. bevét'!C61 -> 458159 | H20: =SUM(F20:G20) -> 458159 | I20: ='5.Önkorm. bevét'!D61 -> 8739133 | K20: =SUM(I20:J20) -> 8739133 | P20: =SUM(N20:O20) -> 0 | S20: =SUM(Q20:R20) -> 0 | V20: =SUM(T20:U20) -> 0
A21: Központi, irányítószervi támogatás B816 | B21: B816 | D21: ='13.Hiv. bevét'!B14+'20. Ovi bevét'!B13+'27. Művház bevét'!B16 -> 146192875 | E21: =SUM(C21:D21) -> 146192875 | G21: ='13.Hiv. bevét'!C14+'20. Ovi bevét'!C13+'27. Művház bevét'!C16 -> 149604817 | H21: =SUM(F21:G21) -> 149604817 | J21: ='13.Hiv. bevét'!D14+'20. Ovi bevét'!D13+'27. Művház bevét'!D16 -> 145089312 | K21: =SUM(I21:J21) -> 145089312 | L21: Központi, irányító szervi támogatások folyósítása | M21: K915 | N21: ='3.Önkorm. kiad.'!B71 -> 146192875 | P21: =SUM(N21:O21) -> 146192875 | Q21: ='3.Önkorm. kiad.'!C71 -> 149604817 | S21: =SUM(Q21:R21) -> 149604817 | T21: ='3.Önkorm. kiad.'!D71 -> 145089312 | V21: =SUM(T21:U21) -> 145089312
A22: Belföldi finanszírozás bevételei | B22: (B81) | C22: =SUM(C19:C21) -> 0 | D22: =SUM(D18:D21) -> 146192875 | E22: =SUM(C22:D22) -> 146192875 | F22: =SUM(F18:F21) -> 57388951 | G22: =SUM(G18:G21) -> 151578299 | H22: =SUM(F22:G22) -> 208967250 | I22: =SUM(I18:I21) -> 65669925 | J22: =SUM(J18:J21) -> 147062794 | K22: =SUM(I22:J22) -> 212732719 | L22: Belföldi finanszírozás kiadásai | M22: K91 | N22: =SUM(N18:N21) -> 153741774 | P22: =SUM(N22:O22) -> 153741774 | Q22: =SUM(Q18:Q21) -> 157611875 | S22: =SUM(Q22:R22) -> 157611875 | T22: =SUM(T18:T21) -> 153096370 | V22: =SUM(T22:U22) -> 153096370
A23: Finanszírozási bevételek | B23: (B8) | C23: =SUM(C22) -> 0 | D23: =SUM(D22) -> 146192875 | E23: =SUM(E22) -> 146192875 | F23: =SUM(F22) -> 57388951 | G23: =SUM(G22) -> 151578299 | H23: =SUM(H22) -> 208967250 | I23: =SUM(I22) -> 65669925 | J23: =SUM(J22) -> 147062794 | K23: =SUM(K22) -> 212732719 | L23: Finanszírozási kiadások | M23: K9 | N23: =SUM(N22) -> 153741774 | O23: =SUM(O22) -> 0 | P23: =SUM(P22) -> 153741774 | Q23: =SUM(Q22) -> 157611875 | R23: =SUM(R22) -> 0 | S23: =SUM(S22) -> 157611875 | T23: =SUM(T22) -> 153096370 | U23: =SUM(U22) -> 0 | V23: =SUM(V22) -> 153096370
A24: Mindösszesen bevétel: | C24: =SUM(C23,C17) -> 286747938 | D24: =SUM(D23,D17) -> 153492875 | E24: =SUM(E23,E17) -> 440240813 | F24: =SUM(F23,F17) -> 506184664 | G24: =SUM(G23,G17) -> 158878299 | H24: =SUM(H23,H17) -> 665062963 | I24: =SUM(I23,I17) -> 502037785 | J24: =SUM(J23,J17) -> 153006554 | K24: =SUM(K23,K17) -> 655044339 | L24: Mindösszesen kiadás: | N24: =N17+N23 -> 286747938 | O24: =O17+O23 -> 153492875 | P24: =P17+P23 -> 440240813 | Q24: =Q17+Q23 -> 506184664 | R24: =R17+R23 -> 158878299 | S24: =S17+S23 -> 665062963 | T24: =T17+T23 -> 322879870 | U24: =U17+U23 -> 147657346 | V24: =V17+V23 -> 470537216

Sheet 2.Maradvány
A1: 2/2021.(V.31.) rendelet 2.melléklete
A3: Dánszentmiklós Község Önkormányzatának és intézményeinek 2020. évi maradványa
A5: Megnevezés | B5: Önkormányzat | C5: Hivatal | D5: Óvoda | E5: Műv.ház | F5: Összesen
A6: 01 Alaptevékenység költségvetési bevételei | B6: 436367860 | C6: 557741 | D6: 22193 | E6: 5363826 | F6: =SUM(B6:E6) -> 442311620
A7: 02 Alaptevékenység költségvetési kiadásai | B7: 169783500 | C7: 41085908 | D7: 82724756 | E7: 23846682 | F7: =SUM(B7:E7) -> 317440846
A8: I Alaptevékenység költségvetési egyenlege (=01-02) | B8: 266584360 | C8: -40528167 | D8: -82702563 | E8: -18482856 | F8: =SUM(B8:E8) -> 124870774
A9: 03 Alaptevékenység finanszírozási bevételei | B9: 65669925 | C9: 41331392 | D9: 83225093 | E9: 22506309 | F9: =SUM(B9:E9) -> 212732719
A10: 04 Alaptevékenység finanszírozási kiadásai | B10: 153096370 | F10: =SUM(B10:E10) -> 153096370
A11: II Alaptevékenység finanszírozási egyenlege (=03-04) | B11: -87426445 | C11: =SUM(C9:C10) -> 41331392 | D11: =SUM(D9:D10) -> 83225093 | E11: =SUM(E9:E10) -> 22506309 | F11: =SUM(B11:E11) -> 59636349
A12: A) Alaptevékenység maradványa (=±I±II) | B12: 179157915 | C12: 803225 | D12: 522530 | E12: 4023453 | F12: =SUM(B12:E12) -> 184507123
A13: C) Összes maradvány (=A+B) | B13: 179157915 | C13: 803225 | D13: 522530 | E13: 4023453 | F13: =SUM(B13:E13) -> 184507123
A14: E) Alaptevékenység szabad maradványa (=A-D) | B14: 179157915 | C14: 803225 | D14: 522530 | E14: 4023453 | F14: =SUM(B14:E14) -> 184507123

Sheet 3.Önkorm. kiad.
A1: 2/2021.(V.31.) rendelet 3.melléklete
A3: Dánszentmiklós Község Önkormányzatának 2020. évi rovatszintű kiadásai
A5: Megnevezés | B5: Eredeti előirányzat | C5: Módosított előirányzat | D5: Teljesítés
A6: Törvény szerinti illetmények, munkabérek (K1101) | B6: 20061120 | C6: 22511810 | D6: 22511810
A7: Céljuttatás, projektprémium (K1103) | B7: 862000 | C7: 862000 | D7: 148099
A8: Béren kívüli juttatások (K1107) | B8: 680000 | C8: 480000 | D8: 480000
A9: Közlekedési költségtérítés (K1109) | B9: 436000 | C9: 1305065 | D9: 1305065
A10: Foglalkoztatottak egyéb személyi juttatásai (>=14) (K1113) | B10: 72000 | C10: 714897 | D10: 669072
A11: Foglalkoztatottak személyi juttatásai (=01+…+13) (K11) | B11: 22111120 | C11: 25873772 | D11: 25114046
A12: Választott tisztségviselők juttatásai (K121) | B12: 10772532 | C12: 9094274 | D12: 7810408
A13: Munkavégzésre irányuló egyéb jogviszonyban nem saját foglalkoztatottnak fizetett juttatások (K122) | B13: 0 | C13: 235856 | D13: 235856
A14: Egyéb külső személyi juttatások (K123) | B14: 200000 | C14: 159750 | D14: 120672
A15: Külső személyi juttatások (=16+17+18) (K12) | B15: 10972532 | C15: 9489880 | D15: 8166936
A16: Személyi juttatások (=15+19) (K1) | B16: 33083652 | C16: 35363652 | D16: 33280982
A17: Munkaadókat terhelő járulékok és szociális hozzájárulási adó (=22+…+27) (K2) | B17: 5789639 | C17: 5789639 | D17: 5398892
... A73: Finanszírozási kiadások (=29+37+38+39) (K9) | B73: 153741774 | C73: 157611875 | D73: 153096370
A74: Kiadás összesen | B74: =B69+B73 -> 286747938 | C74: =C69+C73 -> 506184664 | D74: =D69+D73 -> 322879870 | H74: K

Sheet 4. Ök. cofogos kiadás
A1: .../2021.(…....) rendelet 4.melléklete | X1: 2/2021.(V.31.) rendelet 4.melléklete
A3: Dánszentmiklós Önkormányzat 2020. évi kormányzati funkció szerinti bevételei
A5: Megnevezés | B5: Összesen | C5: 011130 Önkormányzatok és önkormányzati hivatalok jogalkotó és általános igazgatási tevékenysége | D5: 013320 Köztemető-fenntartás és -működtetés | E5: 013350 Az önkormányzati vagyonnal való gazdálkodással kapcsolatos feladatok | F5: 016080 Kiemelt állami és önkormányzati rendezvények | G5: 018010 Önkormányzatok elszámolásai a központi költségvetéssel | H5: 018030 Támogatási célú finanszírozási műveletek | I5: 041140 Területfejlesztés igazgatása | J5: 041232 Start-munka program - Téli közfoglalkoztatás | K5: 041233 Hosszabb időtartamú közfoglalkoztatás | L5: 045120 Út, autópálya építése | M5: 045160 Közutak, hidak, alagutak üzemeltetése, fenntartása | N5: 062020 Településfejlesztési projektek és támogatásuk | O5: 064010 Közvilágítás | P5: 066010 Zöldterület-kezelés | Q5: 066020 Város-, községgazdálkodási egyéb szolgáltatások | R5: 072111 Háziorvosi alapellátás | S5: 072112 Háziorvosi ügyeleti ellátás | T5: 072311 Fogorvosi alapellátás | U5: 072420 Egészségügyi laboratóriumi szolgáltatások | V5: 072450 Fizikoterápiás szolgáltatás | W5: 074031 Család és nővédelmi egészségügyi gondozás | X5: 074032 Ifjúság-egészségügyi gondozás | Y5: 074040 Fertőző megbetegedések megelőzése, járványügyi ellátás | Z5: 081030 Sportlétesítmények, edzőtáborok működtetése és fejlesztése | AA5: 084031 Civil szervezetek működési támogatása | AB5: 096015 Gyermekétkeztetés köznevelési intézményben | AC5: 104037 Intézményen kívüli gyermekétkeztetés | AD5: 104042 Család és gyermekjóléti szolgáltatások | AE5: 106010 Lakóingatlan szociális célú bérbeadása, üzemeltetése | AF5: 107060 Egyéb szociális pénzbeli és természetbeni ellátások, támogatások | AG5: 900020 Önkormányzatok funkcióra nem sorolható bevételei államháztartáson kívülről
A6: Törvény szerinti illetmények, munkabérek (K1101) | B6: 22511810 | C6: 4914602 | D6: 0 | E6: 44955 | F6: 0 | G6: 0 | H6: 0 | I6: 0 | J6: 4291428 | K6: 244590 | L6: 0 | M6: 0 | N6: 0 | O6: 0 | P6: 0 | Q6: 5701355 | R6: 0 | S6: 0 | T6: 0 | U6: 2929100 | V6: 2462780 | W6: 1923000 | X6: 0 | Y6: 0 | Z6: 0 | AA6: 0 | AB6: 0 | AC6: 0 | AD6: 0 | AE6: 0 | AF6: 0 | AG6: 0
A7: Céljuttatás, projektprémium (K1103) | B7: 148099 | C7: 0 | D7: 0 | E7: 0 | F7: 0 | G7: 0 | H7: 0 | I7: 0 | J7: 0 | K7: 0 | L7: 0 | M7: 0 | N7: 0 | O7: 0 | P7: 0 | Q7: 148099 | R7: 0 | S7: 0 | T7: 0 | U7: 0 | V7: 0 | W7: 0 | X7: 0 | Y7: 0 | Z7: 0 | AA7: 0 | AB7: 0 | AC7: 0 | AD7: 0 | AE7: 0 | AF7: 0 | AG7: 0
A8: Béren kívüli juttatások (K1107) | B8: 480000 | C8: 96000 | D8: 0 | E8: 0 | F8: 0 | G8: 0 | H8: 0 | I8: 0 | J8: 0 | K8: 0 | L8: 0 | M8: 0 | N8: 0 | O8: 0 | P8: 0 | Q8: 192000 | R8: 0 | S8: 0 | T8: 0 | U8: 96000 | V8: 96000 | W8: 0 | X8: 0 | Y8: 0 | Z8: 0 | AA8: 0 | AB8: 0 | AC8: 0 | AD8: 0 | AE8: 0 | AF8: 0 | AG8: 0
A9: Közlekedési költségtérítés (K1109) | B9: 1305065 | C9: 692527 | D9: 0 | E9: 104695 | F9: 0 | G9: 0 | H9: 0 | I9: 0 | J9: 0 | K9: 0 | L9: 0 | M9: 0 | N9: 0 | O9: 0 | P9: 0 | Q9: 0 | R9: 0 | S9: 0 | T9: 0 | U9: 234000 | V9: 0 | W9: 273843 | X9: 0 | Y9: 0 | Z9: 0 | AA9: 0 | AB9: 0 | AC9: 0 | AD9: 0 | AE9: 0 | AF9: 0 | AG9: 0
A10: Foglalkoztatottak egyéb személyi juttatásai (>=14) (K1113) | B10: 669072 | C10: 12000 | D10: 0 | E10: 0 | F10: 0 | G10: 0 | H10: 0 | I10: 0 | J10: 69597 | K10: 0 | L10: 0 | M10: 0 | N10: 0 | O10: 0 | P10: 0 | Q10: 29300 | R10: 0 | S10: 0 | T10: 0 | U10: 12000 | V10: 46175 | W10: 500000 | X10: 0 | Y10: 0 | Z10: 0 | AA10: 0 | AB10: 0 | AC10: 0 | AD10: 0 | AE10: 0 | AF10: 0 | AG10: 0
A11: Foglalkoztatottak személyi juttatásai (=01+…+13) (K11) | B11: 25114046 | C11: 5715129 | D11: 0 | E11: 149650 | F11: 0 | G11: 0 | H11: 0 | I11: 0 | J11: 4361025 | K11: 244590 | L11: 0 | M11: 0 | N11: 0 | O11: 0 | P11: 0 | Q11: 6070754 | R11: 0 | S11: 0 | T11: 0 | U11: 3271100 | V11: 2604955 | W11: 2696843 | X11: 0 | Y11: 0 | Z11: 0 | AA11: 0 | AB11: 0 | AC11: 0 | AD11: 0 | AE11: 0 | AF11: 0 | AG11: 0
A12: Választott tisztségviselők juttatásai (K121) | B12: 7810408 | C12: 7810408 | D12: 0 | E12: 0 | F12: 0 | G12: 0 | H12: 0 | I12: 0 | J12: 0 | K12: 0 | L12: 0 | M12: 0 | N12: 0 | O12: 0 | P12: 0 | Q12: 0 | R12: 0 | S12: 0 | T12: 0 | U12: 0 | V12: 0 | W12: 0 | X12: 0 | Y12: 0 | Z12: 0 | AA12: 0 | AB12: 0 | AC12: 0 | AD12: 0 | AE12: 0 | AF12: 0 | AG12: 0
A13: Munkavégzésre irányuló egyéb jogviszonyban nem saját foglalkoztatottnak fizetett juttatások (K122) | B13: 235856 | C13: 135470 | D13: 0 | E13: 100386 | F13: 0 | G13: 0 | H13: 0 | I13: 0 | J13: 0 | K13: 0 | L13: 0 | M13: 0 | N13: 0 | O13: 0 | P13: 0 | Q13: 0 | R13: 0 | S13: 0 | T13: 0 | U13: 0 | V13: 0 | W13: 0 | X13: 0 | Y13: 0 | Z13: 0 | AA13: 0 | AB13: 0 | AC13: 0 | AD13: 0 | AE13: 0 | AF13: 0 | AG13: 0
A14: Egyéb külső személyi juttatások (K123) | B14: 120672 | C14: 120672 | D14: 0 | E14: 0 | F14: 0 | G14: 0 | H14: 0 | I14: 0 | J14: 0 | K14: 0 | L14: 0 | M14: 0 | N14: 0 | O14: 0 | P14: 0 | Q14: 0 | R14: 0 | S14: 0 | T14: 0 | U14: 0 | V14: 0 | W14: 0 | X14: 0 | Y14: 0 | Z14: 0 | AA14: 0 | AB14: 0 | AC14: 0 | AD14: 0 | AE14: 0 | AF14: 0 | AG14: 0
A15: Külső személyi juttatások (=16+17+18) (K12) | B15: 8166936 | C15: 8066550 | D15: 0 | E15: 100386 | F15: 0 | G15: 0 | H15: 0 | I15: 0 | J15: 0 | K15: 0 | L15: 0 | M15: 0 | N15: 0 | O15: 0 | P15: 0 | Q15: 0 | R15: 0 | S15: 0 | T15: 0 | U15: 0 | V15: 0 | W15: 0 | X15: 0 | Y15: 0 | Z15: 0 | AA15: 0 | AB15: 0 | AC15: 0 | AD15: 0 | AE15: 0 | AF15: 0 | AG15: 0
A16: Személyi juttatások (=15+19) (K1) | B16: 33280982 | C16: 13781679 | D16: 0 | E16: 250036 | F16: 0 | G16: 0 | H16: 0 | I16: 0 | J16: 4361025 | K16: 244590 | L16: 0 | M16: 0 | N16: 0 | O16: 0 | P16: 0 | Q16: 6070754 | R16: 0 | S16: 0 | T16: 0 | U16: 3271100 | V16: 2604955 | W16: 2696843 | X16: 0 | Y16: 0 | Z16: 0 | AA16: 0 | AB16: 0 | AC16: 0 | AD16: 0 | AE16: 0 | AF16: 0 | AG16: 0
A17: Munkaadókat terhelő járulékok és szociális hozzájárulási adó (=22+…+27) (K2) | B17: 5398892 | C17: 2181102 | D17: 0 | E17: 21264 | F17: 0 | G17: 0 | H17: 0 | I17: 0 | J17: 751526 | K17: 42804 | L17: 0 | M17: 0 | N17: 0 | O17: 0 | P17: 0 | Q17: 1027605 | R17: 0 | S17: 0 | T17: 0 | U17: 519665 | V17: 447401 | W17: 407525 | X17: 0 | Y17: 0 | Z17: 0 | AA17: 0 | AB17: 0 | AC17: 0 | AD17: 0 | AE17: 0 | AF17: 0 | AG17: 0
... A72: Kiadások összesen (=267+307) (K1-K9) | B72: 322879870 | C72: 25921357 | D72: 962428 | E72: 5401561 | F72: 518520 | G72: 9607007 | H72: 148968433 | I72: 24901246 | J72: 6430153 | K72: 522927 | L72: 4147000 | M72: 2078367 | N72: 23521412 | O72: 3608673 | P72: 721610 | Q72: 9508236 | R72: 1150758 | S72: 4272501 | T72: 115440 | U72: 6248325 | V72: 5580369 | W72: 4104839 | X72: 71400 | Y72: 2587541 | Z72: 987292 | AA72: 150000 | AB72: 13530129 | AC72: 648273 | AD72: 64310 | AE72: 753132 | AF72: 15540154 | AG72: 256477

Sheet 5.Önkorm. bevét
A1: 2/2021.(V.31.) rendelet 5.melléklete
A3: Dánszentmiklós Község Önkormányzatának 2020. évi rovat szintű bevételei
A5: Megnevezés | B5: Eredeti előirányzat | C5: Módosított előirányzat | D5: Teljesítés
A6: Helyi önkormányzatok működésének általános támogatása (B111) | B6: 92120625 | C6: 92526547 | D6: 92526547
A7: Települési önkormányzatok egyes köznevelési feladatainak támogatása (B112) | B7: 59578050 | C7: 64277575 | D7: 64277575
A8: Települési önkormányzatok egyes szociális és gyermekjóléti feladatainak támogatása (B1131) | B8: 28630000 | C8: 29669500 | D8: 29669500
A9: Települési önkormányzatok gyermekétkeztetési feladatainak támogatása (B1132) | B9: 12892670 | C9: 13651717 | D9: 13651717
A10: Települési önkormányzatok szociális, gyermekjóléti és gyermekétkeztetési feladatainak támogatása (03+04) (B113) | B10: 41522670 | C10: 43321217 | D10: 43321217
A11: Települési önkormányzatok kulturális feladatainak támogatása (B114) | B11: 3619143 | C11: 4999133 | D11: 4999133
A12: Működési célú költségvetési támogatások és kiegészítő támogatások (B115) | B12: 0 | C12: 4407225 | D12: 4407225
A13: Elszámolásból származó bevételek (B116) | B13: 0 | C13: 1806566 | D13: 1806566
A14: Önkormányzatok működési támogatásai (=01+02+05+06+07+08) (B11) | B14: 196840488 | C14: 211338263 | D14: 211338263
A15: Egyéb működési célú támogatások bevételei államháztartáson belülről (=35+…+44) (B16) | B15: 10766200 | C15: 10766200 | D15: 12521911
A16: ebből: társadalombiztosítás pénzügyi alapjai (B16) | B16: 0 | C16: 0 | D16: 6070400
A17: ebből: elkülönített állami pénzalapok (B16) | B17: 0 | C17: 0 | D17: 6451511
... A63: Finanszírozási bevételek (=23+29+30+31) (B8) | B63: 0 | C63: 57388951 | D63: 65669925
A64: Bevétel összesen | B64: =B58+B63 -> 286747938 | C64: =C58+C63 -> 506184664 | D64: =D58+D63 -> 502037785

Sheet 6.Ök cofog bevét
A1: 2/2021.(V.31.) rendelet 6.melléklete
A3: Dánszentmiklós Önkormányzat 2020. évi kormányzati funkció szerinti bevételeinek teljesítése
A5: Megnevezés | B5: Összesen | C5: 011130 Önkormányzatok és önkormányzati hivatalok jogalkotó és általános igazgatási tevékenysége | D5: 013320 Köztemető-fenntartás és -működtetés | E5: 013350 Az önkormányzati vagyonnal való gazdálkodással kapcsolatos feladatok | F5: 018010 Önkormányzatok elszámolásai a központi költségvetéssel | G5: 018030 Támogatási célú finanszírozási műveletek | H5: 041233 Hosszabb időtartamú közfoglalkoztatás | I5: 062020 Településfejlesztési projektek és támogatásuk | J5: 063080 Vízellátással kapcsolatos közmű építése, fenntartása, üzemeltetése | K5: 066020 Város-, községgazdálkodási egyéb szolgáltatások | L5: 072450 Fizikoterápiás szolgáltatás | M5: 096015 Gyermekétkeztetés köznevelési intézményben | N5: 900020 Önkormányzatok funkcióra nem sorolható bevételei államháztartáson kívülről
A6: Helyi önkormányzatok működésének általános támogatása (B111) | B6: 92526547 | C6: 0 | D6: 0 | E6: 0 | F6: 92526547 | G6: 0 | H6: 0 | I6: 0 | J6: 0 | K6: 0 | L6: 0 | M6: 0 | N6: 0
A7: Települési önkormányzatok egyes köznevelési feladatainak támogatása (B112) | B7: 64277575 | C7: 0 | D7: 0 | E7: 0 | F7: 64277575 | G7: 0 | H7: 0 | I7: 0 | J7: 0 | K7: 0 | L7: 0 | M7: 0 | N7: 0
A8: Települési önkormányzatok egyes szociális és gyermekjóléti feladatainak támogatása (B1131) | B8: 29669500 | C8: 0 | D8: 0 | E8: 0 | F8: 29669500 | G8: 0 | H8: 0 | I8: 0 | J8: 0 | K8: 0 | L8: 0 | M8: 0 | N8: 0
A9: Települési önkormányzatok gyermekétkeztetési feladatainak támogatása (B1132) | B9: 13651717 | C9: 0 | D9: 0 | E9: 0 | F9: 13651717 | G9: 0 | H9: 0 | I9: 0 | J9: 0 | K9: 0 | L9: 0 | M9: 0 | N9: 0
A10: Települési önkormányzatok szociális, gyermekjóléti és gyermekétkeztetési feladatainak támogatása (03+04) (B113) | B10: 43321217 | C10: 0 | D10: 0 | E10: 0 | F10: 43321217 | G10: 0 | H10: 0 | I10: 0 | J10: 0 | K10: 0 | L10: 0 | M10: 0 | N10: 0
A11: Települési önkormányzatok kulturális feladatainak támogatása (B114) | B11: 4999133 | C11: 0 | D11: 0 | E11: 0 | F11: 4999133 | G11: 0 | H11: 0 | I11: 0 | J11: 0 | K11: 0 | L11: 0 | M11: 0 | N11: 0
A12: Működési célú költségvetési támogatások és kiegészítő támogatások (B115) | B12: 4407225 | C12: 0 | D12: 0 | E12: 0 | F12: 4407225 | G12: 0 | H12: 0 | I12: 0 | J12: 0 | K12: 0 | L12: 0 | M12: 0 | N12: 0
A13: Elszámolásból származó bevételek (B116) | B13: 1806566 | C13: 0 | D13: 0 | E13: 0 | F13: 1806566 | G13: 0 | H13: 0 | I13: 0 | J13: 0 | K13: 0 | L13: 0 | M13: 0 | N13: 0
A14: Önkormányzatok működési támogatásai (=01+02+05+06+07+08) (B11) | B14: 211338263 | C14: 0 | D14: 0 | E14: 0 | F14: 211338263 | G14: 0 | H14: 0 | I14: 0 | J14: 0 | K14: 0 | L14: 0 | M14: 0 | N14: 0
A15: Egyéb működési célú támogatások bevételei államháztartáson belülről (=35+…+44) (B16) | B15: 12521911 | C15: 0 | D15: 0 | E15: 0 | F15: 0 | G15: 6070400 | H15: 6451511 | I15: 0 | J15: 0 | K15: 0 | L15: 0 | M15: 0 | N15: 0
A16: ebből: társadalombiztosítás pénzügyi alapjai (B16) | B16: 6070400 | C16: 0 | D16: 0 | E16: 0 | F16: 0 | G16: 6070400 | H16: 0 | I16: 0 | J16: 0 | K16: 0 | L16: 0 | M16: 0 | N16: 0
A17: ebből: elkülönített állami pénzalapok (B16) | B17: 6451511 | C17: 0 | D17: 0 | E17: 0 | F17: 0 | G17: 0 | H17: 6451511 | I17: 0 | J17: 0 | K17: 0 | L17: 0 | M17: 0 | N17: 0
... A60: Bevételek összesen (282+314) (B1-B8) | B60: 502037785 | C60: 1316304 | D60: 725740 | E60: 3586060 | F60: 367632476 | G60: 63001192 | H60: 6651496 | I60: 1683507 | J60: 310000 | K60: 2159910 | L60: 776500 | M60: 2516094 | N60: 51678506

Sheet 7.Ök. mérleg
A1: 2/2021.(V.31.) rendelet 7.melléklete
A3: Dánszentmiklós Község Önkormányzatának 2020. évi mérlege
A5: Megnevezés | B5: Előző időszak | C5: Módosítások (+/-) | D5: Tárgyi időszak
A6: A/I/1 Vagyoni értékű jogok | B6: 12654132 | C6: 0 | D6: 13196832
A7: A/I/2 Szellemi termékek | B7: 5557500 | C7: 0 | D7: 4220854
A8: A/I Immateriális javak (=A/I/1+A/I/2+A/I/3) | B8: 18211632 | C8: 0 | D8: 17417686
A9: A/II/1 Ingatlanok és a kapcsolódó vagyoni értékű jogok | B9: 548788533 | C9: 0 | D9: 997209291
A10: A/II/2 Gépek, berendezések, felszerelések, járművek | B10: 12571428 | C10: 0 | D10: 33463295
A11: A/II/4 Beruházások, felújítások | B11: 452638295 | C11: 0 | D11: 1440823
A12: A/II Tárgyi eszközök (=A/II/1+...+A/II/5) | B12: 1013998256 | C12: 0 | D12: 1032113409
A13: A/III/1 Tartós részesedések (=A/III/1a+…+A/III/1e) | B13: 35741496 | C13: 0 | D13: 38748180
A14: A/III/1b - ebből: tartós részesedések nem pénzügyi vállalkozásban | B14: 2919096 | C14: 0 | D14: 5925780
A15: A/III/1e - ebből: egyéb tartós részesedések | B15: 32822400 | C15: 0 | D15: 32822400
A16: A/III Befektetett pénzügyi eszközök (=A/III/1+A/III/2+A/III/3) | B16: 35741496 | C16: 0 | D16: 38748180
A17: A/IV/1 Koncesszióba, vagyonkezelésbe adott eszközök (=A/IV/1a+A/IV/1b+A/IV/1c) | B17: 210734401 | C17: 0 | D17: 197115258
... A87: FORRÁSOK ÖSSZESEN (=G+H+I+J) | B87: 1401051193 | C87: 0 | D87: 1518473941

Sheet 8. Ök eredmény
A1: 2/2021.(V.31.) rendelet 8.melléklete
A3: Dánszentmiklós Község Önkormányzatának 2020. évi eredménykimutatása
A5: Megnevezés | B5: Előző időszak | C5: Módosítások (+/- | D5: Tárgyi időszak
A6: 08 Felhalmozási célú támogatások eredményszemléletű bevételei | B6: 178109568 | C6: 0 | D6: 67163492
A7: 09 Különféle egyéb eredményszemléletű bevételek | B7: 18039083 | C7: 0 | D7: 10352172
A8: III Egyéb eredményszemléletű bevételek (=06+07+08+09) | B8: 385954838 | C8: 0 | D8: 301375838
A9: 10 Anyagköltség | B9: 4904719 | C9: 0 | D9: 7671248
A10: 11 Igénybe vett szolgáltatások értéke | B10: 40803887 | C10: 0 | D10: 36110333
A11: 13 Eladott (közvetített) szolgáltatások értéke | B11: 446463 | C11: 0 | D11: 1134966
A12: IV Anyagjellegű ráfordítások (=10+11+12+13) | B12: 46155069 | C12: 0 | D12: 44916547
A13: 14 Bérköltség | B13: 19619350 | C13: 0 | D13: 23142159
A14: 15 Személyi jellegű egyéb kifizetések | B14: 13173736 | C14: 0 | D14: 10636951
A15: 16 Bérjárulékok | B15: 6295366 | C15: 0 | D15: 4985085
A16: V Személyi jellegű ráfordítások (=14+15+16) | B16: 39088452 | C16: 0 | D16: 38764195
A17: VI Értékcsökkenési leírás | B17: 13191467 | C17: 0 | D17: 36172284
... A23: C) MÉRLEG SZERINTI EREDMÉNY (=±A±B) | B23: 155077790 | C23: 0 | D23: 35263995

Sheet 9.Ök vagyonkim.
A1: 2/2021.(V.31.) rendelet 9.melléklete
A3: Dánszentmiklós Önkormányzat 2020 évi vagyonkimutatása
A5: Megnevezés | B5: Sorszám | C5: Előző év | D5: Tárgyév | E5: Index (%)
A6: ESZKÖZÖK
A7: A/ NEMZETI VAGYONBA TARTOZÓ BEFEKTETETT ESZKÖZÖK | B7: A | C7: 1 278 685 785.00 | D7: 1 285 394 533.00 | E7: 100.52
A8: I. IMMATERIÁLIS JAVAK | B8: A/I | C8: 18 211 632.00 | D8: 17 417 686.00 | E8: 95.64
A9: 1. Vagyoni értékű jogok | B9: A/I/1 | C9: 12 654 132.00 | D9: 13 196 832.00 | E9: 104.29
A10: a) Forgalomképtelen törzsvagyon | B10: A/I/1/a | E10: 0.00
A11: b) Nemzetgazdasági szempontból kiemelt jelentőségű törzsvagyon | B11: A/I/1/b | E11: 0.00
A12: c) Korlátozottan forgalomképes vagyon | B12: A/I/1/c | C12: 11 614 132.00 | D12: 12 006 832.00 | E12: 103.38
A13: d) Üzleti vagyon | B13: A/I/1/d | C13: 1 040 000.00 | D13: 1 190 000.00 | E13: 114.42
A14: 2. Szellemi termékek | B14: A/I/2 | C14: 5 557 500.00 | D14: 4 220 854.00 | E14: 75.95
A15: a) Forgalomképtelen törzsvagyon | B15: A/I/2/a | E15: 0.00
A16: b) Nemzetgazdasági szempontból kiemelt jelentőségű törzsvagyon | B16: A/I/2/b | E16: 0.00
A17: c) Korlátozottan forgalomképes vagyon | B17: A/I/2/c | C17: -1 125 729.00 | D17: -2 462 375.00 | E17: 218.74
A18: d) Üzleti vagyon | B18: A/I/2/d | C18: 6 683 229.00 | D18: 6 683 229.00 | E18: 100.00
A19: 3. Immateriális javak értékhelyesbítése | B19: A/I/3 | C19: 0.00 | D19: 0.00 | E19: 0.00
A20: a) Forgalomképtelen törzsvagyon | B20: A/I/3/a | E20: 0.00
A21: b) Nemzetgazdasági szempontból kiemelt jelentőségű törzsvagyon | B21: A/I/3/b | E21: 0.00
A22: c) Korlátozottan forgalomképes vagyon | B22: A/I/3/c | C22: 0.00 | D22: 0.00 | E22: 0.00
A23: d) Üzleti vagyon | B23: A/I/3/d | C23: 0.00 | D23: 0.00 | E23: 0.00
A24: II. TÁRGYI ESZKÖZÖK | B24: A/II | C24: 1 013 998 256.00 | D24: 1 032 113 409.00 | E24: 101.79
A25: 1. Ingatlanok és kapcsolódó vagyoni értékű jogok | B25: A/II/1 | C25: 548 788 533.00 | D25: 997 209 291.00 | E25: 181.71
A26: a) Forgalomképtelen törzsvagyon | B26: A/II/1/a | C26: 543 463 837.00 | D26: 986 185 067.00 | E26: 181.46
A27: b) Nemzetgazdasági szempontból kiemelt jelentőségű törzsvagyon | B27: A/II/1/b | C27: 0.00 | D27: 0.00 | E27: 0.00
A28: c) Korlátozottan forgalomképes vagyon | B28: A/II/1/c | C28: -25 853 760.00 | D28: -25 853 760.00 | E28: 100.00
A29: d) Üzleti vagyon | B29: A/II/1/d | C29: 31 178 456.00 | D29: 36 877 984.00 | E29: 118.28
A30: 2. Gépek, berendezések, felszerelések, járművek | B30: A/II/2 | C30: 12 571 428.00 | D30: 33 463 295.00 | E30: 266.19
A31: a) Forgalomképtelen törzsvagyon | B31: A/II/2/a | C31: -9 551 554.00 | D31: -9 551 554.00 | E31: 100.00
A32: b) Nemzetgazdasági szempontból kiemelt jelentőségű törzsvagyon | B32: A/II/2/b | C32: 0.00 | D32: 0.00 | E32: 0.00
A33: c) Korlátozottan forgalomképes vagyon | B33: A/II/2/c | C33: 8 292 757.00 | D33: 9 564 108.00 | E33: 115.33
... A35: 3. Tenyészállatok | B35: A/II/3 | C35: 0.00 | D35: 0.00 | E35: 0.00
A36: a) Forgalomképtelen törzsvagyon | B36: A/II/3/a | E36: 0.00
A37: b) Nemzetgazdasági szempontból kiemelt jelentőségű törzsvagyon | B37: A/II/3/b | E37: 0.00
A38: c) Korlátozottan forgalomképes vagyon | B38: A/II/3/c | E38: 0.00
A39: d) Üzleti vagyon | B39: A/II/3/d | C39: 0.00 | D39: 0.00 | E39: 0.00
A40: 4. Beruházások, felújítások | B40: A/II/4 | C40: 452 638 295.00 | D40: 1 440 823.00 | E40: 0.32
A41: a) Forgalomképtelen törzsvagyon | B41: A/II/4/a | E41: 0.00
A42: b) Nemzetgazdasági szempontból kiemelt jelentőségű törzsvagyon | B42: A/II/4/b | E42: 0.00
A43: c) Korlátozottan forgalomképes vagyon | B43: A/II/4/c | E43: 0.00
A44: d) Üzleti vagyon | B44: A/II/4/d | C44: 452 638 295.00 | D44: 1 440 823.00 | E44: 0.32
A45: 5. Tárgyi eszközök értékhelyesbítése | B45: A/II/5 | C45: 0.00 | D45: 0.00 | E45: 0.00
A46: a) Forgalomképtelen törzsvagyon | B46: A/II/5/a | C46: 0.00 | D46: 0.00 | E46: 0.00
A47: b) Nemzetgazdasági szempontból kiemelt jelentőségű törzsvagyon | B47: A/II/5/b | C47: 0.00 | D47: 0.00 | E47: 0.00
A48: c) Korlátozottan forgalomképes vagyon | B48: A/II/5/c | C48: 0.00 | D48: 0.00 | E48: 0.00
A49: d) Üzleti vagyon | B49: A/II/5/d | C49: 0.00 | D49: 0.00 | E49: 0.00
A50: III. BEFEKTETETT PÉNZÜGYI ESZKÖZÖK | B50: A/III | C50: 35 741 496.00 | D50: 38 748 180.00 | E50: 108.41
A51: 1. Tartós részesedések | B51: A/III/1 | C51: 35 741 496.00 | D51: 38 748 180.00 | E51: 108.41
A52: a) Forgalomképtelen törzsvagyon | B52: A/III/1/a | C52: 32 822 400.00 | D52: 32 822 400.00 | E52: 100.00
A53: b) Nemzetgazdasági szempontból kiemelt jelentőségű törzsvagyon | B53: A/III/1/b | C53: 0.00 | D53: 0.00
A54: c) Korlátozottan forgalomképes vagyon | B54: A/III/1/c | C54: 2 919 096.00 | D54: 2 919 096.00 | E54: 100.00
A55: d) Üzleti vagyon | B55: A/III/1/d | C55: 0.00 | D55: 3 006 684.00 | E55: 0.00
A56: 2. Tartós hitelviszonyt megtestesítő értékpapírok | B56: A/III/2 | C56: 0.00 | D56: 0.00 | E56: 0.00
A57: a) Forgalomképtelen törzsvagyon | B57: A/III/2/a | E57: 0.00
A58: b) Nemzetgazdasági szempontból kiemelt jelentőségű törzsvagyon | B58: A/III/2/b | E58: 0.00
A59: c) Korlátozottan forgalomképes vagyon | B59: A/III/2/c | E59: 0.00
A60: d) Üzleti vagyon | B60: A/III/2/d | C60: 0.00 | D60: 0.00 | E60: 0.00
A61: 3. Befektetett pénzügyi eszközök értékhelyesbítése | B61: A/III/3 | C61: 0.00 | D61: 0.00 | E61: 0.00
A62: a) Forgalomképtelen törzsvagyon | B62: A/III/3/a | E62: 0.00
A63: b) Nemzetgazdasági szempontból kiemelt jelentőségű törzsvagyon | B63: A/III/3/b | E63: 0.00
A64: c) Korlátozottan forgalomképes vagyon | B64: A/III/3/c | E64: 0.00
A65: d) Üzleti vagyon | B65: A/III/3/d | C65: 0.00 | D65: 0.00 | E65: 0.00
A66: IV. KONCESSZIÓBA, VAGYONKEZELÉSBE ADOTT ESZKÖZÖK | B66: A/IV | C66: 210 734 401.00 | D66: 197 115 258.00 | E66: 93.54
A67: 1.Koncesszióba, vagyonkezelésbe adott eszközök | B67: A/IV/1 | C67: 210 734 401.00 | D67: 197 115 258.00 | E67: 93.54
A68: a) Forgalomképtelen törzsvagyon | B68: A/IV/1/a | C68: 0.00 | D68: 0.00 | E68: 0.00
A69: b) Nemzetgazdasági szempontból kiemelt jelentőségű törzsvagyon | B69: A/IV/1/b | C69: 0.00 | D69: 0.00 | E69: 0.00
A70: c) Korlátozottan forgalomképes vagyon | B70: A/IV/1/c | C70: 210 734 401.00 | D70: 197 115 258.00 | E70: 93.54
A71: d) Üzleti vagyon | B71: A/IV/1/d | C71: 0.00 | D71: 0.00 | E71: 0.00
A72: 2. Koncesszióba, vagyonkezelésbe adott eszközök értékhelyesbítése | B72: A/IV/2 | C72: 0.00 | D72: 0.00 | E72: 0.00
A73: a) Forgalomképtelen törzsvagyon | B73: A/IV/2/a | E73: 0.00
A74: b) Nemzetgazdasági szempontból kiemelt jelentőségű törzsvagyon | B74: A/IV/2/b | E74: 0.00
A75: c) Korlátozottan forgalomképes vagyon | B75: A/IV/2/c | C75: 0.00 | D75: 0.00 | E75: 0.00
A76: d) Üzleti vagyon | B76: A/IV/2/d | C76: 0.00 | D76: 0.00 | E76: 0.00
A77: B/ NEMZETI VAGYONBA TARTOZÓ FORGÓESZKÖZÖK | B77: B | C77: 3 535 991.00 | D77: 1 930 400.00 | E77: 54.59
A78: I. Készletek | B78: B/I | C78: 3 535 989.00 | D78: 1 930 400.00 | E78: 54.59
A79: II. Értékpapírok | B79: B/II | C79: 2.00 | D79: 0.00 | E79: 0.00
A80: C/ PÉNZESZKÖZÖK | B80: C | C80: 62 293 420.00 | D80: 187 063 704.00 | E80: 300.29
A81: I. Lekötött bankbetétek | B81: C/I | C81: 0.00 | D81: 0.00 | E81: 0.00
A82: II. Pénztárak, csekkek, betétkönyvek | B82: C/II | C82: 349 955.00 | D82: 294 390.00 | E82: 31017
A83: III. Forintszámlák | B83: C/III | C83: 61 943 465.00 | D83: 186 769 314.00 | E83: 301.52
A84: IV. Devizaszámlák | B84: C/IV | C84: 0.00 | D84: 0.00 | E84: 0.00
A85: D/ KÖVETELÉSEK | B85: D | C85: 60 684 388.00 | D85: 42 088 012.00 | E85: 69.36
A86: I. Költségvetési évben esedékes követelések | B86: D/I | C86: 33 035 169.00 | D86: 28 599 124.00 | E86: 86.57
A87: II. Költségvetési évet követően esedékes követelések | B87: D/II | C87: 22 575 101.00 | D87: 12 157 302.00 | E87: 53.85
A88: III. Követelés jellegű sajátos elszámolások | B88: D/III | C88: 5 074 118.00 | D88: 1 331 586.00 | E88: 26.24
A89: E/ EGYÉB SAJÁTOS ESZKÖZOLDALI ELSZÁMOLÁSOK | B89: E | C89: -4 148 391.00 | D89: 1 997 292.00 | E89: -48.15
A90: F/ AKTÍV IDŐBELI ELHATÁROLÁSOK | B90: F | C90: 0.00 | D90: 0.00 | E90: 0.00
A91: ESZKÖZÖK ÖSSZESEN | B91: A+..+F | C91: 1 401 051 193.00 | D91: 1 518 473 941.00 | E91: 108.38
A93: FORRÁSOK
A94: G/ SAJÁT TŐKE | B94: G | C94: 1 363 964 255.00 | D94: 1 399 228 250.00 | E94: 102.59
A95: I. Nemzeti vagyon induláskori értéke | B95: G/I | C95: 44 288 593.00 | D95: 44 288 593.00 | E95: 100.00
A96: II. Nemzeti vagyon változásai | B96: G/II | C96: 0.00 | D96: 0.00 | E96: 0.00
A97: III. Egyéb eszközök induláskori értéke és változásai | B97: G/III | C97: 22 143 363.00 | D97: 22 143 363.00 | E97: 100.00
A98: IV. Felhalmozott eredmény | B98: G/IV | C98: 1 142 454 509.00 | D98: 1 297 532 299.00 | E98: 113.57
A99: V. Eszközök értékhelyesbítésének forrása | B99: G/V | C99: 0.00 | D99: 0.00 | E99: 0.00
A100: VI. Mérleg szerinti eredmény | B100: G/VI | C100: 155 077 790.00 | D100: 35 263 995.00 | E100: 22.74
A101: H/ KÖTELEZETTSÉGEK | B101: H | C101: 34 164 560.00 | D101: 33 688 992.00 | E101: 98.61
A102: I. Költségvetési évben esedékes kötelezettségek | B102: H/I | C102: 16 178 915.00 | D102: 16 170 643.00 | E102: 99.95
A103: II. Költségvetési évet követően esedékes kötelezettségek | B103: H/II | C103: 7 548 899.00 | D103: 8 280 974.00 | E103: 109.70
A104: II. Kötelezettség jellegű sajátos elszámolások | B104: H/III | C104: 10 436 746.00 | D104: 9 237 375.00 | E104: 88.51
...

Sheet 10.Intézm. össz
A1: 2/2021.(V.31.) rendelet 10.melléklete
A7: Dánszentmiklós Község Önkormányzata fenntartása alatt működő költségvetési szervek összesített 2020. évi teljesítési táblája
L8: adatok Ft-ban
A9: Megnevezés/Intézmény felhasználó megnevezése | B9: Feladat | C9: Mosolygó Alma Óvoda és egységes Óvoda-Bölcsőde | F9: Művelődési és Sportház | I9: Dánszentmiklósi Polgármesteri Hivatal | L9: Mindösszesen
C10: 2020. évi eredeti előirányzat | D10: Módosított előirányzat | E10: Teljesítési adat | F10: 2020. évi eredeti előirányzat | G10: Módosított előirányzat | H10: Teljesítés | I10: 2020. évi eredeti előirányzat | J10: Módosított előirányzat | K10: Teljesítés | L10: 2020. évi eredeti előirányzat | M10: 2020. évi módosított előirányzat | N10: 2020. évi teljesítés
A12: Személyi jellegű ráfordítások K1 | B12: Kötelező | C12: ='18. Ovi kiad'!B16 -> 66216720 | D12: ='18. Ovi kiad'!C16 -> 66311257 | E12: ='18. Ovi kiad'!D16 -> 64173566 | F12: ='25.Művház kiad'!B16 -> 12843425 | G12: ='25.Művház kiad'!C16 -> 13287452 | H12: ='25.Művház kiad'!D16 -> 13247088 | I12: ='11. Hiv. kiad'!B16 -> 27766750 | J12: ='11. Hiv. kiad'!C16 -> 26316021 | K12: ='11. Hiv. kiad'!D16 -> 25908170 | L12: =SUM(C12,F12,I12) -> 106826895 | M12: =SUM(D12,G12,J12) -> 105914730 | N12: =SUM(E12,H12,K12) -> 103328824
A13: Munkaadókat terhelő járulékok K2 | B13: Kötelező | C13: ='18. Ovi kiad'!B17 -> 11503926 | D13: ='18. Ovi kiad'!C17 -> 11130561 | E13: ='18. Ovi kiad'!D17 -> 10916538 | F13: ='25.Művház kiad'!B17 -> 2247599 | G13: ='25.Művház kiad'!C17 -> 2276461 | H13: ='25.Művház kiad'!D17 -> 2276461 | I13: ='11. Hiv. kiad'!B17 -> 4859181 | J13: ='11. Hiv. kiad'!C17 -> 5110195 | K13: ='11. Hiv. kiad'!D17 -> 4402564 | L13: =SUM(C13,F13,I13) -> 18610706 | M13: =SUM(D13,G13,J13) -> 18517217 | N13: =SUM(E13,H13,K13) -> 17595563
A14: Dologi kiadások K3 | B14: Kötelező | C14: ='18. Ovi kiad'!B34 -> 4364000 | D14: ='18. Ovi kiad'!C34 -> 7856762 | E14: ='18. Ovi kiad'!D34 -> 7397204 | F14: ='25.Művház kiad'!B37 -> 11808000 | G14: ='25.Művház kiad'!C37 -> 12389566 | H14: ='25.Művház kiad'!D37 -> 7020718 | I14: ='11. Hiv. kiad'!B37 -> 9812069 | J14: ='11. Hiv. kiad'!C37 -> 11570658 | K14: ='11. Hiv. kiad'!D37 -> 10168823 | L14: =SUM(C14,F14,I14) -> 25984069 | M14: =SUM(D14,G14,J14) -> 31816986 | N14: =SUM(E14,H14,K14) -> 24586745
A15: Beruházások K6 | B15: Kötelező | C15: ='18. Ovi kiad'!B37 -> 0 | D15: ='18. Ovi kiad'!C37 -> 237448 | E15: ='18. Ovi kiad'!D37 -> 237448 | F15: ='25.Művház kiad'!B41 -> 1753705 | G15: ='25.Művház kiad'!C41 -> 802567 | H15: ='25.Művház kiad'!D41 -> 319415 | I15: ='11. Hiv. kiad'!B41 -> 317500 | J15: ='11. Hiv. kiad'!C41 -> 606351 | K15: ='11. Hiv. kiad'!D41 -> 606351 | L15: =SUM(C15,F15,I15) -> 2071205 | M15: =SUM(D15,G15,J15) -> 1646366 | N15: =SUM(E15,H15,K15) -> 1163214
A16: Felújítások K7 | B16: Kötelező | F16: ='25.Művház kiad'!B44 -> 0 | G16: ='25.Művház kiad'!C44 -> 983000 | H16: ='25.Művház kiad'!D44 -> 983000 | L16: =SUM(C16,F16,I16) -> 0 | M16: =SUM(D16,G16,J16) -> 983000 | N16: =SUM(E16,H16,K16) -> 983000
A17: Mindösszesen kiadás intézmény: | B17: Kötelező | C17: =SUM(C12:C16) -> 82084646 | D17: =SUM(D12:D16) -> 85536028 | E17: =SUM(E12:E16) -> 82724756 | F17: =SUM(F12:F16) -> 28652729 | G17: =SUM(G12:G16) -> 29739046 | H17: =SUM(H12:H16) -> 23846682 | I17: =SUM(I12:I16) -> 42755500 | J17: =SUM(J12:J16) -> 43603225 | ... N17: =SUM(N12:N16) -> 147657346
A18: Működési célú bevételek B16 | B18: Kötelező | L18: =SUM(C18,F18,I18) -> 0 | M18: =SUM(D18,G18,J18) -> 0 | N18: =SUM(E18,H18,K18) -> 0
A19: Közhatalmi bevétel B3 | M19: =SUM(D19,G19,J19) -> 0 | N19: =SUM(E19,H19,K19) -> 0
A20: Működési bevételek B4 | B20: Kötelező | C20: ='20. Ovi bevét'!B9 -> 0 | D20: ='20. Ovi bevét'!C9 -> 0 | E20: ='20. Ovi bevét'!D9 -> 22193 | F20: ='27. Művház bevét'!B12 -> 7000000 | G20: ='27. Művház bevét'!C12 -> 7000000 | H20: ='27. Művház bevét'!D12 -> 5363826 | I20: ='13.Hiv. bevét'!B10 -> 300000 | J20: ='13.Hiv. bevét'!C10 -> 300000 | K20: ='13.Hiv. bevét'!D10 -> 557741 | L20: =SUM(C20,F20,I20) -> 7300000 | M20: =SUM(D20,G20,J20) -> 7300000 | N20: =SUM(E20,H20,K20) -> 5943760
A21: Működési célú kapott támogatások B6 | B21: Kötelező | L21: =SUM(C21,F21,I21) -> 0 | M21: =SUM(D21,G21,J21) -> 0 | N21: =SUM(E21,H21,K21) -> 0
A22: Előző év költségvetési maradványának igénybevétele B813 | B22: Kötelező | C22: ='20. Ovi bevét'!B11 -> 0 | D22: ='20. Ovi bevét'!C12 -> 512329 | E22: ='20. Ovi bevét'!D12 -> 512329 | F22: ='27. Művház bevét'!B15 -> 0 | G22: ='27. Művház bevét'!C15 -> 613428 | H22: ='27. Művház bevét'!D15 -> 613428 | I22: ='13.Hiv. bevét'!B13 -> 0 | J22: ='13.Hiv. bevét'!C12 -> 847725 | K22: ='13.Hiv. bevét'!D12 -> 847725 | L22: =SUM(C22,F22,I22) -> 0 | M22: =SUM(D22,G22,J22) -> 1973482 | N22: =SUM(E22,H22,K22) -> 1973482
A23: Központi, irányítószervi támogatás B816 | B23: Kötelező | C23: ='20. Ovi bevét'!B13 -> 82084646 | D23: ='20. Ovi bevét'!C13 -> 85023699 | E23: ='20. Ovi bevét'!D13 -> 82712764 | F23: ='27. Művház bevét'!B16 -> 21652729 | G23: ='27. Művház bevét'!C16 -> 22125618 | H23: ='27. Művház bevét'!D16 -> 21892881 | I23: ='13.Hiv. bevét'!B14 -> 42455500 | J23: ='13.Hiv. bevét'!C14 -> 42455500 | K23: ='13.Hiv. bevét'!D14 -> 40483667 | L23: =SUM(C23,F23,I23) -> 146192875 | M23: =SUM(D23,G23,J23) -> 149604817 | N23: =SUM(E23,H23,K23) -> 145089312
A24: Mindösszesen bevétel intézmény: | C24: =SUM(C18:C23) -> 82084646 | D24: =SUM(D18:D23) -> 85536028 | E24: =SUM(E18:E23) -> 83247286 | F24: =SUM(F18:F23) -> 28652729 | G24: =SUM(G18:G23) -> 29739046 | H24: =SUM(H18:H23) -> 27870135 | I24: =SUM(I18:I23) -> 42755500 | J24: =SUM(J18:J23) -> 43603225 | ... N24: =SUM(N18:N23) -> 153006554

Sheet 11. Hiv. kiad
A1: 2/2021.(V.31.) rendelet 11.melléklete
A3: Dánszentmiklós Polgármesteri Hivatal 2020. évi rovat szintű kiadásai
A5: Megnevezés | B5: Eredeti előirányzat | C5: Módosított előirányzat | D5: Teljesítés
A6: Törvény szerinti illetmények, munkabérek (K1101) | B6: 22415056 | C6: 20593306 | D6: 20472854
A7: Céljuttatás, projektprémium (K1103) | B7: 3514640 | C7: 1833499 | D7: 1757300
A8: Készenléti, ügyeleti, helyettesítési díj, túlóra, túlszolgálat (K1104) | B8: 0 | C8: 52650 | D8: 52650
A9: Béren kívüli juttatások (K1107) | B9: 894054 | C9: 894154 | D9: 894000
A10: Ruházati költségtérítés (K1108) | B10: 63000 | C10: 63000 | D10: 63000
A11: Közlekedési költségtérítés (K1109) | B11: 630000 | C11: 710588 | D11: 548476
A12: Foglalkoztatottak egyéb személyi juttatásai (>=14) (K1113) | B12: 200000 | C12: 2120100 | D12: 2119890
A13: Foglalkoztatottak személyi juttatásai (=01+…+13) (K11) | B13: 27716750 | C13: 26267297 | D13: 25908170
A14: Egyéb külső személyi juttatások (K123) | B14: 50000 | C14: 48724 | D14: 0
A15: Külső személyi juttatások (=16+17+18) (K12) | B15: 50000 | C15: 48724 | D15: 0
A16: Személyi juttatások (=15+19) (K1) | B16: 27766750 | C16: 26316021 | D16: 25908170
A17: Munkaadókat terhelő járulékok és szociális hozzájárulási adó (=22+…+27) (K2) | B17: 4859181 | C17: 5110195 | D17: 4402564
... A42: Költségvetési kiadások (=20+21+60+120+190+199+204+266) (K1-K8) | B42: 42755500 | C42: 43603225 | D42: 41085908

Sheet 12.Hiv cofog kiad
A1: 2/2021.(V.31.) rendelet 12.melléklete
A3: Dánszentmiklós Polgármesteri Hivatal 2020. évi kormányzati funkció szerinti kiadásai
A5: Megnevezés | B5: Összesen | C5: 011130 Önkormányzatok és önkormányzati hivatalok jogalkotó és általános igazgatási tevékenysége
A6: Törvény szerinti illetmények, munkabérek (K1101) | B6: 20472854 | C6: 20472854
A7: Céljuttatás, projektprémium (K1103) | B7: 1757300 | C7: 1757300
A8: Készenléti, ügyeleti, helyettesítési díj, túlóra, túlszolgálat (K1104) | B8: 52650 | C8: 52650
A9: Béren kívüli juttatások (K1107) | B9: 894000 | C9: 894000
A10: Ruházati költségtérítés (K1108) | B10: 63000 | C10: 63000
A11: Közlekedési költségtérítés (K1109) | B11: 548476 | C11: 548476
A12: Foglalkoztatottak egyéb személyi juttatásai (>=14) (K1113) | B12: 2119890 | C12: 2119890
A13: Foglalkoztatottak személyi juttatásai (=01+…+13) (K11) | B13: 25908170 | C13: 25908170
A14: Személyi juttatások (=15+19) (K1) | B14: 25908170 | C14: 25908170
A15: Munkaadókat terhelő járulékok és szociális hozzájárulási adó (=22+…+27) (K2) | B15: 4402564 | C15: 4402564
A16: ebből: szociális hozzájárulási adó (K2) | B16: 4256205 | C16: 4256205
A17: ebből: munkáltatót terhelő személyi jövedelemadó (K2) | B17: 146359 | C17: 146359
... A41: Kiadások összesen (=267+307) (K1-K9) | B41: 41085908 | C41: 41085908

Sheet 13.Hiv. bevét
A1: 2/2021.(V.31.) rendelet 13.melléklete
A3: Dánszentmiklós Polgármesteri Hivatal 2020. évi rovat szintű bevételei
A5: Megnevezés | B5: Eredeti előirányzat | C5: Módosított előirányzat | D5: Teljesítés
A6: Szolgáltatások ellenértéke (>=187+188) (B402) | B6: 300000 | C6: 300000 | D6: 555000
A7: Egyéb kapott (járó) kamatok és kamatjellegű bevételek (>=205+206) (B4082) | B7: 0 | C7: 0 | D7: 1
A8: Kamatbevételek és más nyereségjellegű bevételek (=201+204) (B408) | B8: 0 | C8: 0 | D8: 1
A9: Egyéb működési bevételek (>=218+219) (B411) | B9: 0 | C9: 0 | D9: 2740
A10: Működési bevételek (=185+186+189+191+198+…+200+207+215+216+217) (B4) | B10: 300000 | C10: 300000 | D10: 557741
A11: Költségvetési bevételek (=45+81+184+220+229+255+281) (B1-B7) | B11: 300000 | C11: 300000 | D11: 557741
A12: Előző év költségvetési maradványának igénybevétele (B8131) | B12: 0 | C12: 847725 | D12: 847725
A13: Maradvány igénybevétele (=12+13) (B813) | B13: 0 | C13: 847725 | D13: 847725
A14: Központi, irányító szervi támogatás (B816) | B14: 42455500 | C14: 42455500 | D14: 40483667
A15: Belföldi finanszírozás bevételei (=04+11+14+…+19+22) (B81) | B15: 42455500 | C15: 43303225 | D15: 41331392
A16: Finanszírozási bevételek (=23+29+30+31) (B8) | B16: 42455500 | C16: 43303225 | D16: 41331392
A17: Bevételek összesen | B17: =B11+B16 -> 42755500 | C17: =C11+C16 -> 43603225 | D17: =D11+D16 -> 41889133

Sheet 14. Hiv cofog bevét
A1: 2/2021.(V.31.) rendelet 14.melléklete
A3: Dánszentmiklós Polgármesteri Hivatal 2020. évi kormányzati funkció szerinti bevétele
A5: Megnevezés | B5: Összesen | C5: 011130 Önkormányzatok és önkormányzati hivatalok jogalkotó és általános igazgatási tevékenysége | D5: 018030 Támogatási célú finanszírozási műveletek
A6: Szolgáltatások ellenértéke (>=187+188) (B402) | B6: 555000 | C6: 555000 | D6: 0
A7: Egyéb kapott (járó) kamatok és kamatjellegű bevételek (>=205+206) (B4082) | B7: 1 | C7: 1 | D7: 0
A8: Kamatbevételek és más nyereségjellegű bevételek (=201+204) (B408) | B8: 1 | C8: 1 | D8: 0
A9: Egyéb működési bevételek (>=218+219) (B411) | B9: 2740 | C9: 2740 | D9: 0
A10: Működési bevételek (=185+186+189+191+198+…+200+207+215+216+217) (B4) | B10: 557741 | C10: 557741 | D10: 0
A11: Költségvetési bevételek (=45+81+184+220+229+255+281) (B1-B7) | B11: 557741 | C11: 557741 | D11: 0
A12: Előző év költségvetési maradványának igénybevétele (B8131) | B12: 847725 | C12: 0 | D12: 847725
A13: Maradvány igénybevétele (=294+295) (B813) | B13: 847725 | C13: 0 | D13: 847725
A14: Központi, irányító szervi támogatás (B816) | B14: 40483667 | C14: 0 | D14: 40483667
A15: Belföldi finanszírozás bevételei (=286+293+296+…+301+304) (B81) | B15: 41331392 | C15: 0 | D15: 41331392
A16: Finanszírozási bevételek (=305+311+312+313) (B8) | B16: 41331392 | C16: 0 | D16: 41331392
A17: Bevételek összesen (282+314) (B1-B8) | B17: 41889133 | C17: 557741 | D17: 41331392

Sheet 15.Hiv mérleg
A1: 2/2021.(V.31.) rendelet 15.melléklete
A3: Dánszentmiklós Polgármesteri Hivatal 2020. évi mérlege
A5: Megnevezés | B5: Előző időszak | C5: Módosítások (+/- | D5: Tárgyi időszak
A6: A/II/2 Gépek, berendezések, felszerelések, járművek | B6: 640923 | C6: 0 | D6: 1003974
A7: A/II/4 Beruházások, felújítások | B7: 1105921 | C7: 0 | D7: 0
A8: A/II Tárgyi eszközök (=A/II/1+...+A/II/5) | B8: 1746844 | C8: 0 | D8: 1003974
A9: A) NEMZETI VAGYONBA TARTOZÓ BEFEKTETETT ESZKÖZÖK (=A/I+A/II+A/III+A/IV) | B9: 1746844 | C9: 0 | D9: 1003974
A10: C/II/1 Forintpénztár | B10: 192681 | C10: 0 | D10: 216101
A11: C/II Pénztárak, csekkek, betétkönyvek (=C/II/1+C/II/2+C/II/3) | B11: 192681 | C11: 0 | D11: 216101
A12: C/III/1 Kincstáron kívüli forintszámlák | B12: 655044 | C12: 0 | D12: 587124
A13: C/III Forintszámlák (=C/III/1+C/III/2) | B13: 655044 | C13: 0 | D13: 587124
A14: C) PÉNZESZKÖZÖK (=C/I+…+C/IV) | B14: 847725 | C14: 0 | D14: 803225
A15: ESZKÖZÖK ÖSSZESEN (=A+B+C+D+E+F) | B15: 2594569 | C15: 0 | D15: 1807199
A16: G/III Egyéb eszközök induláskori értéke és változásai | B16: 169982 | C16: 0 | D16: 169982
A17: G/IV Felhalmozott eredmény | B17: 80890 | C17: 0 | D17: 216846
... A25: FORRÁSOK ÖSSZESEN (=G+H+I+J) | B25: 2594569 | C25: 0 | D25: 1807199

Sheet 16. Hiv. eredmény
A1: 2/2021.(V.31.) rendelet 16.melléklete
A3: Dánszentmiklós Polgármesteri Hivatal 2020. évi eredménykimutatása
A5: Megnevezés | B5: Előző időszak | C5: Módosítások (+/-) | D5: Tárgyi időszak
A6: 02 Eszközök és szolgáltatások értékesítése nettó eredményszemléletű bevételei | B6: 330000 | C6: 0 | D6: 555000
A7: I Tevékenység nettó eredményszemléletű bevétele (=01+02+03) | B7: 330000 | C7: 0 | D7: 555000
A8: 06 Központi működési célú támogatások eredményszemléletű bevételei | B8: 42440572 | C8: 0 | D8: 40483667
A9: 07 Egyéb működési célú támogatások eredményszemléletű bevételei | B9: 2316302 | C9: 0 | D9: 0
A10: 09 Különféle egyéb eredményszemléletű bevételek | B10: 4625 | C10: 0 | D10: 2740
A11: III Egyéb eredményszemléletű bevételek (=06+07+08+09) | B11: 44761499 | C11: 0 | D11: 40486407
A12: 10 Anyagköltség | B12: 453966 | C12: 0 | D12: 535981
A13: 11 Igénybe vett szolgáltatások értéke | B13: 8010908 | C13: 0 | D13: 8611896
A14: IV Anyagjellegű ráfordítások (=10+11+12+13) | B14: 8464874 | C14: 0 | D14: 9147877
A15: 14 Bérköltség | B15: 25334377 | C15: 0 | D15: 22233638
A16: 15 Személyi jellegű egyéb kifizetések | B16: 4250473 | C16: 0 | D16: 3578397
A17: 16 Bérjárulékok | B17: 5523345 | C17: 0 | D17: 4372553
... A25: C) MÉRLEG SZERINTI EREDMÉNY (=±A±B) | B25: 135956 | C25: 0 | D25: -578409

Sheet 17. Hiv. vagyon
A1: 2/2021(V.31.) rendelet 17.melléklete
A3: Dánszentmiklós Polgármesteri Hivatal 2020 évi vagyonkimutatása
A5: Megnevezés | B5: Sorszám | C5: Előző év | D5: Tárgyév | E5: Index (%)
A6: ESZKÖZÖK
A7: A/ NEMZETI VAGYONBA TARTOZÓ BEFEKTETETT ESZKÖZÖK | B7: A | C7: 1 746 844.00 | D7: 1 003 974.00 | E7: 57.47
A8: I. IMMATERIÁLIS JAVAK | B8: A/I | C8: 0.00 | D8: 0.00 | E8: 0.00
A9: 1. Vagyoni értékű jogok | B9: A/I/1 | C9: 0.00 | D9: 0.00 | E9: 0.00
A10: a) Forgalomképtelen törzsvagyon | B10: A/I/1/a | E10: 0.00
A11: b) Nemzetgazdasági szempontból kiemelt jelentőségű törzsvagyon | B11: A/I/1/b | E11: 0.00
A12: c) Korlátozottan forgalomképes vagyon | B12: A/I/1/c | C12: 0.00 | D12: 0.00 | E12: 0.00
A13: d) Üzleti vagyon | B13: A/I/1/d | C13: 0.00 | D13: 0.00 | E13: 0.00
A14: 2. Szellemi termékek | B14: A/I/2 | C14: 0.00 | D14: 0.00 | E14: 0.00
A15: a) Forgalomképtelen törzsvagyon | B15: A/I/2/a | E15: 0.00
A16: b) Nemzetgazdasági szempontból kiemelt jelentőségű törzsvagyon | B16: A/I/2/b | E16: 0.00
A17: c) Korlátozottan forgalomképes vagyon | B17: A/I/2/c | C17: 0.00 | D17: 0.00 | E17: 0.00
A18: d) Üzleti vagyon | B18: A/I/2/d | C18: 0.00 | D18: 0.00 | E18: 0.00
A19: 3. Immateriális javak értékhelyesbítése | B19: A/I/3 | C19: 0.00 | D19: 0.00 | E19: 0.00
A20: a) Forgalomképtelen törzsvagyon | B20: A/I/3/a | E20: 0.00
A21: b) Nemzetgazdasági szempontból kiemelt jelentőségű törzsvagyon | B21: A/I/3/b | E21: 0.00
A22: c) Korlátozottan forgalomképes vagyon | B22: A/I/3/c | C22: 0.00 | D22: 0.00 | E22: 0.00
A23: d) Üzleti vagyon | B23: A/I/3/d | C23: 0.00 | D23: 0.00 | E23: 0.00
A24: II. TÁRGYI ESZKÖZÖK | B24: A/II | C24: 1 746 844.00 | D24: 1 003 974.00 | E24: 57.47
A25: 1. Ingatlanok és kapcsolódó vagyoni értékű jogok | B25: A/II/1 | C25: 0.00 | D25: 0.00 | E25: 0.00
A26: a) Forgalomképtelen törzsvagyon | B26: A/II/1/a | C26: 0.00 | D26: 0.00 | E26: 0.00
A27: b) Nemzetgazdasági szempontból kiemelt jelentőségű törzsvagyon | B27: A/II/1/b | C27: 0.00 | D27: 0.00 | E27: 0.00
A28: c) Korlátozottan forgalomképes vagyon | B28: A/II/1/c | C28: 0.00 | D28: 0.00 | E28: 0.00
A29: d) Üzleti vagyon | B29: A/II/1/d | C29: 0.00 | D29: 0.00 | E29: 0.00
A30: 2. Gépek, berendezések, felszerelések, járművek | B30: A/II/2 | C30: 640 923.00 | D30: 1 003 974.00 | E30: 156.65
A31: a) Forgalomképtelen törzsvagyon | B31: A/II/2/a | C31: 0.00 | D31: -78 249.00 | E31: 0.00
A32: b) Nemzetgazdasági szempontból kiemelt jelentőségű törzsvagyon | B32: A/II/2/b | C32: 0.00 | D32: 0.00 | E32: 0.00
A33: c) Korlátozottan forgalomképes vagyon | B33: A/II/2/c | C33: 620 901.00 | D33: 620 901.00 | E33: 100.00
... A35: 3. Tenyészállatok | B35: A/II/3 | C35: 0.00 | D35: 0.00 | E35: 0.00
A36: a) Forgalomképtelen törzsvagyon | B36: A/II/3/a | E36: 0.00
A37: b) Nemzetgazdasági szempontból kiemelt jelentőségű törzsvagyon | B37: A/II/3/b | E37: 0.00
A38: c) Korlátozottan forgalomképes vagyon | B38: A/II/3/c | E38: 0.00
A39: d) Üzleti vagyon | B39: A/II/3/d | C39: 0.00 | D39: 0.00 | E39: 0.00
A40: 4. Beruházások, felújítások | B40: A/II/4 | C40: 1 105 921.00 | D40: 0.00 | E40: 0.00
A41: a) Forgalomképtelen törzsvagyon | B41: A/II/4/a | E41: 0.00
A42: b) Nemzetgazdasági szempontból kiemelt jelentőségű törzsvagyon | B42: A/II/4/b | E42: 0.00
A43: c) Korlátozottan forgalomképes vagyon | B43: A/II/4/c | E43: 0.00
A44: d) Üzleti vagyon | B44: A/II/4/d | C44: 1 105 921.00 | D44: 0.00 | E44: 0.00
A45: 5. Tárgyi eszközök értékhelyesbítése | B45: A/II/5 | C45: 0.00 | D45: 0.00 | E45: 0.00
A46: a) Forgalomképtelen törzsvagyon | B46: A/II/5/a | C46: 0.00 | D46: 0.00 | E46: 0.00
A47: b) Nemzetgazdasági szempontból kiemelt jelentőségű törzsvagyon | B47: A/II/5/b | C47: 0.00 | D47: 0.00 | E47: 0.00
A48: c) Korlátozottan forgalomképes vagyon | B48: A/II/5/c | C48: 0.00 | D48: 0.00 | E48: 0.00
A49: d) Üzleti vagyon | B49: A/II/5/d | C49: 0.00 | D49: 0.00 | E49: 0.00
A50: III. BEFEKTETETT PÉNZÜGYI ESZKÖZÖK | B50: A/III | C50: 0.00 | D50: 0.00 | E50: 0.00
A51: 1. Tartós részesedések | B51: A/III/1 | C51: 0.00 | D51: 0.00 | E51: 0.00
A52: a) Forgalomképtelen törzsvagyon | B52: A/III/1/a | C52: 0.00 | D52: 0.00 | E52: 0.00
A53: b) Nemzetgazdasági szempontból kiemelt jelentőségű törzsvagyon | B53: A/III/1/b | C53: 0.00 | D53: 0.00 | E53: 0.00
A54: c) Korlátozottan forgalomképes vagyon | B54: A/III/1/c | C54: 0.00 | D54: 0.00 | E54: 0.00
A55: d) Üzleti vagyon | B55: A/III/1/d | C55: 0.00 | D55: 0.00 | E55: 0.00
A56: 2. Tartós hitelviszonyt megtestesítő értékpapírok | B56: A/III/2 | C56: 0.00 | D56: 0.00 | E56: 0.00
A57: a) Forgalomképtelen törzsvagyon | B57: A/III/2/a | E57: 0.00
A58: b) Nemzetgazdasági szempontból kiemelt jelentőségű törzsvagyon | B58: A/III/2/b | E58: 0.00
A59: c) Korlátozottan forgalomképes vagyon | B59: A/III/2/c | E59: 0.00
A60: d) Üzleti vagyon | B60: A/III/2/d | C60: 0.00 | D60: 0.00 | E60: 0.00
A61: 3. Befektetett pénzügyi eszközök értékhelyesbítése | B61: A/III/3 | C61: 0.00 | D61: 0.00 | E61: 0.00
A62: a) Forgalomképtelen törzsvagyon | B62: A/III/3/a | E62: 0.00
A63: b) Nemzetgazdasági szempontból kiemelt jelentőségű törzsvagyon | B63: A/III/3/b | E63: 0.00
A64: c) Korlátozottan forgalomképes vagyon | B64: A/III/3/c | E64: 0.00
A65: d) Üzleti vagyon | B65: A/III/3/d | C65: 0.00 | D65: 0.00 | E65: 0.00
A66: IV. KONCESSZIÓBA, VAGYONKEZELÉSBE ADOTT ESZKÖZÖK | B66: A/IV | C66: 0.00 | D66: 0.00 | E66: 0.00
A67: 1.Koncesszióba, vagyonkezelésbe adott eszközök | B67: A/IV/1 | C67: 0.00 | D67: 0.00 | E67: 0.00
A68: a) Forgalomképtelen törzsvagyon | B68: A/IV/1/a | C68: 0.00 | D68: 0.00 | E68: 0.00
A69: b) Nemzetgazdasági szempontból kiemelt jelentőségű törzsvagyon | B69: A/IV/1/b | C69: 0.00 | D69: 0.00 | E69: 0.00
A70: c) Korlátozottan forgalomképes vagyon | B70: A/IV/1/c | C70: 0.00 | D70: 0.00 | E70: 0.00
A71: d) Üzleti vagyon | B71: A/IV/1/d | C71: 0.00 | D71: 0.00 | E71: 0.00
A72: 2. Koncesszióba, vagyonkezelésbe adott eszközök értékhelyesbítése | B72: A/IV/2 | C72: 0.00 | D72: 0.00 | E72: 0.00
A73: a) Forgalomképtelen törzsvagyon | B73: A/IV/2/a | E73: 0.00
A74: b) Nemzetgazdasági szempontból kiemelt jelentőségű törzsvagyon | B74: A/IV/2/b | E74: 0.00
A75: c) Korlátozottan forgalomképes vagyon | B75: A/IV/2/c | C75: 0.00 | D75: 0.00 | E75: 0.00
A76: d) Üzleti vagyon | B76: A/IV/2/d | C76: 0.00 | D76: 0.00 | E76: 0.00
A77: B/ NEMZETI VAGYONBA TARTOZÓ FORGÓESZKÖZÖK | B77: B | C77: 0.00 | D77: 0.00 | E77: 0.00
A78: I. Készletek | B78: B/I | C78: 0.00 | D78: 0.00 | E78: 0.00
A79: II. Értékpapírok | B79: B/II | C79: 0.00 | D79: 0.00 | E79: 0.00
A80: C/ PÉNZESZKÖZÖK | B80: C | C80: 847 725.00 | D80: 803 225.00 | E80: 94.75
A81: I. Lekötött bankbetétek | B81: C/I | C81: 0.00 | D81: 0.00 | E81: 0.00
A82: II. Pénztárak, csekkek, betétkönyvek | B82: C/II | C82: 192 681.00 | D82: 216 101.00 | E82: 112.15
A83: III. Forintszámlák | B83: C/III | C83: 655 044.00 | D83: 587 124.00 | E83: 89.63
A84: IV. Devizaszámlák | B84: C/IV | C84: 0.00 | D84: 0.00 | E84: 0.00
A85: D/ KÖVETELÉSEK | B85: D | C85: 0.00 | D85: 0.00 | E85: 0.00
A86: I. Költségvetési évben esedékes követelések | B86: D/I | C86: 0.00 | D86: 0.00 | E86: 0.00
... A91: ESZKÖZÖK ÖSSZESEN | B91: A+..+F | C91: 2 594 569.00 | D91: 1 807 199.00 | E91: 69.65
A93: FORRÁSOK
A94: G/ SAJÁT TŐKE | B94: G | C94: 386 828.00 | D94: -191 581.00 | E94: -49.53
A95: I. Nemzeti vagyon induláskori értéke | B95: G/I | C95: 0.00 | D95: 0.00 | E95: 0.00
A96: II. Nemzeti vagyon változásai | B96: G/II | C96: 0.00 | D96: 0.00 | E96: 0.00
A97: III. Egyéb eszközök induláskori értéke és változásai | B97: G/III | C97: 169 982.00 | D97: 169 982.00 | E97: 100.00
A98: IV. Felhalmozott eredmény | B98: G/IV | C98: 80 890.00 | D98: 216 846.00 | E98: 268.08
A99: V. Eszközök értékhelyesbítésének forrása | B99: G/V | C99: 0.00 | D99: 0.00 | E99: 0.00
A100: VI. Mérleg szerinti eredmény | B100: G/VI | C100: 135 956.00 | D100: -578 409.00 | E100: -425.44
A101: H/ KÖTELEZETTSÉGEK | B101: H | C101: 83 016.00 | D101: 201.00 | E101: 0.24
A102: I. Költségvetési évben esedékes kötelezettségek | B102: H/I | C102: 83 016.00 | D102: 201.00 | E102: 0.24
A103: II. Költségvetési évet követően esedékes kötelezettségek | B103: H/II | C103: 0.00 | D103: 0.00 | E103: 0.00
A104: III. Kötelezettség jellegű sajátos elszámolások | B104: H/III | C104: 0.00 | D104: 0.00 | E104: 0.00
A105: I/ KINCSTÁRI SZÁMLAVEZETÉSSEL KAPCSOLATOS ELSZÁMOLÁSOK | B105: I | C105: 0.00 | D105: 0.00 | E105: 0.00
A106: J/ PASSZÍV IDŐBELI ELHATÁROLÁSOK (=K/1+K/2+K/3) | B106: J | C106: 2 124 725.00 | D106: 1 998 579.00 | E106: 34486
A107: FORRÁSOK ÖSSZESEN | B107: G+...+J | C107: 2 594 569.00 | D107: 1 807 199.00 | E107: 69.65
A109: EGYÉB ADATOK ÉS MÉRLEGEN KÍVÜLI TÉTELEK | B109: L
...

Sheet 18. Ovi kiad
A1: 2/2021.(V.31.) rendelet 18.melléklete
A3: Dánszerntmiklósi Mosolygó Alma Óvoda és Mini Bölcsőde 2020. évi rovat szintű kiadásai
A5: Megnevezés | B5: Eredeti előirányzat | C5: Módosított előirányzat | D5: Teljesítés
A6: Törvény szerinti illetmények, munkabérek (K1101) | B6: 60228720 | C6: 62867311 | D6: 60794095
A7: Normatív jutalmak (K1102) | B7: 0 | C7: 232597 | D7: 232597
A8: Céljuttatás, projektprémium (K1103) | B8: 2550000 | C8: 0 | D8: 0
A9: Készenléti, ügyeleti, helyettesítési díj, túlóra, túlszolgálat (K1104) | B9: 620000 | C9: 0 | D9: 0
A10: Béren kívüli juttatások (K1107) | B10: 1734000 | C10: 1728000 | D10: 1728000
A11: Közlekedési költségtérítés (K1109) | B11: 376000 | C11: 338289 | D11: 273815
A12: Foglalkoztatottak egyéb személyi juttatásai (>=14) (K1113) | B12: 228000 | C12: 519190 | D12: 519189
A13: Foglalkoztatottak személyi juttatásai (=01+…+13) (K11) | B13: 65736720 | C13: 65685387 | D13: 63547696
A14: Munkavégzésre irányuló egyéb jogviszonyban nem saját foglalkoztatottnak fizetett juttatások (K122) | B14: 480000 | C14: 625870 | D14: 625870
A15: Külső személyi juttatások (=16+17+18) (K12) | B15: 480000 | C15: 625870 | D15: 625870
A16: Személyi juttatások (=15+19) (K1) | B16: 66216720 | C16: 66311257 | D16: 64173566
A17: Munkaadókat terhelő járulékok és szociális hozzájárulási adó (=22+…+27) (K2) | B17: 11503926 | C17: 11130561 | D17: 10916538
... A38: Költségvetési kiadások (=20+21+60+120+190+199+204+266) (K1-K8) | B38: 82084646 | C38: 85536028 | D38: 82724756

Sheet 19.Ovi cofog kiad.
A1: 2/2021.(V.31.) rendelet 19.melléklete
A3: Dánszerntmiklósi Mosolygó Alma Óvoda és Mini Bölcsőde 2020. évi kormányzati funkció szerinti kiadásai
A5: Megnevezés | B5: Összesen | C5: 091110 Óvodai nevelés, ellátás szakmai feladatai | D5: 091140 Óvodai nevelés, ellátás működtetési feladatai | E5: 096015 Gyermekétkeztetés köznevelési intézményben | F5: 104031 Gyermekek bölcsődében és mini bölcsődében történő ellátása
A6: Törvény szerinti illetmények, munkabérek (K1101) | B6: 60794095 | C6: 51063225 | D6: 0 | E6: 1232800 | F6: 8498070
A7: Normatív jutalmak (K1102) | B7: 232597 | C7: 183973 | D7: 0 | E7: 18425 | F7: 30199
A8: Béren kívüli juttatások (K1107) | B8: 1728000 | C8: 1728000 | D8: 0 | E8: 0 | F8: 0
A9: Közlekedési költségtérítés (K1109) | B9: 273815 | C9: 273815 | D9: 0 | E9: 0 | F9: 0
A10: Foglalkoztatottak egyéb személyi juttatásai (>=14) (K1113) | B10: 519189 | C10: 337027 | D10: 0 | E10: 110945 | F10: 71217
A11: Foglalkoztatottak személyi juttatásai (=01+…+13) (K11) | B11: 63547696 | C11: 53586040 | D11: 0 | E11: 1362170 | F11: 8599486
A12: Munkavégzésre irányuló egyéb jogviszonyban nem saját foglalkoztatottnak fizetett juttatások (K122) | B12: 625870 | C12: 625870 | D12: 0 | E12: 0 | F12: 0
A13: Külső személyi juttatások (=16+17+18) (K12) | B13: 625870 | C13: 625870 | D13: 0 | E13: 0 | F13: 0
A14: Személyi juttatások (=15+19) (K1) | B14: 64173566 | C14: 54211910 | D14: 0 | E14: 1362170 | F14: 8599486
A15: Munkaadókat terhelő járulékok és szociális hozzájárulási adó (=22+…+27) (K2) | B15: 10916538 | C15: 9173350 | D15: 0 | E15: 245295 | F15: 1497893
A16: ebből: szociális hozzájárulási adó (K2) | B16: 10657388 | C16: 8924950 | D16: 0 | E16: 234545 | F16: 1497893
A17: ebből: munkáltatót terhelő személyi jövedelemadó (K2) | B17: 259150 | C17: 248400 | D17: 0 | E17: 10750 | F17: 0
... A37: Kiadások összesen (=267+307) (K1-K9) | B37: 82724756 | C37: 63653577 | D37: 5766936 | E37: 1607465 | F37: 11696778

Sheet 20. Ovi bevét
A1: 2/2021.(V.31.) rendelet 20.melléklete
A3: Dánszerntmiklósi Mosolygó Alma Óvoda és Mini Bölcsőde 2020. évi rovat szintű bevételei
A5: Megnevezés | B5: Eredeti előirányzat | C5: Módosított előirányzat | D5: Teljesítés
A6: Egyéb kapott (járó) kamatok és kamatjellegű bevételek (>=205+206) (B4082) | B6: 0 | C6: 0 | D6: 1
A7: Kamatbevételek és más nyereségjellegű bevételek (=201+204) (B408) | B7: 0 | C7: 0 | D7: 1
A8: Egyéb működési bevételek (>=218+219) (B411) | B8: 0 | C8: 0 | D8: 22192
A9: Működési bevételek (=185+186+189+191+198+…+200+207+215+216+217) (B4) | B9: 0 | C9: 0 | D9: 22193
A10: Költségvetési bevételek (=45+81+184+220+229+255+281) (B1-B7) | B10: 0 | C10: 0 | D10: 22193
A11: Előző év költségvetési maradványának igénybevétele (B8131) | B11: 0 | C11: 512329 | D11: 512329
A12: Maradvány igénybevétele (=12+13) (B813) | B12: 0 | C12: 512329 | D12: 512329
A13: Központi, irányító szervi támogatás (B816) | B13: 82084646 | C13: 85023699 | D13: 82712764
A14: Belföldi finanszírozás bevételei (=04+11+14+…+19+22) (B81) | B14: 82084646 | C14: 85536028 | D14: 83225093
A15: Finanszírozási bevételek (=23+29+30+31) (B8) | B15: 82084646 | C15: 85536028 | D15: 83225093
A16: Bevételek összesen | B16: =B10+B15 -> 82084646 | C16: =C10+C15 -> 85536028 | D16: =D10+D15 -> 83247286

Sheet 21.Ovi cofog bevét
A1: 2/2021.(V.31.) rendelet 21.melléklete
A3: Dánszerntmiklósi Mosolygó Alma Óvoda és Mini Bölcsőde 2020. évi korm. funkc szerinti bevételei
A5: Megnevezés | B5: Összesen | C5: 018030 Támogatási célú finanszírozási műveletek | D5: 091110 Óvodai nevelés, ellátás szakmai feladatai
A6: Egyéb kapott (járó) kamatok és kamatjellegű bevételek (>=205+206) (B4082) | B6: 1 | C6: 0 | D6: 1
A7: Kamatbevételek és más nyereségjellegű bevételek (=201+204) (B408) | B7: 1 | C7: 0 | D7: 1
A8: Egyéb működési bevételek (>=218+219) (B411) | B8: 22192 | C8: 0 | D8: 22192
A9: Működési bevételek (=185+186+189+191+198+…+200+207+215+216+217) (B4) | B9: 22193 | C9: 0 | D9: 22193
A10: Költségvetési bevételek (=45+81+184+220+229+255+281) (B1-B7) | B10: 22193 | C10: 0 | D10: 22193
A11: Előző év költségvetési maradványának igénybevétele (B8131) | B11: 512329 | C11: 512329 | D11: 0
A12: Maradvány igénybevétele (=294+295) (B813) | B12: 512329 | C12: 512329 | D12: 0
A13: Központi, irányító szervi támogatás (B816) | B13: 82712764 | C13: 82712764 | D13: 0
A14: Belföldi finanszírozás bevételei (=286+293+296+…+301+304) (B81) | B14: 83225093 | C14: 83225093 | D14: 0
A15: Finanszírozási bevételek (=305+311+312+313) (B8) | B15: 83225093 | C15: 83225093 | D15: 0
A16: Bevételek összesen (282+314) (B1-B8) | B16: 83247286 | C16: 83225093 | D16: 22193

Sheet 22. Ovi mérleg
A1: 2/2021.(V.31.) rendelet 22.melléklete
A3: Dánszerntmiklósi Mosolygó Alma Óvoda és Mini Bölcsőde 2020. évi mérlege
A5: Megnevezés | B5: Előző időszak | C5: Módosítások (+/- | D5: Tárgyi időszak
A6: A/II/1 Ingatlanok és a kapcsolódó vagyoni értékű jogok | B6: 111758 | C6: 0 | D6: 349876
A7: A/II/2 Gépek, berendezések, felszerelések, járművek | B7: 399012 | C7: 0 | D7: 300256
A8: A/II/4 Beruházások, felújítások | B8: 2999860 | C8: 0 | D8: 577020
A9: A/II Tárgyi eszközök (=A/II/1+...+A/II/5) | B9: 3510630 | C9: 0 | D9: 1227152
A10: A) NEMZETI VAGYONBA TARTOZÓ BEFEKTETETT ESZKÖZÖK (=A/I+A/II+A/III+A/IV) | B10: 3510630 | C10: 0 | D10: 1227152
A11: C/II/1 Forintpénztár | B11: 2285 | C11: 0 | D11: 31275
A12: C/II Pénztárak, csekkek, betétkönyvek (=C/II/1+C/II/2+C/II/3) | B12: 2285 | C12: 0 | D12: 31275
A13: C/III/1 Kincstáron kívüli forintszámlák | B13: 510044 | C13: 0 | D13: 288208
A14: C/III Forintszámlák (=C/III/1+C/III/2) | B14: 510044 | C14: 0 | D14: 288208
A15: C) PÉNZESZKÖZÖK (=C/I+…+C/IV) | B15: 512329 | C15: 0 | D15: 319483
A16: D/III/1 Adott előlegek (=D/III/1a+…+D/III/1f) | B16: 0 | C16: 0 | D16: 83040
A17: D/III/1f - ebből: túlfizetések, téves és visszajáró kifizetések | B17: 0 | C17: 0 | D17: 83040
... A31: FORRÁSOK ÖSSZESEN (=G+H+I+J) | B31: 4022959 | C31: 0 | D31: 1749682

Sheet 23.Ovi eredm.
A1: 2/2021.(V.31.) rendelet 23.melléklete
A3: Dánszerntmiklósi Mosolygó Alma Óvoda és Mini Bölcsőde 2020. évi eredménykimutatása
A5: Megnevezés | B5: Előző időszak | C5: Módosítások (+/- | D5: Tárgyi időszak
A6: 06 Központi működési célú támogatások eredményszemléletű bevételei | B6: 78094665 | C6: 0 | D6: 82712764
A7: 09 Különféle egyéb eredményszemléletű bevételek | B7: 191488 | C7: 0 | D7: 22192
A8: III Egyéb eredményszemléletű bevételek (=06+07+08+09) | B8: 78286153 | C8: 0 | D8: 82734956
A9: 10 Anyagköltség | B9: 1349387 | C9: 0 | D9: 1195387
A10: 11 Igénybe vett szolgáltatások értéke | B10: 4478961 | C10: 0 | D10: 4981819
A11: IV Anyagjellegű ráfordítások (=10+11+12+13) | B11: 5828348 | C11: 0 | D11: 6177206
A12: 14 Bérköltség | B12: 55540762 | C12: 0 | D12: 61339485
A13: 15 Személyi jellegű egyéb kifizetések | B13: 3135106 | C13: 0 | D13: 3556517
A14: 16 Bérjárulékok | B14: 12131655 | C14: 0 | D14: 10825742
A15: V Személyi jellegű ráfordítások (=14+15+16) | B15: 70807523 | C15: 0 | D15: 75721744
A16: VI Értékcsökkenési leírás | B16: 648152 | C16: 0 | D16: 2470444
A17: VII Egyéb ráfordítások | B17: 1189950 | C17: 0 | D17: 1180480
... A22: C) MÉRLEG SZERINTI EREDMÉNY (=±A±B) | B22: -187820 | C22: 0 | D22: -2814917

Sheet 24.Ovi vagyon
A1: 2/2021.(V.31.) rendelet 24.melléklete
A3: Dánszerntmiklósi Mosolygó Alma Óvoda és Mini Bölcsőde 2020. évi vagyonkimutatása
A5: Megnevezés | B5: Sorszám | C5: Előző év | D5: Tárgyév | E5: Index (%)
A6: ESZKÖZÖK
A7: A/ NEMZETI VAGYONBA TARTOZÓ BEFEKTETETT ESZKÖZÖK | B7: A | C7: 3 510 630.00 | D7: 1 227 152.00 | E7: 34.96
A8: I. IMMATERIÁLIS JAVAK | B8: A/I | C8: 0.00 | D8: 0.00 | E8: 0.00
A9: 1. Vagyoni értékű jogok | B9: A/I/1 | C9: 0.00 | D9: 0.00 | E9: 0.00
A10: a) Forgalomképtelen törzsvagyon | B10: A/I/1/a | E10: 0.00
A11: b) Nemzetgazdasági szempontból kiemelt jelentőségű törzsvagyon | B11: A/I/1/b | E11: 0.00
A12: c) Korlátozottan forgalomképes vagyon | B12: A/I/1/c | C12: 0.00 | D12: 0.00 | E12: 0.00
A13: d) Üzleti vagyon | B13: A/I/1/d | C13: 0.00 | D13: 0.00 | E13: 0.00
A14: 2. Szellemi termékek | B14: A/I/2 | C14: 0.00 | D14: 0.00 | E14: 0.00
A15: a) Forgalomképtelen törzsvagyon | B15: A/I/2/a | E15: 0.00
A16: b) Nemzetgazdasági szempontból kiemelt jelentőségű törzsvagyon | B16: A/I/2/b | E16: 0.00
A17: c) Korlátozottan forgalomképes vagyon | B17: A/I/2/c | C17: 0.00 | D17: 0.00 | E17: 0.00
A18: d) Üzleti vagyon | B18: A/I/2/d | C18: 0.00 | D18: 0.00 | E18: 0.00
A19: 3. Immateriális javak értékhelyesbítése | B19: A/I/3 | C19: 0.00 | D19: 0.00 | E19: 0.00
A20: a) Forgalomképtelen törzsvagyon | B20: A/I/3/a | E20: 0.00
A21: b) Nemzetgazdasági szempontból kiemelt jelentőségű törzsvagyon | B21: A/I/3/b | E21: 0.00
A22: c) Korlátozottan forgalomképes vagyon | B22: A/I/3/c | C22: 0.00 | D22: 0.00 | E22: 0.00
A23: d) Üzleti vagyon | B23: A/I/3/d | C23: 0.00 | D23: 0.00 | E23: 0.00
A24: II. TÁRGYI ESZKÖZÖK | B24: A/II | C24: 3 510 630.00 | D24: 1 227 152.00 | E24: 34.96
A25: 1. Ingatlanok és kapcsolódó vagyoni értékű jogok | B25: A/II/1 | C25: 111 758.00 | D25: 349 876.00 | E25: 313.07
A26: a) Forgalomképtelen törzsvagyon | B26: A/II/1/a | C26: 111 758.00 | D26: 110 076.00 | E26: 98.49
A27: b) Nemzetgazdasági szempontból kiemelt jelentőségű törzsvagyon | B27: A/II/1/b | C27: 0.00 | D27: 0.00 | E27: 0.00
A28: c) Korlátozottan forgalomképes vagyon | B28: A/II/1/c | C28: 0.00 | D28: 0.00 | E28: 0.00
A29: d) Üzleti vagyon | B29: A/II/1/d | C29: 0.00 | D29: 239 800.00 | E29: 0.00
A30: 2. Gépek, berendezések, felszerelések, járművek | B30: A/II/2 | C30: 399 012.00 | D30: 300 256.00 | E30: 75.25
A31: a) Forgalomképtelen törzsvagyon | B31: A/II/2/a | C31: 0.00 | D31: 0.00 | E31: 0.00
A32: b) Nemzetgazdasági szempontból kiemelt jelentőségű törzsvagyon | B32: A/II/2/b | C32: 0.00 | D32: 0.00 | E32: 0.00
A33: c) Korlátozottan forgalomképes vagyon | B33: A/II/2/c | C33: 399 012.00 | D33: 2 670 262.00 | E33: 669.22
... A35: 3. Tenyészállatok | B35: A/II/3 | C35: 0.00 | D35: 0.00 | E35: 0.00
A36: a) Forgalomképtelen törzsvagyon | B36: A/II/3/a | E36: 0.00
A37: b) Nemzetgazdasági szempontból kiemelt jelentőségű törzsvagyon | B37: A/II/3/b | E37: 0.00
A38: c) Korlátozottan forgalomképes vagyon | B38: A/II/3/c | E38: 0.00
A39: d) Üzleti vagyon | B39: A/II/3/d | C39: 0.00 | D39: 0.00 | E39: 0.00
A40: 4. Beruházások, felújítások | B40: A/II/4 | C40: 2 999 860.00 | D40: 577 020.00 | E40: 19.23
A41: a) Forgalomképtelen törzsvagyon | B41: A/II/4/a | E41: 0.00
A42: b) Nemzetgazdasági szempontból kiemelt jelentőségű törzsvagyon | B42: A/II/4/b | E42: 0.00
A43: c) Korlátozottan forgalomképes vagyon | B43: A/II/4/c | E43: 0.00
A44: d) Üzleti vagyon | B44: A/II/4/d | C44: 2 999 860.00 | D44: 577 020.00 | E44: 19.23
A45: 5. Tárgyi eszközök értékhelyesbítése | B45: A/II/5 | C45: 0.00 | D45: 0.00 | E45: 0.00
A46: a) Forgalomképtelen törzsvagyon | B46: A/II/5/a | C46: 0.00 | D46: 0.00 | E46: 0.00
A47: b) Nemzetgazdasági szempontból kiemelt jelentőségű törzsvagyon | B47: A/II/5/b | C47: 0.00 | D47: 0.00 | E47: 0.00
A48: c) Korlátozottan forgalomképes vagyon | B48: A/II/5/c | C48: 0.00 | D48: 0.00 | E48: 0.00
A49: d) Üzleti vagyon | B49: A/II/5/d | C49: 0.00 | D49: 0.00 | E49: 0.00
A50: III. BEFEKTETETT PÉNZÜGYI ESZKÖZÖK | B50: A/III | C50: 0.00 | D50: 0.00 | E50: 0.00
A51: 1. Tartós részesedések | B51: A/III/1 | C51: 0.00 | D51: 0.00 | E51: 0.00
A52: a) Forgalomképtelen törzsvagyon | B52: A/III/1/a | C52: 0.00 | D52: 0.00 | E52: 0.00
A53: b) Nemzetgazdasági szempontból kiemelt jelentőségű törzsvagyon | B53: A/III/1/b | C53: 0.00 | D53: 0.00 | E53: 0.00
A54: c) Korlátozottan forgalomképes vagyon | B54: A/III/1/c | C54: 0.00 | D54: 0.00 | E54: 0.00
A55: d) Üzleti vagyon | B55: A/III/1/d | C55: 0.00 | D55: 0.00 | E55: 0.00
A56: 2. Tartós hitelviszonyt megtestesítő értékpapírok | B56: A/III/2 | C56: 0.00 | D56: 0.00 | E56: 0.00
A57: a) Forgalomképtelen törzsvagyon | B57: A/III/2/a | E57: 0.00
A58: b) Nemzetgazdasági szempontból kiemelt jelentőségű törzsvagyon | B58: A/III/2/b | E58: 0.00
A59: c) Korlátozottan forgalomképes vagyon | B59: A/III/2/c | E59: 0.00
A60: d) Üzleti vagyon | B60: A/III/2/d | C60: 0.00 | D60: 0.00 | E60: 0.00
A61: 3. Befektetett pénzügyi eszközök értékhelyesbítése | B61: A/III/3 | C61: 0.00 | D61: 0.00 | E61: 0.00
A62: a) Forgalomképtelen törzsvagyon | B62: A/III/3/a | E62: 0.00
A63: b) Nemzetgazdasági szempontból kiemelt jelentőségű törzsvagyon | B63: A/III/3/b | E63: 0.00
A64: c) Korlátozottan forgalomképes vagyon | B64: A/III/3/c | E64: 0.00
A65: d) Üzleti vagyon | B65: A/III/3/d | C65: 0.00 | D65: 0.00 | E65: 0.00
A66: IV. KONCESSZIÓBA, VAGYONKEZELÉSBE ADOTT ESZKÖZÖK | B66: A/IV | C66: 0.00 | D66: 0.00 | E66: 0.00
A67: 1.Koncesszióba, vagyonkezelésbe adott eszközök | B67: A/IV/1 | C67: 0.00 | D67: 0.00 | E67: 0.00
A68: a) Forgalomképtelen törzsvagyon | B68: A/IV/1/a | C68: 0.00 | D68: 0.00 | E68: 0.00
A69: b) Nemzetgazdasági szempontból kiemelt jelentőségű törzsvagyon | B69: A/IV/1/b | C69: 0.00 | D69: 0.00 | E69: 0.00
A70: c) Korlátozottan forgalomképes vagyon | B70: A/IV/1/c | C70: 0.00 | D70: 0.00 | E70: 0.00
A71: d) Üzleti vagyon | B71: A/IV/1/d | C71: 0.00 | D71: 0.00 | E71: 0.00
A72: 2. Koncesszióba, vagyonkezelésbe adott eszközök értékhelyesbítése | B72: A/IV/2 | C72: 0.00 | D72: 0.00 | E72: 0.00
A73: a) Forgalomképtelen törzsvagyon | B73: A/IV/2/a | E73: 0.00
A74: b) Nemzetgazdasági szempontból kiemelt jelentőségű törzsvagyon | B74: A/IV/2/b | E74: 0.00
A75: c) Korlátozottan forgalomképes vagyon | B75: A/IV/2/c | C75: 0.00 | D75: 0.00 | E75: 0.00
A76: d) Üzleti vagyon | B76: A/IV/2/d | C76: 0.00 | D76: 0.00 | E76: 0.00
A77: B/ NEMZETI VAGYONBA TARTOZÓ FORGÓESZKÖZÖK | B77: B | C77: 0.00 | D77: 0.00 | E77: 0.00
A78: I. Készletek | B78: B/I | C78: 0.00 | D78: 0.00 | E78: 0.00
A79: II. Értékpapírok | B79: B/II | C79: 0.00 | D79: 0.00 | E79: 0.00
A80: C/ PÉNZESZKÖZÖK | B80: C | C80: 512 329.00 | D80: 319 483.00 | E80: 62.36
A81: I. Lekötött bankbetétek | B81: C/I | C81: 0.00 | D81: 0.00 | E81: 0.00
A82: II. Pénztárak, csekkek, betétkönyvek | B82: C/II | C82: 2 285.00 | D82: 31 275.00 | E82: 1 368.71
A83: III. Forintszámlák | B83: C/III | C83: 510 044.00 | D83: 288 208.00 | E83: 56.51
A84: IV. Devizaszámlák | B84: C/IV | C84: 0.00 | D84: 0.00 | E84: 0.00
A85: D/ KÖVETELÉSEK | B85: D | C85: 0.00 | D85: 203 047.00 | E85: 0.00
A86: I. Költségvetési évben esedékes követelések | B86: D/I | C86: 0.00 | D86: 0.00 | E86: 0.00
... A91: ESZKÖZÖK ÖSSZESEN | B91: A+..+F | C91: 4 022 959.00 | D91: 1 749 682.00 | E91: 43.49
A93: FORRÁSOK
A94: G/ SAJÁT TŐKE | B94: G | C94: -1 868 515.00 | D94: -4 683 432.00 | E94: 250.65
A95: I. Nemzeti vagyon induláskori értéke | B95: G/I | C95: 0.00 | D95: 0.00 | E95: 0.00
A96: II. Nemzeti vagyon változásai | B96: G/II | C96: 0.00 | D96: 0.00 | E96: 0.00
A97: III. Egyéb eszközök induláskori értéke és változásai | B97: G/III | C97: 26 747.00 | D97: 26 747.00 | E97: 100.00
A98: IV. Felhalmozott eredmény | B98: G/IV | C98: -1 707 442.00 | D98: -1 895 262.00 | E98: 111.00
A99: V. Eszközök értékhelyesbítésének forrása | B99: G/V | C99: 0.00 | D99: 0.00 | E99: 0.00
A100: VI. Mérleg szerinti eredmény | B100: G/VI | C100: -187 820.00 | D100: -2 814 917.00 | E100: 1 498.73
A101: H/ KÖTELEZETTSÉGEK | B101: H | C101: 90 005.00 | D101: 5.00 | E101: 0.01
A102: I. Költségvetési évben esedékes kötelezettségek | B102: H/I | C102: 90 005.00 | D102: 5.00 | E102: 0.01
A103: II. Költségvetési évet követően esedékes kötelezettségek | B103: H/II | C103: 0.00 | D103: 0.00 | E103: 0.0
A104: III. Kötelezettség jellegű sajátos elszámolások | B104: H/III | C104: 0.00 | D104: 0.00 | E104: 0.00
A105: I/ KINCSTÁRI SZÁMLAVEZETÉSSEL KAPCSOLATOS ELSZÁMOLÁSOK | B105: I | C105: 0.00 | D105: 0.00 | E105: 0.00
... A107: FORRÁSOK ÖSSZESEN | B107: G+...+J | C107: 4 022 959.00 | D107: 1 749 682.00 | E107: 43.49
A109: EGYÉB ADATOK ÉS MÉRLEGEN KÍVÜLI TÉTELEK | B109: L
A110: "0"-ra írt eszközök | B110: L/1 | C110: 116 554.00 | D110: 764 325.00 | E110: 655.77
...

Sheet 25.Művház kiad
A1: 2/2021.(V.31.) rendelet 25.melléklete
A3: Művelődési és Sportház 2020. évi rovat szintű kiadásai
A5: Megnevezés | B5: Eredeti előirányzat | C5: Módosított előirányzat | D5: Teljesítés
A6: Törvény szerinti illetmények, munkabérek (K1101) | B6: 11376600 | C6: 12265660 | D6: 12230448
A7: Céljuttatás, projektprémium (K1103) | B7: 684825 | C7: 0 | D7: 0
A8: Béren kívüli juttatások (K1107) | B8: 384000 | C8: 384000 | D8: 384000
A9: Közlekedési költségtérítés (K1109) | B9: 178000 | C9: 181929 | D9: 181929
A10: Egyéb költségtérítések (K1110) | B10: 60000 | C10: 0 | D10: 0
A11: Foglalkoztatottak egyéb személyi juttatásai (>=14) (K1113) | B11: 0 | C11: 276220 | D11: 271160
A12: Foglalkoztatottak személyi juttatásai (=01+…+13) (K11) | B12: 12683425 | C12: 13107809 | D12: 13067537
A13: Munkavégzésre irányuló egyéb jogviszonyban nem saját foglalkoztatottnak fizetett juttatások (K122) | B13: 0 | C13: 161000 | D13: 161000
A14: Egyéb külső személyi juttatások (K123) | B14: 160000 | C14: 18643 | D14: 18551
A15: Külső személyi juttatások (=16+17+18) (K12) | B15: 160000 | C15: 179643 | D15: 179551
A16: Személyi juttatások (=15+19) (K1) | B16: 12843425 | C16: 13287452 | D16: 13247088
A17: Munkaadókat terhelő járulékok és szociális hozzájárulási adó (=22+…+27) (K2) | B17: 2247599 | C17: 2276461 | D17: 2276461
... A45: Költségvetési kiadások (=20+21+60+120+190+199+204+266) (K1-K8) | B45: 28652729 | C45: 29739046 | D45: 23846682

Sheet 26.Művház cofog kiad.
A1: 2/2021.(V.31.) rendelet 26.melléklete
A3: Művelődési és Sportház 2020. évi kormányzati funkció szerinti kiadásai
A5: Megnevezés | B5: Összesen | C5: 016080 Kiemelt állami és önkormányzati rendezvények | D5: 081030 Sportlétesítmények, edzőtáborok működtetése és fejlesztése | E5: 081045 Szabadidősport- (rekreációs sport-) tevékenység és támogatása | F5: 082042 Könyvtári állomány gyarapítása, nyilvántartása | G5: 082092 Közművelődés - hagyományos közösségi kulturális értékek gondozása
A6: Törvény szerinti illetmények, munkabérek (K1101) | B6: 12230448 | C6: 0 | D6: 0 | E6: 0 | F6: 2686130 | G6: 9544318
A7: Béren kívüli juttatások (K1107) | B7: 384000 | C7: 0 | D7: 0 | E7: 0 | F7: 96000 | G7: 288000
A8: Közlekedési költségtérítés (K1109) | B8: 181929 | C8: 0 | D8: 28609 | E8: 0 | F8: 0 | G8: 153320
A9: Foglalkoztatottak egyéb személyi juttatásai (>=14) (K1113) | B9: 271160 | C9: 0 | D9: 0 | E9: 0 | F9: 80400 | G9: 190760
A10: Foglalkoztatottak személyi juttatásai (=01+…+13) (K11) | B10: 13067537 | C10: 0 | D10: 28609 | E10: 0 | F10: 2862530 | G10: 10176398
A11: Munkavégzésre irányuló egyéb jogviszonyban nem saját foglalkoztatottnak fizetett juttatások (K122) | B11: 161000 | C11: 0 | D11: 0 | E11: 0 | F11: 0 | G11: 161000
A12: Egyéb külső személyi juttatások (K123) | B12: 18551 | C12: 0 | D12: 0 | E12: 0 | F12: 4760 | G12: 13791
A13: Külső személyi juttatások (=16+17+18) (K12) | B13: 179551 | C13: 0 | D13: 0 | E13: 0 | F13: 4760 | G13: 174791
A14: Személyi juttatások (=15+19) (K1) | B14: 13247088 | C14: 0 | D14: 28609 | E14: 0 | F14: 2867290 | G14: 10351189
A15: Munkaadókat terhelő járulékok és szociális hozzájárulási adó (=22+…+27) (K2) | B15: 2276461 | C15: 0 | D15: 0 | E15: 0 | F15: 489711 | G15: 1786750
A16: ebből: szociális hozzájárulási adó (K2) | B16: 2181013 | C16: 0 | D16: 0 | E16: 0 | F16: 475311 | G16: 1705702
A17: ebből: egészségügyi hozzájárulás (K2) | B17: 27872 | C17: 0 | D17: 0 | E17: 0 | F17: 0 | G17: 27872
... A42: Kiadások összesen (=267+307) (K1-K9) | B42: 23846682 | C42: 1500 | D42: 35724 | E42: 126 | F42: 3799111 | G42: 20010221

Sheet 27. Művház bevét
A1: 2/2021.(V.31.) rendelet 27.melléklete
A3: Művelődési és Sportház 2020. évi rovat szintű bevételei
A5: Megnevezés | B5: Eredeti előirányzat | C5: Módosított előirányzat | D5: Teljesítés
A6: Szolgáltatások ellenértéke (>=187+188) (B402) | B6: 7000000 | C6: 7000000 | D6: 5318875
A7: ebből:tárgyi eszközök bérbeadásából származó bevétel (B402) | B7: 0 | C7: 0 | D7: 481000
A8: Tulajdonosi bevételek (>=192+…+197) (B404) | B8: 0 | C8: 0 | D8: 39000
A9: Egyéb kapott (járó) kamatok és kamatjellegű bevételek (>=205+206) (B4082) | B9: 0 | C9: 0 | D9: 2
A10: Kamatbevételek és más nyereségjellegű bevételek (=201+204) (B408) | B10: 0 | C10: 0 | D10: 2
A11: Egyéb működési bevételek (>=218+219) (B411) | B11: 0 | C11: 0 | D11: 5949
A12: Működési bevételek (=185+186+189+191+198+…+200+207+215+216+217) (B4) | B12: 7000000 | C12: 7000000 | D12: 5363826
A13: Költségvetési bevételek (=45+81+184+220+229+255+281) (B1-B7) | B13: 7000000 | C13: 7000000 | D13: 5363826
A14: Előző év költségvetési maradványának igénybevétele (B8131) | B14: 0 | C14: 613428 | D14: 613428
A15: Maradvány igénybevétele (=12+13) (B813) | B15: 0 | C15: 613428 | D15: 613428
A16: Központi, irányító szervi támogatás (B816) | B16: 21652729 | C16: 22125618 | D16: 21892881
A17: Belföldi finanszírozás bevételei (=04+11+14+…+19+22) (B81) | B17: 21652729 | C17: 22739046 | D17: 22506309
A18: Finanszírozási bevételek (=23+29+30+31) (B8) | B18: 21652729 | C18: 22739046 | D18: 22506309
A19: Bevételek összesen | B19: =B13+B18 -> 28652729 | C19: =C13+C18 -> 29739046 | D19: =D13+D18 -> 27870135

Sheet 28.Művház cofog bevét
A1: 2/2021.(V.31.) rendelet 28.melléklete
A3: Művelődési és Sportház 2020. évi kormányzati funkció szerinti bevételei
A5: Megnevezés | B5: Összesen | C5: 018030 Támogatási célú finanszírozási műveletek | D5: 081030 Sportlétesítmények, edzőtáborok működtetése és fejlesztése | E5: 082092 Közművelődés - hagyományos közösségi kulturális értékek gondozása
A6: Szolgáltatások ellenértéke (>=187+188) (B402) | B6: 5318875 | C6: 0 | D6: 1718800 | E6: 3600075
A7: ebből:tárgyi eszközök bérbeadásából származó bevétel (B402) | B7: 481000 | C7: 0 | D7: 481000 | E7: 0
A8: Tulajdonosi bevételek (>=192+…+197) (B404) | B8: 39000 | C8: 0 | D8: 0 | E8: 39000
A9: Egyéb kapott (járó) kamatok és kamatjellegű bevételek (>=205+206) (B4082) | B9: 2 | C9: 0 | D9: 0 | E9: 2
A10: Kamatbevételek és más nyereségjellegű bevételek (=201+204) (B408) | B10: 2 | C10: 0 | D10: 0 | E10: 2
A11: Egyéb működési bevételek (>=218+219) (B411) | B11: 5949 | C11: 0 | D11: 4949 | E11: 1000
A12: Működési bevételek (=185+186+189+191+198+…+200+207+215+216+217) (B4) | B12: 5363826 | C12: 0 | D12: 1723749 | E12: 3640077
A13: Költségvetési bevételek (=45+81+184+220+229+255+281) (B1-B7) | B13: 5363826 | C13: 0 | D13: 1723749 | E13: 3640077
A14: Előző év költségvetési maradványának igénybevétele (B8131) | B14: 613428 | C14: 613428 | D14: 0 | E14: 0
A15: Maradvány igénybevétele (=294+295) (B813) | B15: 613428 | C15: 613428 | D15: 0 | E15: 0
A16: Központi, irányító szervi támogatás (B816) | B16: 21892881 | C16: 21892881 | D16: 0 | E16: 0
A17: Belföldi finanszírozás bevételei (=286+293+296+…+301+304) (B81) | B17: 22506309 | C17: 22506309 | D17: 0 | E17: 0
... A19: Bevételek összesen (282+314) (B1-B8) | B19: 27870135 | C19: 22506309 | D19: 1723749 | E19: 3640077

Sheet 29.Művház mérleg
A1: 2./2021.(V.31.) rendelet 29.melléklete
A3: Művelődési és Sportház 2020. évi mérlege
A5: Megnevezés | B5: Előző időszak | C5: Módosítások (+/-) | D5: Tárgyi időszak
A6: A/II/1 Ingatlanok és a kapcsolódó vagyoni értékű jogok | B6: 3107494 | C6: 0 | D6: 3060328
A7: A/II/2 Gépek, berendezések, felszerelések, járművek | B7: 200799 | C7: 0 | D7: 1300126
A8: A/II/4 Beruházások, felújítások | B8: 3270742 | C8: 0 | D8: 1336674
A9: A/II Tárgyi eszközök (=A/II/1+...+A/II/5) | B9: 6579035 | C9: 0 | D9: 5697128
A10: A) NEMZETI VAGYONBA TARTOZÓ BEFEKTETETT ESZKÖZÖK (=A/I+A/II+A/III+A/IV) | B10: 6579035 | C10: 0 | D10: 5697128
A11: C/II/1 Forintpénztár | B11: 427930 | C11: 0 | D11: 213460
A12: C/II Pénztárak, csekkek, betétkönyvek (=C/II/1+C/II/2+C/II/3) | B12: 427930 | C12: 0 | D12: 213460
A13: C/III/1 Kincstáron kívüli forintszámlák | B13: 185498 | C13: 0 | D13: 3809993
A14: C/III Forintszámlák (=C/III/1+C/III/2) | B14: 185498 | C14: 0 | D14: 3809993
A15: C) PÉNZESZKÖZÖK (=C/I+…+C/IV) | B15: 613428 | C15: 0 | D15: 4023453
A16: D/I/4 Költségvetési évben esedékes követelések működési bevételre (=D/I/4a+…+D/I/4i) | B16: 413000 | C16: 0 | D16: 85200
A17: D/I/4a - ebből: költségvetési évben esedékes követelések készletértékesítés ellenértékére, szolgáltatások ellenértékére, közvetített szolgáltatások ellenértékére | B17: 413000 | C17: 0 | D17: 85200
... A31: FORRÁSOK ÖSSZESEN (=G+H+I+J) | B31: 7605463 | C31: 0 | D31: 9805781

Sheet 30.Művház eredmény
A1: 2/2021.(V.31.) rendelet 30.melléklete
A3: Művelődési és Sportház 2020. évi eredménykimutatása
A5: Megnevezés | B5: Előző időszak | C5: Módosítások (+/- | D5: Tárgyi időszak
A6: 02 Eszközök és szolgáltatások értékesítése nettó eredményszemléletű bevételei | B6: 6979595 | C6: 0 | D6: 4991075
A7: 03 Tevékenység egyéb nettó eredményszemléletű bevételei | B7: 0 | C7: 0 | D7: 29000
A8: I Tevékenység nettó eredményszemléletű bevétele (=01+02+03) | B8: 6979595 | C8: 0 | D8: 5020075
A9: 06 Központi működési célú támogatások eredményszemléletű bevételei | B9: 26690875 | C9: 0 | D9: 21892881
A10: 09 Különféle egyéb eredményszemléletű bevételek | B10: 275836 | C10: 0 | D10: 15949
A11: III Egyéb eredményszemléletű bevételek (=06+07+08+09) | B11: 26966711 | C11: 0 | D11: 21908830
A12: 10 Anyagköltség | B12: 633661 | C12: 0 | D12: 662970
A13: 11 Igénybe vett szolgáltatások értéke | B13: 11201660 | C13: 0 | D13: 5000154
A14: 13 Eladott (közvetített) szolgáltatások értéke | B14: 84814 | C14: 0 | D14: 0
A15: IV Anyagjellegű ráfordítások (=10+11+12+13) | B15: 11920135 | C15: 0 | D15: 5663124
A16: 14 Bérköltség | B16: 13168065 | C16: 0 | D16: 12411331
A17: 15 Személyi jellegű egyéb kifizetések | B17: 1010340 | C17: 0 | D17: 968097
... A26: C) MÉRLEG SZERINTI EREDMÉNY (=±A±B) | B26: 2702298 | C26: 0 | D26: 2128631

Sheet 31.Művház vagyon
A1: 2/2021.(V.31.) rendelet 31.melléklete
A3: Művelődési és Sportház 2020. évi vagyonkimutatása
A5: Megnevezés | B5: Sorszám | C5: Előző év | D5: Tárgyév | E5: Index (%)
A6: ESZKÖZÖK
A7: A/ NEMZETI VAGYONBA TARTOZÓ BEFEKTETETT ESZKÖZÖK | B7: A | C7: 6 579 035.00 | D7: 5 697 128.00 | E7: 86.60
A8: I. IMMATERIÁLIS JAVAK | B8: A/I | C8: 0.00 | D8: 0.00 | E8: 0.00
A9: 1. Vagyoni értékű jogok | B9: A/I/1 | C9: 0.00 | D9: 0.00 | E9: 0.00
A10: a) Forgalomképtelen törzsvagyon | B10: A/I/1/a | E10: 0.00
A11: b) Nemzetgazdasági szempontból kiemelt jelentőségű törzsvagyon | B11: A/I/1/b | E11: 0.00
A12: c) Korlátozottan forgalomképes vagyon | B12: A/I/1/c | C12: 0.00 | D12: 0.00 | E12: 0.00
A13: d) Üzleti vagyon | B13: A/I/1/d | C13: 0.00 | D13: 0.00 | E13: 0.00
A14: 2. Szellemi termékek | B14: A/I/2 | C14: 0.00 | D14: 0.00 | E14: 0.00
A15: a) Forgalomképtelen törzsvagyon | B15: A/I/2/a | E15: 0.00
A16: b) Nemzetgazdasági szempontból kiemelt jelentőségű törzsvagyon | B16: A/I/2/b | E16: 0.00
A17: c) Korlátozottan forgalomképes vagyon | B17: A/I/2/c | C17: 0.00 | D17: 0.00 | E17: 0.00
A18: d) Üzleti vagyon | B18: A/I/2/d | C18: 0.00 | D18: 0.00 | E18: 0.00
A19: 3. Immateriális javak értékhelyesbítése | B19: A/I/3 | C19: 0.00 | D19: 0.00 | E19: 0.00
A20: a) Forgalomképtelen törzsvagyon | B20: A/I/3/a | E20: 0.00
A21: b) Nemzetgazdasági szempontból kiemelt jelentőségű törzsvagyon | B21: A/I/3/b | E21: 0.00
A22: c) Korlátozottan forgalomképes vagyon | B22: A/I/3/c | C22: 0.00 | D22: 0.00 | E22: 0.00
A23: d) Üzleti vagyon | B23: A/I/3/d | C23: 0.00 | D23: 0.00 | E23: 0.00
A24: II. TÁRGYI ESZKÖZÖK | B24: A/II | C24: 6 579 035.00 | D24: 5 697 128.00 | E24: 86.60
A25: 1. Ingatlanok és kapcsolódó vagyoni értékű jogok | B25: A/II/1 | C25: 3 107 494.00 | D25: 3 060 328.00 | E25: 98.48
A26: a) Forgalomképtelen törzsvagyon | B26: A/II/1/a | C26: 0.00 | D26: 0.00 | E26: 0.00
A27: b) Nemzetgazdasági szempontból kiemelt jelentőségű törzsvagyon | B27: A/II/1/b | C27: 0.00 | D27: 0.00 | E27: 0.00
A28: c) Korlátozottan forgalomképes vagyon | B28: A/II/1/c | C28: 3 107 494.00 | D28: 3 060 328.00 | E28: 98.48
A29: d) Üzleti vagyon | B29: A/II/1/d | C29: 0.00 | D29: 0.00 | E29: 0.00
A30: 2. Gépek, berendezések, felszerelések, járművek | B30: A/II/2 | C30: 200 799.00 | D30: 1 300 126.00 | E30: 647.48
A31: a) Forgalomképtelen törzsvagyon | B31: A/II/2/a | C31: 0.00 | D31: 0.00 | E31: 0.00
A32: b) Nemzetgazdasági szempontból kiemelt jelentőségű törzsvagyon | B32: A/II/2/b | C32: 0.00 | D32: 0.00 | E32: 0.00
A33: c) Korlátozottan forgalomképes vagyon | B33: A/II/2/c | C33: 0.00 | D33: 0.00 | E33: 0.00
... A35: 3. Tenyészállatok | B35: A/II/3 | C35: 0.00 | D35: 0.00 | E35: 0.00
A36: a) Forgalomképtelen törzsvagyon | B36: A/II/3/a | E36: 0.00
A37: b) Nemzetgazdasági szempontból kiemelt jelentőségű törzsvagyon | B37: A/II/3/b | E37: 0.00
A38: c) Korlátozottan forgalomképes vagyon | B38: A/II/3/c | E38: 0.00
A39: d) Üzleti vagyon | B39: A/II/3/d | C39: 0.00 | D39: 0.00 | E39: 0.00
A40: 4. Beruházások, felújítások | B40: A/II/4 | C40: 3 270 742.00 | D40: 1 336 674.00 | E40: 40.87
A41: a) Forgalomképtelen törzsvagyon | B41: A/II/4/a | E41: 0.00
A42: b) Nemzetgazdasági szempontból kiemelt jelentőségű törzsvagyon | B42: A/II/4/b | E42: 0.00
A43: c) Korlátozottan forgalomképes vagyon | B43: A/II/4/c | E43: 0.00
A44: d) Üzleti vagyon | B44: A/II/4/d | C44: 3 270 742.00 | D44: 1 336 674.00 | E44: 40.87
A45: 5. Tárgyi eszközök értékhelyesbítése | B45: A/II/5 | C45: 0.00 | D45: 0.00 | E45: 0.00
A46: a) Forgalomképtelen törzsvagyon | B46: A/II/5/a | C46: 0.00 | D46: 0.00 | E46: 0.00
A47: b) Nemzetgazdasági szempontból kiemelt jelentőségű törzsvagyon | B47: A/II/5/b | C47: 0.00 | D47: 0.00 | E47: 0.00
A48: c) Korlátozottan forgalomképes vagyon | B48: A/II/5/c | C48: 0.00 | D48: 0.00 | E48: 0.00
A49: d) Üzleti vagyon | B49: A/II/5/d | C49: 0.00 | D49: 0.00 | E49: 0.00
A50: III. BEFEKTETETT PÉNZÜGYI ESZKÖZÖK | B50: A/III | C50: 0.00 | D50: 0.00 | E50: 0.00
A51: 1. Tartós részesedések | B51: A/III/1 | C51: 0.00 | D51: 0.00 | E51: 0.00
A52: a) Forgalomképtelen törzsvagyon | B52: A/III/1/a | C52: 0.00 | D52: 0.00 | E52: 0.00
A53: b) Nemzetgazdasági szempontból kiemelt jelentőségű törzsvagyon | B53: A/III/1/b | C53: 0.00 | D53: 0.00 | E53: 0.00
A54: c) Korlátozottan forgalomképes vagyon | B54: A/III/1/c | C54: 0.00 | D54: 0.00 | E54: 0.00
A55: d) Üzleti vagyon | B55: A/III/1/d | C55: 0.00 | D55: 0.00 | E55: 0.00
A56: 2. Tartós hitelviszonyt megtestesítő értékpapírok | B56: A/III/2 | C56: 0.00 | D56: 0.00 | E56: 0.00
A57: a) Forgalomképtelen törzsvagyon | B57: A/III/2/a | E57: 0.00
A58: b) Nemzetgazdasági szempontból kiemelt jelentőségű törzsvagyon | B58: A/III/2/b | E58: 0.00
A59: c) Korlátozottan forgalomképes vagyon | B59: A/III/2/c | E59: 0.00
A60: d) Üzleti vagyon | B60: A/III/2/d | C60: 0.00 | D60: 0.00 | E60: 0.00
A61: 3. Befektetett pénzügyi eszközök értékhelyesbítése | B61: A/III/3 | C61: 0.00 | D61: 0.00 | E61: 0.00
A62: a) Forgalomképtelen törzsvagyon | B62: A/III/3/a | E62: 0.00
A63: b) Nemzetgazdasági szempontból kiemelt jelentőségű törzsvagyon | B63: A/III/3/b | E63: 0.00
A64: c) Korlátozottan forgalomképes vagyon | B64: A/III/3/c | E64: 0.00
A65: d) Üzleti vagyon | B65: A/III/3/d | C65: 0.00 | D65: 0.00 | E65: 0.00
A66: IV. KONCESSZIÓBA, VAGYONKEZELÉSBE ADOTT ESZKÖZÖK | B66: A/IV | C66: 0.00 | D66: 0.00 | E66: 0.00
A67: 1.Koncesszióba, vagyonkezelésbe adott eszközök | B67: A/IV/1 | C67: 0.00 | D67: 0.00 | E67: 0.00
A68: a) Forgalomképtelen törzsvagyon | B68: A/IV/1/a | C68: 0.00 | D68: 0.00 | E68: 0.00
A69: b) Nemzetgazdasági szempontból kiemelt jelentőségű törzsvagyon | B69: A/IV/1/b | C69: 0.00 | D69: 0.00 | E69: 0.00
A70: c) Korlátozottan forgalomképes vagyon | B70: A/IV/1/c | C70: 0.00 | D70: 0.00 | E70: 0.00
A71: d) Üzleti vagyon | B71: A/IV/1/d | C71: 0.00 | D71: 0.00 | E71: 0.00
A72: 2. Koncesszióba, vagyonkezelésbe adott eszközök értékhelyesbítése | B72: A/IV/2 | C72: 0.00 | D72: 0.00 | E72: 0.00
A73: a) Forgalomképtelen törzsvagyon | B73: A/IV/2/a | E73: 0.00
A74: b) Nemzetgazdasági szempontból kiemelt jelentőségű törzsvagyon | B74: A/IV/2/b | E74: 0.00
A75: c) Korlátozottan forgalomképes vagyon | B75: A/IV/2/c | C75: 0.00 | D75: 0.00 | E75: 0.00
A76: d) Üzleti vagyon | B76: A/IV/2/d | C76: 0.00 | D76: 0.00 | E76: 0.00
A77: B/ NEMZETI VAGYONBA TARTOZÓ FORGÓESZKÖZÖK | B77: B | C77: 0.00 | D77: 0.00 | E77: 0.00
A78: I. Készletek | B78: B/I | C78: 0.00 | D78: 0.00 | E78: 0.00
A79: II. Értékpapírok | B79: B/II | C79: 0.00 | D79: 0.00 | E79: 0.00
A80: C/ PÉNZESZKÖZÖK | B80: C | C80: 613 428.00 | D80: 4 023 453.00 | E80: 655.90
A81: I. Lekötött bankbetétek | B81: C/I | C81: 0.00 | D81: 0.00 | E81: 0.00
A82: II. Pénztárak, csekkek, betétkönyvek | B82: C/II | C82: 427 930.00 | D82: 213 460.00 | E82: 49.88
A83: III. Forintszámlák | B83: C/III | C83: 185 498.00 | D83: 3 809 993.00 | E83: 2 053.93
A84: IV. Devizaszámlák | B84: C/IV | C84: 0.00 | D84: 0.00 | E84: 0.00
A85: D/ KÖVETELÉSEK | B85: D | C85: 413 000.00 | D85: 85 200.00 | E85: 20.63
A86: I. Költségvetési évben esedékes követelések | B86: D/I | C86: 413 000.00 | D86: 85 200.00 | E86: 20.63
... A91: ESZKÖZÖK ÖSSZESEN | B91: A+..+F | C91: 7 605 463.00 | D91: 9 805 781.00 | E91: 128.93
A93: FORRÁSOK
A94: G/ SAJÁT TŐKE | B94: G | C94: 6 364 761.00 | D94: 8 493 392.00 | E94: 133.44
A95: I. Nemzeti vagyon induláskori értéke | B95: G/I | C95: 0.00 | D95: 0.00 | E95: 0.00
A96: II. Nemzeti vagyon változásai | B96: G/II | C96: 0.00 | D96: 0.00 | E96: 0.00
A97: III. Egyéb eszközök induláskori értéke és változásai | B97: G/III | C97: 70 512.00 | D97: 70 512.00 | E97: 100.00
A98: IV. Felhalmozott eredmény | B98: G/IV | C98: 3 591 951.00 | D98: 6 294 249.00 | E98: 175.23
A99: V. Eszközök értékhelyesbítésének forrása | B99: G/V | C99: 0.00 | D99: 0.00 | E99: 0.00
A100: VI. Mérleg szerinti eredmény | B100: G/VI | C100: 2 702 298.00 | D100: 2 128 631.00 | E100: 78.77
A101: H/ KÖTELEZETTSÉGEK | B101: H | C101: 87 912.00 | D101: 24 312.00 | E101: 27.65
A102: I. Költségvetési évben esedékes kötelezettségek | B102: H/I | C102: 87 912.00 | D102: 24 312.00 | E102: 27.65
A103: II. Költségvetési évet követően esedékes kötelezettségek | B103: H/II | C103: 0.00 | D103: 0.00 | E103: 0.00
A104: II. Kötelezettség jellegű sajátos elszámolások | B104: H/III | C104: 0.00 | D104: 0.00 | E104: 0.00
A105: I/ KINCSTÁRI SZÁMLAVEZETÉSSEL KAPCSOLATOS ELSZÁMOLÁSOK | B105: I | C105: 0.00 | D105: 0.00 | E105: 0.00
... A107: FORRÁSOK ÖSSZESEN | B107: G+...+J | C107: 7 605 463.00 | D107: 9 805 781.00 | E107: 128.93
A109: EGYÉB ADATOK ÉS MÉRLEGEN KÍVÜLI TÉTELEK | B109: L
A110: "0"-ra írt eszközök | B110: L/1 | C110: 292 244.00 | D110: 2 980 949.00 | E110: 1 020.02
...

Sheet 32.létszám
A1: 2/2021.(V.31.) rendelet 32.melléklete
A3: Dánszentmiklós Község Önkormányzatának és fenntartása alatt működő intézményeknek 2020. évi engedélyezett létszámkerete
A5: Intézmény | C5: engedélyezett létszám összesen | D5: Engedélyezett létszám
D6: szakmai létszám | G6: egyéb létszám | I6: közfoglal
D7: teljes munkai. | E7: választott köztiszt. | F7: részmunkaidős | G7: teljes munkaidős | H7: részmunkaid.
A9: Polgármesteri Hivatal
B10: 2020. | C10: 7 | D10: 6 | F10: 1
A13: Önkormányzat
B15: 2020. | C15: 7 | D15: 3 | E15: 1 | F15: 1 | G15: 2
A18: Művelődési és Sportház
B20: 2020. | C20: 5 | D20: 3 | G20: 1 | H20: 1
A23: Mosolygó Alma Egységes Óvoda-Bölcsőde
B25: 2020. | C25: 18 | D25: 16 | H25: 2
A28: közfoglalkoztatás
B30: 2020. | C30: 5

Sheet 33. Közvetett tám.
A1: 2/2021.(V.31.) rendelet 33.melléklete
A3: ./2021.(…..) rendelet 33. melléklete
A4: Dánszentmiklós Község Önkormányzatának 2020. évben nyújtott közvetett támogatásai
A6: 11/2014 (XI.28.) számú önkormányzati rendelet a magánszemélyek kommunális adójáról szerinti mentesség kedvezmény
B8: fő | C8: összeg
A9: 3.§(1)bek.a) | B9: 3 | C9: 28000
A10: 3.§(1) bek.b) | B10: 54 | C10: 183000
A12: Összesen | B12: =SUM(B9:B11) -> 57 | C12: =SUM(C9:C11) -> 211000

Sheet 34. Adósságot keletkeztető ügyl
B1: 2/2021.(V.31.) rendelet 34.melléklete
B6: Dánszentmiklós Község Önkormányzata adósságot keletkeztető ügyleteiből eredő fizetési kötelezettségeinek bemutatása
H7: adatok forintban
B8: MEGNEVEZÉS | C8: Sorszám | D8: Saját bevétel és adósságot keletkeztető ügyletből eredő fizetési kötelezettség összegei
D9: 2020. eredeti előirányzat | E9: 2020. módosított előirányzat | F9: 2021 | G9: 2022 | H9: 2023
B10: Helyi adók | C10: 01 | D10: 61700000 | E10: 61700000 | F10: 36800000 | G10: 37100000 | H10: 37300000
B11: Osztalék, koncessziós díjak | C11: 02 | E11: 0 | F11: 0 | G11: 0 | H11: 0
B12: Díjak, pótlékok, bírságok | C12: 03 | D12: 0 | E12: 0 | F12: 0 | G12: 0 | H12: 0
B13: Tárgyi eszközök, immateriális javak, vagyoni értékű jog értékesítése, vagyonhasznosításból származó bevétel | C13: 04 | D13: 0 | E13: 0 | F13: 0 | G13: 0 | H13: 0
B14: Részvények, részesedések értékesítése | C14: 05 | D14: 0 | E14: 0 | F14: 0 | G14: 0 | H14: 0
B15: Vállalatértékesítésből, privatizációból származó bevételek | C15: 06 | D15: 0 | E15: 0 | F15: 0 | G15: 0 | H15: 0
B16: Kezességvállalással kapcsolatos megtérülés | C16: 07 | D16: 0 | E16: 0 | F16: 0 | G16: 0 | H16: 0
B17: Saját bevételek (01+… .+07) | C17: 08 | D17: =SUM(D10:D16) -> 61700000 | E17: =SUM(E10:E16) -> 61700000 | F17: =SUM(F10:F16) -> 36800000 | G17: =SUM(G10:G16) -> 37100000 | H17: =SUM(H10:H16) -> 37300000
B18: Saját bevételek (08. sor) 50%-a | C18: 09 | D18: =D17*50% -> 30850000 | E18: =E17*50% -> 30850000 | F18: =F17*50% -> 18400000 | G18: =G17*50% -> 18550000 | H18: =H17*50% -> 18650000
B19: Előző év(ek)ben keletkezett tárgyévi fizetési kötelezettség (11+…..+17) | C19: 10 | D19: 0 | E19: 0 | F19: 0 | G19: 0 | H19: 0
B20: Felvett, átvállalt hitel és annak tőketartozása | C20: 11 | D20: 0 | E20: 0 | F20: 0 | G20: 0 | H20: 0
B21: Felvett, átvállalt kölcsön és annak tőketartozása | C21: 12 | D21: 0 | E21: 0 | F21: 0 | G21: 0 | H21: 0
B22: Hitelviszonyt megtestesítő értékpapír | C22: 13 | D22: 0 | E22: 0 | F22: 0 | G22: 0 | H22: 0
B23: Adott váltó | C23: 14 | D23: 0 | E23: 0 | F23: 0 | G23: 0 | H23: 0
B24: Pénzügyi lízing | C24: 15 | D24: 0 | E24: 0 | F24: 0 | G24: 0 | H24: 0
B25: Halasztott fizetés | C25: 16 | D25: 0 | E25: 0 | F25: 0 | G25: 0 | H25: 0
B26: Kezességvállalásból eredő fizetési kötelezettség | C26: 17 | D26: 0 | E26: 0 | F26: 0 | G26: 0 | H26: 0
B27: Tárgyévben keletkezett, illetve keletkező, tárgyévet terhelő fizetési kötelezettség (19+…..+25) | C27: 18 | D27: 0 | E27: 0 | F27: 0 | G27: 0 | H27: 0
B28: Felvett, átvállalt hitel és annak tőketartozása | C28: 19 | D28: 0 | E28: 0 | F28: 0 | G28: 0 | H28: 0
B29: Felvett, átvállalt kölcsön és annak tőketartozása | C29: 20 | D29: 0 | E29: 0 | F29: 0 | G29: 0 | H29: 0
B30: Hitelviszonyt megtestesítő értékpapír | C30: 21 | D30: 0 | E30: 0 | F30: 0 | G30: 0 | H30: 0
... B35: Fizetési kötelezettség összesen (10+18) | C35: 26 | D35: 0 | E35: 0 | F35: 0 | G35: 0 | H35: 0
B36: Fizetési kötelezettséggel csökkentett saját bevétel (09-26) | C36: 27 | D36: =D18 -> 30850000 | E36: =E18 -> 30850000 | F36: =F18 -> 18400000 | G36: =G18 -> 18550000 | H36: =H18 -> 18650000

Sheet 35. Kötelezettségek
A1: 2/2021.(V.31.) rendelet 35.melléklete
A3: Dánszentmiklós Község Önkormányzatának több éves kihatással járó kötelezettségei
A5: Sorszám | B5: Kötelezettség jogcíme | C5: Kötelezettség vállalás éve | K5: Lejárat éve | L5: Összesen
D6: 2017 | E6: 2018 | F6: 2019 | G6: 2020 | H6: 2021 | I6: 2022 | J6: 2023
B7: MŰKÖDÉSI CÉLÚ KÖTELEZETTSÉGEK ÖSSZESEN | C7: =SUM(C5:C5) -> 0 | D7: =SUM(D5:D5) -> 0 | E7: =SUM(E5:E5) -> 0 | F7: =SUM(F5:F5) -> 0 | K7: 0 | L7: =SUM(L5:L5) -> 0
A8: 1 | C8: 0 | E8: 0 | F8: 0 | K8: 0
B9: ELMIB részvény | D9: 2751180 | E9: 2833440 | F9: 2919096 | G9: 3006684 | H9: 3096732 | I9: 3189636 | J9: 2697630 | K9: 2023 | L9: =SUM(D9:J9) -> 20494398
B10: FELHALMOZÁSI CÉLÚ KÖTELEZETTSÉGEK ÖSSZESEN | C10: =SUM(C8) -> 0 | D10: =SUM(D9) -> 2751180 | E10: =SUM(E9) -> 2833440 | F10: =SUM(F9) -> 2919096 | G10: =SUM(G9) -> 3006684 | H10: =SUM(H9) -> 3096732 | I10: =SUM(I9) -> 3189636 | J10: =SUM(J9) -> 2697630 | K10: 0 | L10: =SUM(L9) -> 20494398
B11: MINDÖSSZESEN: | C11: 0 | D11: =SUM(D10) -> 2751180 | E11: =SUM(E10) -> 2833440 | F11: =SUM(F10) -> 2919096 | G11: =SUM(G10) -> 3006684 | H11: =SUM(H10) -> 3096732 | I11: =SUM(I10) -> 3189636 | J11: =SUM(J10) -> 2697630 | K11: =SUM(K10) -> 0 | L11: =SUM(L10) -> 20494398
